Workbook
Name _: [1]예가표!#REF!
Name __: [1]예가표!#REF!
Name __?Crite: #REF!
Name __?Crite_1: #REF!
Name __?Crite_2: #REF!
Name __?Criteria: #REF!
Name __?Criteria_1: #REF!
Name __?Criteria_2: #REF!
Name ___: [1]예가표!#REF!
Name ____________sh2: [2]SG!$A$1:$G$961
Name ___________PB1: #REF!
Name ___________sh2: [2]SG!$A$1:$G$961
Name __________DOG1: #REF!
Name __________DOG2: #REF!
Name __________DOG22: #REF!
Name __________DOG3: #REF!
Name __________DOG33: #REF!
Name __________DOG4: #REF!
Name __________PB1: #REF!
Name __________PI48: #REF!
Name __________PI60: #REF!
Name __________RO110: #REF!
Name __________RO22: #REF!
Name __________RO35: #REF!
Name __________RO45: #REF!
Name __________RO60: #REF!
Name __________RO80: #REF!
Name __________sh2: [2]SG!$A$1:$G$961
Name __________TON1: #REF!
Name __________TON2: #REF!
Name __________WW2: #REF!
Name __________WW3: #REF!
Name __________WW6: #REF!
Name __________WW7: #REF!
Name __________WW8: #REF!
Name _________a100000: #REF!
Name _________DOG1: #REF!
Name _________DOG2: #REF!
Name _________DOG22: #REF!
Name _________DOG3: #REF!
Name _________DOG33: #REF!
Name _________DOG4: #REF!
Name _________IL1: #REF!
Name _________PB1: #REF!
Name _________PB2: #REF!
Name _________PB3: #REF!
Name _________PI48: #REF!
Name _________PI60: #REF!
Name _________RO110: #REF!
Name _________RO22: #REF!
Name _________RO35: #REF!
Name _________RO45: #REF!
Name _________RO60: #REF!
Name _________RO80: #REF!
Name _________sh2: [2]SG!$A$1:$G$961
Name _________TON1: #REF!
Name _________TON2: #REF!
Name _________UH1: #REF!
Name _________WW2: #REF!
Name _________WW3: #REF!

Sheet 설계서표지
A2: 2025년도
A5: 2025년 동안구 어린이공원 전기시설물 연간관리공사
A10: 하천녹지사업소
A11: (공원관리과)

Sheet 원가계산서
A1: 공 사 원 가 계 산 서
A2: 공 사 명 : 2026년 동안구 어린이공원 전기시설물 연간관리공사
A3: 비 목 | C3: 구 분 | E3: 경 비 | F3: 구성비 | G3: 비 고
A4: 순 공 사 비 | B4: 재 료 비 | C4: A1 | D4: 직접재료비 | E4: =내역서!H5 -> 13380858
C5: A2 | D5: 간접재료비
C6: A | D6: 소 계 | E6: =SUM(E4:E5) -> 13380858 | F6: =E6/E26 -> 0.23393108 | G6: (A1+A2)
B7: 노 무 비 | C7: B1 | D7: 직접노무비 | E7: =내역서!J5 -> 20461126
C8: B2 | D8: 간접노무비 | E8: =ROUNDDOWN(E7*16.7%,0) -> 3417008 | G8: (B1)*16.7%
C9: B | D9: 소 계 | E9: =SUM(E7:E8) -> 23878134 | F9: =E9/E26 -> 0.4174499 | G9: (B1+B2)
B10: 경 비 | C10: C1 | D10: 기계경비 | E10: =내역서!L5 -> 722488
C11: C2 | D11: 산재보험료 | E11: =ROUNDDOWN(E9*3.56%,0) -> 850061 | G11: (B)*3.56% | J11: 모든 면허공사
C12: C3 | D12: 고용보험료 | E12: =ROUNDDOWN(E9*1.01%,0) -> 241169 | G12: (B)*1.01% | J12: 4천만원이상공사
C13: C4 | D13: 건강보험료 | E13: =ROUNDDOWN(E7*3.545%,0) -> 725346 | G13: (B1)*3.545% | J13: 1개월이상공사
C14: C5 | D14: 노인장기요양보험료 | E14: =ROUNDDOWN(E13*12.95%,0) -> 93932 | G14: (C4)*12.95% | J14: 1개월이상공사
C15: C6 | D15: 연금보험료 | E15: =ROUNDDOWN(E7*4.5%,0) -> 920750 | G15: (B1)*4.5% | J15: 1개월이상공사
C16: C7 | D16: 산업안전보건관리비 | E16: =ROUNDDOWN((E6+E7)*2.07%,0) -> 700529 | G16: (A+B1)*2.07% | J16: 4천만원이상공사
C17: C8 | D17: 기타경비 | E17: =ROUNDDOWN((E6+E9)*5.3%,0) -> 1974726 | G17: (A+B)*5.3%
C18: C | D18: 소 계 | E18: =SUM(E10:E17) -> 6229001 | F18: =E18/E26 -> 0.10889862 | G18: (C1+C2+C3+C4+C5+C6+C7)
A19: D. 합 계 | E19: =INT(E6+E9+E18) -> 43487993 | G19: (A+B+C)
A20: E. 일반관리비 | E20: =INT((E6+E9+E18)*8%) -> 3479039 | F20: =E20/E26 -> 0.06082236 | G20: (A+B+C)*8.0% | J20: =E9+E18+E20 -> 33586174
A21: F. 소 계 | E21: =SUM(E19:E20) -> 46967032 | G21: (D+E) | J21: =ROUNDDOWN(J20*15%,0) -> 5037926 | K21: =D32 -> 0
A22: G. 이 윤 | E22: =TRUNC((E9+E18+E20)*15%)-4958 -> 5032968 | F22: =E22/E26 -> 0.087988951 | G22: (B+C+E)*15%이내 | J22: 0.15 | K22: x
A23: H. 공 급 가 액 | E23: =E21+E22 -> 52000000 | F23: =E23/E26 -> 0.90909091 | G23: (F+G)
A24: I. 부가가치세 | E24: =INT(E23*0.1) -> 5200000 | F24: =E24/E26 -> 0.090909091 | G24: (H)*10% | J24: 0.09024337
A25: J. 도 급 액 | E25: =E23+E24 -> 57200000 | F25: =E25/E26 -> 1 | G25: (H+I)
A26: 총 계 | E26: =SUM(E25:E25) -> 57200000 | F26: 1 | G26: (J+K)
J31: 43000000
J33: =J31*87.745% -> 37730350
J35: 60000000
J36: =J35-J33 -> 22269650

Sheet 내역서
A1: 예 산 내 역 서
A3: 공 종 | B3: 규 격 | C3: 수 량 | D3: 단위 | E3: 합 계 | G3: 재 료 비 | I3: 노 무 비 | K3: 경 비 | M3: 비 고
E4: 단 가 | F4: 금 액 | G4: 단 가 | H4: 금 액 | I4: 단 가 | J4: 금 액 | K4: 단 가 | L4: 금 액
A5: *.순 공 사 비 | C5: 0 | E5: =G5+I5+K5 -> 0 | F5: =H5+J5+L5 -> 34564472 | G5: 0 | H5: =H7+H13+H28+H51 -> 13380858 | I5: =I7+I13+I28+I51 -> 0 | J5: =J7+J13+J28+J51 -> 20461126 | K5: =K7+K13+K28+K51 -> 0 | L5: =L7+L13+L28+L51 -> 722488
C6: 0 | E6: 0 | F6: 0 | G6: 0 | I6: 0 | J6: 0 | K6: 0 | L6: 0
A7: 1. 토 공 | C7: =SUM(C8:C11) -> 0 | E7: =G7+I7+K7 -> 0 | F7: =H7+J7+L7 -> 0 | G7: 0 | H7: =SUM(H8:H11) -> 0 | I7: 0 | J7: =SUM(J8:J11) -> 0 | K7: 0 | L7: =SUM(L8:L11) -> 0
N8: =SUM(C9:C11) -> 0
A9: 비포장구간 | B9: (인10:기90) | D9: M | E9: =G9+I9+K9 -> 13140 | F9: =H9+J9+L9 -> 0 | G9: =일위대가_목록!F5 -> 381 | H9: =TRUNC(C9*G9,0) -> 0 | I9: =일위대가_목록!H5 -> 12438 | J9: =TRUNC(C9*I9,0) -> 0 | K9: =일위대가_목록!J5 -> 321 | L9: =TRUNC(C9*K9,0) -> 0 | M9: 제 1호표
A10: 보도구간 | B10: (인10:기90) | D10: M | E10: =G10+I10+K10 -> 62384 | F10: =H10+J10+L10 -> 0 | G10: =일위대가_목록!F6 -> 8203 | H10: =TRUNC(C10*G10,0) -> 0 | I10: =일위대가_목록!H6 -> 52135 | J10: =TRUNC(C10*I10,0) -> 0 | K10: =일위대가_목록!J6 -> 2046 | L10: =TRUNC(C10*K10,0) -> 0 | M10: 제 2호표
A11: 콘크리트구간 | B11: (인10:기90) | D11: M | E11: =G11+I11+K11 -> 134292 | F11: =H11+J11+L11 -> 0 | G11: =일위대가_목록!F7 -> 25439 | H11: =TRUNC(C11*G11,0) -> 0 | I11: =일위대가_목록!H7 -> 104457 | J11: =TRUNC(C11*I11,0) -> 0 | K11: =일위대가_목록!J7 -> 4396 | L11: =TRUNC(C11*K11,0) -> 0 | M11: 제 3호표
A13: 2. 전 력 설 비 공 사 | C13: =SUM(C15:C27) -> 330 | E13: =G13+I13+K13 -> 0 | F13: =H13+J13+L13 -> 3287390 | G13: 0 | H13: =SUM(H14:H27) -> 643220 | I13: 0 | J13: =SUM(J15:J27) -> 2644170 | K13: 0 | L13: =SUM(L15:L27) -> 0
A15: =일위대가_목록!A8 -> 케이블 신설 | B15: =일위대가_목록!B8 -> 600V F-CV 2C 2.5㎟ | C15: 25 | D15: M | E15: =G15+I15+K15 -> 6301 | F15: =H15+J15+L15 -> 157525 | G15: =일위대가_목록!F8 -> 1697 | H15: =TRUNC(C15*G15,0) -> 42425 | I15: =일위대가_목록!H8 -> 4604 | J15: =TRUNC(C15*I15,0) -> 115100 | K15: =일위대가_목록!J8 -> 0 | L15: =TRUNC(C15*K15,0) -> 0 | M15: =일위대가_목록!K8 -> 제 4호표 | N15: =SUM(C15:C27) -> 330
A16: =일위대가_목록!A9 -> 케이블 교체 | B16: =일위대가_목록!B9 -> 600V F-CV 2C 2.5㎟ | C16: 50 | D16: M | E16: =G16+I16+K16 -> 8603 | F16: =H16+J16+L16 -> 430150 | G16: =일위대가_목록!F9 -> 1697 | H16: =TRUNC(C16*G16,0) -> 84850 | I16: =일위대가_목록!H9 -> 6906 | J16: =TRUNC(C16*I16,0) -> 345300 | K16: =일위대가_목록!J9 -> 0 | L16: =TRUNC(C16*K16,0) -> 0 | M16: =일위대가_목록!K9 -> 제 5호표
A17: =일위대가_목록!A10 -> 케이블 신설 | B17: =일위대가_목록!B10 -> 600V F-CV 2C 4㎟ | C17: 25 | D17: M | E17: =G17+I17+K17 -> 6909 | F17: =H17+J17+L17 -> 172725 | G17: =일위대가_목록!F10 -> 2305 | H17: =TRUNC(C17*G17,0) -> 57625 | I17: =일위대가_목록!H10 -> 4604 | J17: =TRUNC(C17*I17,0) -> 115100 | K17: =일위대가_목록!J10 -> 0 | L17: =TRUNC(C17*K17,0) -> 0 | M17: =일위대가_목록!K10 -> 제 6호표
A18: =일위대가_목록!A11 -> 케이블 교체 | B18: =일위대가_목록!B11 -> 600V F-CV 2C 4㎟ | C18: 10 | D18: M | E18: =G18+I18+K18 -> 9211 | F18: =H18+J18+L18 -> 92110 | G18: =일위대가_목록!F11 -> 2305 | H18: =TRUNC(C18*G18,0) -> 23050 | I18: =일위대가_목록!H11 -> 6906 | J18: =TRUNC(C18*I18,0) -> 69060 | K18: =일위대가_목록!J11 -> 0 | L18: =TRUNC(C18*K18,0) -> 0 | M18: =일위대가_목록!K11 -> 제 7호표
A19: =일위대가_목록!A12 -> 케이블 신설 | B19: =일위대가_목록!B12 -> 600V F-CV 2C 6㎟ | C19: 0 | D19: M | E19: =G19+I19+K19 -> 7705 | F19: =H19+J19+L19 -> 0 | G19: =일위대가_목록!F12 -> 3101 | H19: =TRUNC(C19*G19,0) -> 0 | I19: =일위대가_목록!H12 -> 4604 | J19: =TRUNC(C19*I19,0) -> 0 | K19: =일위대가_목록!J12 -> 0 | L19: =TRUNC(C19*K19,0) -> 0 | M19: =일위대가_목록!K12 -> 제 8호표
A20: =일위대가_목록!A13 -> 케이블 교체 | B20: =일위대가_목록!B13 -> 600V F-CV 2C 6㎟ | C20: 0 | D20: M | E20: =G20+I20+K20 -> 10007 | F20: =H20+J20+L20 -> 0 | G20: =일위대가_목록!F13 -> 3101 | H20: =TRUNC(C20*G20,0) -> 0 | I20: =일위대가_목록!H13 -> 6906 | J20: =TRUNC(C20*I20,0) -> 0 | K20: =일위대가_목록!J13 -> 0 | L20: =TRUNC(C20*K20,0) -> 0 | M20: =일위대가_목록!K13 -> 제 9호표
A21: =일위대가_목록!A14 -> 케이블 신설 | B21: =일위대가_목록!B14 -> 600V F-CV 3C 4㎟ | C21: 50 | D21: M | E21: =G21+I21+K21 -> 10464 | F21: =H21+J21+L21 -> 523200 | G21: =일위대가_목록!F14 -> 3886 | H21: =TRUNC(C21*G21,0) -> 194300 | I21: =일위대가_목록!H14 -> 6578 | J21: =TRUNC(C21*I21,0) -> 328900 | K21: =일위대가_목록!J14 -> 0 | L21: =TRUNC(C21*K21,0) -> 0 | M21: =일위대가_목록!K14 -> 제 10호표
A22: =일위대가_목록!A15 -> 케이블 교체 | B22: =일위대가_목록!B15 -> 600V F-CV 3C 4㎟ | C22: 50 | D22: M | E22: =G22+I22+K22 -> 13753 | F22: =H22+J22+L22 -> 687650 | G22: =일위대가_목록!F15 -> 3886 | H22: =TRUNC(C22*G22,0) -> 194300 | I22: =일위대가_목록!H15 -> 9867 | J22: =TRUNC(C22*I22,0) -> 493350 | K22: =일위대가_목록!J15 -> 0 | L22: =TRUNC(C22*K22,0) -> 0 | M22: =일위대가_목록!K15 -> 제 11호표
A23: =일위대가_목록!A16 -> ELP 전선관 설치 | B23: =일위대가_목록!B16 -> ELP 30mm | C23: 75 | D23: M | E23: =G23+I23+K23 -> 7669 | F23: =H23+J23+L23 -> 575175 | G23: =일위대가_목록!F16 -> 360 | H23: =TRUNC(C23*G23,0) -> 27000 | I23: =일위대가_목록!H16 -> 7309 | J23: =TRUNC(C23*I23,0) -> 548175 | K23: =일위대가_목록!J16 -> 0 | L23: =TRUNC(C23*K23,0) -> 0 | M23: =일위대가_목록!K16 -> 제 12호표
A24: =일위대가_목록!A17 -> ELP 전선관 설치 | B24: =일위대가_목록!B17 -> ELP 40mm | C24: 0 | D24: M | E24: =G24+I24+K24 -> 9505 | F24: =H24+J24+L24 -> 0 | G24: =일위대가_목록!F17 -> 550 | H24: =TRUNC(C24*G24,0) -> 0 | I24: =일위대가_목록!H17 -> 8955 | J24: =TRUNC(C24*I24,0) -> 0 | K24: =일위대가_목록!J17 -> 0 | L24: =TRUNC(C24*K24,0) -> 0 | M24: =일위대가_목록!K17 -> 제 13호표
A25: =일위대가_목록!A18 -> 배관용 홈파기 | B25: =일위대가_목록!B18 -> 22mm이하 | C25: 10 | D25: M | E25: =G25+I25+K25 -> 16419 | F25: =H25+J25+L25 -> 164190 | G25: =일위대가_목록!F18 -> 0 | H25: =TRUNC(C25*G25,0) -> 0 | I25: =일위대가_목록!H18 -> 16419 | J25: =TRUNC(C25*I25,0) -> 164190 | K25: =일위대가_목록!J18 -> 0 | L25: =TRUNC(C25*K25,0) -> 0 | M25: =일위대가_목록!K18 -> 제 14호표
A26: =일위대가_목록!A19 -> 금속가요전선관 | B26: =일위대가_목록!B19 -> 16mm비방수 | C26: 25 | D26: M | E26: =G26+I26+K26 -> 12579 | F26: =H26+J26+L26 -> 314475 | G26: =일위대가_목록!F19 -> 544 | H26: =TRUNC(C26*G26,0) -> 13600 | I26: =일위대가_목록!H19 -> 12035 | J26: =TRUNC(C26*I26,0) -> 300875 | K26: =일위대가_목록!J19 -> 0 | L26: =TRUNC(C26*K26,0) -> 0 | M26: =일위대가_목록!K19 -> 제 15호표
A27: =일위대가_목록!A20 -> 경질비닐PVC전선관 | B27: =일위대가_목록!B20 -> HI 22mm | C27: 10 | D27: M | E27: =G27+I27+K27 -> 17019 | F27: =H27+J27+L27 -> 170190 | G27: =일위대가_목록!F20 -> 607 | H27: =TRUNC(C27*G27,0) -> 6070 | I27: =일위대가_목록!H20 -> 16412 | J27: =TRUNC(C27*I27,0) -> 164120 | K27: =일위대가_목록!J20 -> 0 | L27: =TRUNC(C27*K27,0) -> 0 | M27: =일위대가_목록!K20 -> 제 16호표
A28: 3. 조 명 설 비 공 사 | C28: =SUM(C30:C48) -> 126 | D28: =SUM(D29:D48) -> 0 | F28: =SUM(F29:F48) -> 24440958 | H28: =SUM(H29:H48) -> 11439338 | J28: =SUM(J29:J48) -> 12430232 | L28: =SUM(L29:L48) -> 571388 | M28: =SUM(M29:M48) -> 0
A30: =일위대가_목록!A21 -> 공원등주 인력시공 | B30: =일위대가_목록!B21 -> 자재지급 | C30: 10 | D30: 본 | E30: =G30+I30+K30 -> 574431 | F30: =H30+J30+L30 -> 5744310 | G30: =일위대가_목록!F21 -> 0 | H30: =TRUNC(C30*G30,0) -> 0 | I30: =일위대가_목록!H21 -> 574431 | J30: =TRUNC(C30*I30,0) -> 5744310 | K30: =일위대가_목록!J21 -> 0 | L30: =TRUNC(C30*K30,0) -> 0 | M30: =일위대가_목록!K21 -> 제 17호표 | N30: =SUM(C30:C50) -> 126
A31: =일위대가_목록!A22 -> 공원등주 인력시공 | B31: =일위대가_목록!B22 -> 자재포함 | C31: 0 | D31: 본 | E31: =G31+I31+K31 -> 1124431 | F31: =H31+J31+L31 -> 0 | G31: =일위대가_목록!F22 -> 550000 | H31: =TRUNC(C31*G31,0) -> 0 | I31: =일위대가_목록!H22 -> 574431 | J31: =TRUNC(C31*I31,0) -> 0 | K31: =일위대가_목록!J22 -> 0 | L31: =TRUNC(C31*K31,0) -> 0 | M31: =일위대가_목록!K22 -> 제 18호표
A32: =일위대가_목록!A23 -> 공원등주 기계화시공 | B32: =일위대가_목록!B27 -> 자재지급 | C32: 0 | D32: 개 | E32: =G32+I32+K32 -> 148310 | F32: =H32+J32+L32 -> 0 | G32: =일위대가_목록!F23 -> 6607 | H32: =TRUNC(C32*G32,0) -> 0 | I32: =일위대가_목록!H23 -> 116077 | J32: =TRUNC(C32*I32,0) -> 0 | K32: =일위대가_목록!J23 -> 25626 | L32: =TRUNC(C32*K32,0) -> 0 | M32: =일위대가_목록!K23 -> 제 19호표
A33: =일위대가_목록!A24 -> 공원등주 기계화시공 | B33: =일위대가_목록!B28 -> 자재포함 | C33: 0 | D33: 개 | E33: =G33+I33+K33 -> 698310 | F33: =H33+J33+L33 -> 0 | G33: =일위대가_목록!F24 -> 556607 | H33: =TRUNC(C33*G33,0) -> 0 | I33: =일위대가_목록!H24 -> 116077 | J33: =TRUNC(C33*I33,0) -> 0 | K33: =일위대가_목록!J24 -> 25626 | L33: =TRUNC(C33*K33,0) -> 0 | M33: =일위대가_목록!K24 -> 제 20호표
A34: LED투광등기구 교체 | B34: 70W | C34: 5 | D34: 개 | E34: =G34+I34+K34 -> 414636 | F34: =H34+J34+L34 -> 2073180 | G34: =일위대가_목록!F87 -> 306006 | H34: =TRUNC(C34*G34,0) -> 1530030 | I34: =일위대가_목록!H87 -> 85333 | J34: =TRUNC(C34*I34,0) -> 426665 | K34: =일위대가_목록!J87 -> 23297 | L34: =TRUNC(C34*K34,0) -> 116485 | M34: 제 83호표
A35: LED투광등기구 교체 | B35: 150W | C35: 0 | D35: 개 | E35: =G35+I35+K35 -> 534636 | F35: =H35+J35+L35 -> 0 | G35: =일위대가_목록!F88 -> 426006 | H35: =TRUNC(C35*G35,0) -> 0 | I35: =일위대가_목록!H88 -> 85333 | J35: =TRUNC(C35*I35,0) -> 0 | K35: =일위대가_목록!J88 -> 23297 | L35: =TRUNC(C35*K35,0) -> 0 | M35: 제 84호표
A36: LED다운라이트 설치 | B36: 20W이하 | C36: 75 | D36: 개 | E36: =G36+I36+K36 -> 83784 | F36: =H36+J36+L36 -> 6283800 | G36: =일위대가_목록!F89 -> 34000 | H36: =TRUNC(C36*G36,0) -> 2550000 | I36: =일위대가_목록!H89 -> 49784 | J36: =TRUNC(C36*I36,0) -> 3733800 | K36: =일위대가_목록!J89 -> 0 | L36: =TRUNC(C36*K36,0) -> 0 | M36: 제 85호표
A37: 매입등기구 신설 | B37: 매입형 55W | C37: 0 | D37: 개 | E37: =G37+I37+K37 -> 100196 | F37: =H37+J37+L37 -> 0 | G37: =일위대가_목록!F90 -> 34000 | H37: =TRUNC(C37*G37,0) -> 0 | I37: =일위대가_목록!H90 -> 66196 | J37: =TRUNC(C37*I37,0) -> 0 | K37: =일위대가_목록!J90 -> 0 | L37: =TRUNC(C37*K37,0) -> 0 | M37: 제 86호표
A38: =일위대가_목록!A25 -> LED공원등 신설 | B38: =일위대가_목록!B25 -> 자재지급 | C38: 10 | D38: 개 | E38: =G38+I38+K38 -> 88165 | F38: =H38+J38+L38 -> 881650 | G38: =일위대가_목록!F25 -> 3964 | H38: =TRUNC(C38*G38,0) -> 39640 | I38: =일위대가_목록!H25 -> 68825 | J38: =TRUNC(C38*I38,0) -> 688250 | K38: =일위대가_목록!J25 -> 15376 | L38: =TRUNC(C38*K38,0) -> 153760 | M38: =일위대가_목록!K25 -> 제 21호표
A39: =일위대가_목록!A26 -> LED공원등 신설 | B39: =일위대가_목록!B26 -> 자재포함 | C39: 2 | D39: 개 | E39: =G39+I39+K39 -> 478165 | F39: =H39+J39+L39 -> 956330 | G39: =일위대가_목록!F26 -> 393964 | H39: =TRUNC(C39*G39,0) -> 787928 | I39: =일위대가_목록!H26 -> 68825 | J39: =TRUNC(C39*I39,0) -> 137650 | K39: =일위대가_목록!J26 -> 15376 | L39: =TRUNC(C39*K39,0) -> 30752 | M39: =일위대가_목록!K26 -> 제 22호표
A40: =일위대가_목록!A27 -> LED램프 교체 | B40: =일위대가_목록!B27 -> 자재지급 | C40: 0 | D40: 개 | E40: =G40+I40+K40 -> 43113 | F40: =H40+J40+L40 -> 0 | G40: =일위대가_목록!F27 -> 3964 | H40: =TRUNC(C40*G40,0) -> 0 | I40: =일위대가_목록!H27 -> 23773 | J40: =TRUNC(C40*I40,0) -> 0 | K40: =일위대가_목록!J27 -> 15376 | L40: =TRUNC(C40*K40,0) -> 0 | M40: =일위대가_목록!K27 -> 제 23호표
A41: =일위대가_목록!A28 -> LED램프 교체 | B41: =일위대가_목록!B28 -> 자재포함 | C41: 15 | D41: 개 | E41: =G41+I41+K41 -> 107113 | F41: =H41+J41+L41 -> 1606695 | G41: =일위대가_목록!F28 -> 67964 | H41: =TRUNC(C41*G41,0) -> 1019460 | I41: =일위대가_목록!H28 -> 23773 | J41: =TRUNC(C41*I41,0) -> 356595 | K41: =일위대가_목록!J28 -> 15376 | L41: =TRUNC(C41*K41,0) -> 230640 | M41: =일위대가_목록!K28 -> 제 24호표
A42: =일위대가_목록!A29 -> LED 옥외시계설치 | B42: =일위대가_목록!B29 -> 24OR(GPS) | C42: 4 | D42: 개 | E42: =G42+I42+K42 -> 1666762 | F42: =H42+J42+L42 -> 6667048 | G42: =일위대가_목록!F29 -> 1354540 | H42: =TRUNC(C42*G42,0) -> 5418160 | I42: =일위대가_목록!H29 -> 306543 | J42: =TRUNC(C42*I42,0) -> 1226172 | K42: =일위대가_목록!J29 -> 5679 | L42: =TRUNC(C42*K42,0) -> 22716 | M42: =일위대가_목록!K29 -> 제 25호표
A43: =일위대가_목록!A30 -> PC글러브 교체 | B43: =일위대가_목록!B30 -> 16인치 상부증착 | C43: 5 | D43: 개 | E43: =G43+I43+K43 -> 45589 | F43: =H43+J43+L43 -> 227945 | G43: =일위대가_목록!F30 -> 18824 | H43: =TRUNC(C43*G43,0) -> 94120 | I43: =일위대가_목록!H30 -> 23358 | J43: =TRUNC(C43*I43,0) -> 116790 | K43: =일위대가_목록!J30 -> 3407 | L43: =TRUNC(C43*K43,0) -> 17035 | M43: =일위대가_목록!K30 -> 제 26호표
A44: =일위대가_목록!A31 -> PC글러브 교체 | B44: =일위대가_목록!B31 -> 자재지급 | C44: 0 | D44: 개 | E44: =G44+I44+K44 -> 29489 | F44: =H44+J44+L44 -> 0 | G44: =일위대가_목록!F31 -> 2724 | H44: =TRUNC(C44*G44,0) -> 0 | I44: =일위대가_목록!H31 -> 23358 | J44: =TRUNC(C44*I44,0) -> 0 | K44: =일위대가_목록!J31 -> 3407 | L44: =TRUNC(C44*K44,0) -> 0 | M44: =일위대가_목록!K31 -> 제 27호표
...

Sheet 일위대가_목록
A1: 일 위 대 가 목 록 표
A3: 공 종 | B3: 규 격 | C3: 수량 | D3: 단위 | E3: 합 계 | F3: 재 료 비 | H3: 노 무 비 | J3: 경 비 | K3: 비 고
A5: 비포장구간(인10:기90) | B5: (인10:기90) | C5: 1 | D5: M | E5: =F5+H5+J5 -> 13140 | F5: =일위대가!H10 -> 381 | G5: =일위대가!I10 -> 0 | H5: =일위대가!J10 -> 12438 | I5: =일위대가!K10 -> 0 | J5: =일위대가!L10 -> 321 | K5: 제 1호표
A6: 보도구간(인10:기90) | B6: (인10:기90) | C6: 1 | D6: M | E6: =F6+H6+J6 -> 62384 | F6: =일위대가!H21 -> 8203 | G6: =일위대가!I21 -> 0 | H6: =일위대가!J21 -> 52135 | I6: =일위대가!K21 -> 0 | J6: =일위대가!L21 -> 2046 | K6: 제 2호표
A7: 콘크리트구간(인10:기90) | B7: (인10:기90) | C7: 1 | D7: M | E7: =F7+H7+J7 -> 134292 | F7: =일위대가!H33 -> 25439 | G7: =일위대가!I33 -> 0 | H7: =일위대가!J33 -> 104457 | I7: =일위대가!K33 -> 0 | J7: =일위대가!L33 -> 4396 | K7: 제 3호표
A8: 케이블 신설 | B8: 600V F-CV 2C 2.5㎟ | C8: 1 | D8: M | E8: =F8+H8+J8 -> 6301 | F8: =일위대가!H39 -> 1697 | G8: =일위대가!I39 -> 0 | H8: =일위대가!J39 -> 4604 | I8: =일위대가!K39 -> 0 | J8: =일위대가!L39 -> 0 | K8: 제 4호표
A9: 케이블 교체 | B9: 600V F-CV 2C 2.5㎟ | C9: 1 | D9: M | E9: =F9+H9+J9 -> 8603 | F9: =일위대가!H43 -> 1697 | G9: =일위대가!I43 -> 0 | H9: =일위대가!J43 -> 6906 | I9: =일위대가!K43 -> 0 | J9: =일위대가!L43 -> 0 | K9: 제 5호표
A10: 케이블 신설 | B10: 600V F-CV 2C 4㎟ | C10: 1 | D10: M | E10: =F10+H10+J10 -> 6909 | F10: =일위대가!H48 -> 2305 | G10: =일위대가!I48 -> 0 | H10: =일위대가!J48 -> 4604 | I10: =일위대가!K48 -> 0 | J10: =일위대가!L48 -> 0 | K10: 제 6호표
A11: 케이블 교체 | B11: 600V F-CV 2C 4㎟ | C11: 1 | D11: M | E11: =F11+H11+J11 -> 9211 | F11: =일위대가!H52 -> 2305 | G11: =일위대가!I52 -> 0 | H11: =일위대가!J52 -> 6906 | I11: =일위대가!K52 -> 0 | J11: =일위대가!L52 -> 0 | K11: 제 7호표
A12: 케이블 신설 | B12: 600V F-CV 2C 6㎟ | C12: 1 | D12: M | E12: =F12+H12+J12 -> 7705 | F12: =일위대가!H57 -> 3101 | G12: =일위대가!I57 -> 0 | H12: =일위대가!J57 -> 4604 | I12: =일위대가!K57 -> 0 | J12: =일위대가!L57 -> 0 | K12: 제 8호표
A13: 케이블 교체 | B13: 600V F-CV 2C 6㎟ | C13: 1 | D13: M | E13: =F13+H13+J13 -> 10007 | F13: =일위대가!H61 -> 3101 | G13: =일위대가!I61 -> 0 | H13: =일위대가!J61 -> 6906 | I13: =일위대가!K61 -> 0 | J13: =일위대가!L61 -> 0 | K13: 제 9호표
A14: 케이블 신설 | B14: 600V F-CV 3C 4㎟ | C14: 1 | D14: M | E14: =F14+H14+J14 -> 10464 | F14: =일위대가!H66 -> 3886 | G14: =일위대가!#REF! -> #REF! | H14: =일위대가!J66 -> 6578 | I14: =일위대가!#REF! -> #REF! | J14: 0 | K14: 제 10호표
A15: 케이블 교체 | B15: =B14 -> 600V F-CV 3C 4㎟ | C15: 1 | D15: M | E15: =일위대가!F70 -> 13753 | F15: =일위대가!H70 -> 3886 | G15: =일위대가!#REF! -> #REF! | H15: =일위대가!J70 -> 9867 | I15: =일위대가!#REF! -> #REF! | J15: 0 | K15: 제 11호표
A16: ELP 전선관 설치 | B16: ELP 30mm | C16: 1 | D16: M | E16: =F16+H16+J16 -> 7669 | F16: =일위대가!H75 -> 360 | G16: =일위대가!I75 -> 0 | H16: =일위대가!J75 -> 7309 | I16: =일위대가!K75 -> 0 | J16: =일위대가!L75 -> 0 | K16: 제 12호표
A17: ELP 전선관 설치 | B17: ELP 40mm | C17: 1 | D17: M | E17: =F17+H17+J17 -> 9505 | F17: =일위대가!H80 -> 550 | G17: =일위대가!I80 -> 0 | H17: =일위대가!J80 -> 8955 | I17: =일위대가!K80 -> 0 | J17: =일위대가!L80 -> 0 | K17: 제 13호표
A18: 배관용 홈파기 | B18: 22mm이하 | C18: 1 | D18: M | E18: =F18+H18+J18 -> 16419 | F18: =일위대가!H83 -> 0 | G18: =일위대가!I83 -> 0 | H18: =일위대가!J83 -> 16419 | I18: =일위대가!K83 -> 0 | J18: =일위대가!L83 -> 0 | K18: 제 14호표
A19: 금속가요전선관 | B19: 16mm비방수 | C19: 1 | D19: M | E19: =F19+H19+J19 -> 12579 | F19: =일위대가!H87 -> 544 | G19: =일위대가!I87 -> 0 | H19: =일위대가!J87 -> 12035 | I19: =일위대가!K87 -> 0 | J19: =일위대가!L87 -> 0 | K19: 제 15호표
A20: 경질비닐PVC전선관 | B20: HI 22mm | C20: 1 | D20: M | E20: =F20+H20+J20 -> 17019 | F20: =일위대가!H92 -> 607 | G20: =일위대가!I92 -> 0 | H20: =일위대가!J92 -> 16412 | I20: =일위대가!K92 -> 0 | J20: =일위대가!L92 -> 0 | K20: 제 16호표
A21: 공원등주 인력시공 | B21: 자재지급 | C21: 1 | D21: 본 | E21: =F21+H21+J21 -> 574431 | F21: =일위대가!H95 -> 0 | G21: =일위대가!I95 -> 0 | H21: =일위대가!J95 -> 574431 | I21: =일위대가!K95 -> 0 | J21: =일위대가!L95 -> 0 | K21: 제 17호표
A22: 공원등주 인력시공 | B22: 자재포함 | C22: 1 | D22: 본 | E22: =F22+H22+J22 -> 1124431 | F22: =일위대가!H99 -> 550000 | G22: =일위대가!I99 -> 0 | H22: =일위대가!J99 -> 574431 | I22: =일위대가!K99 -> 0 | J22: =일위대가!L99 -> 0 | K22: 제 18호표
A23: 공원등주 기계화시공 | B23: 자재지급 | C23: 1 | D23: 개 | E23: =F23+H23+J23 -> 148310 | F23: =일위대가!H103 -> 6607 | G23: =일위대가!#REF! -> #REF! | H23: =일위대가!J103 -> 116077 | I23: =일위대가!#REF! -> #REF! | J23: =일위대가!L103 -> 25626 | K23: 제 19호표
A24: 공원등주 기계화시공 | B24: 자재포함 | C24: 1 | D24: 개 | E24: =F24+H24+J24 -> 698310 | F24: =일위대가!H108 -> 556607 | G24: =일위대가!#REF! -> #REF! | H24: =일위대가!J108 -> 116077 | I24: =일위대가!#REF! -> #REF! | J24: =일위대가!L108 -> 25626 | K24: 제 20호표
A25: LED공원등 신설 | B25: 자재지급 | C25: 1 | D25: 개 | E25: =F25+H25+J25 -> 88165 | F25: =일위대가!H112 -> 3964 | G25: =일위대가!I112 -> 0 | H25: =일위대가!J112 -> 68825 | I25: =일위대가!K112 -> 0 | J25: =일위대가!L112 -> 15376 | K25: 제 21호표
A26: =A25 -> LED공원등 신설 | B26: 자재포함 | C26: 1 | D26: =D25 -> 개 | E26: =일위대가!F117 -> 478165 | F26: =일위대가!H117 -> 393964 | H26: =일위대가!J117 -> 68825 | J26: =일위대가!L117 -> 15376 | K26: 제 22호표
A27: LED램프 교체 | B27: 자재지급 | C27: 1 | D27: 개 | E27: =F27+H27+J27 -> 43113 | F27: =일위대가!H121 -> 3964 | G27: =일위대가!I121 -> 0 | H27: =일위대가!J121 -> 23773 | I27: =일위대가!K121 -> 0 | J27: =일위대가!L121 -> 15376 | K27: 제 23호표
A28: =A27 -> LED램프 교체 | B28: 자재포함 | C28: 1 | D28: =D27 -> 개 | E28: =일위대가!F126 -> 69005 | F28: =일위대가!H126 -> 67964 | H28: =일위대가!J126 -> 23773 | J28: =일위대가!L126 -> 15376 | K28: 제 24호표
A29: LED 옥외시계설치 | B29: 24OR(GPS) | C29: 1 | D29: 개 | E29: =F29+H29+J29 -> 1666762 | F29: =일위대가!H131 -> 1354540 | G29: =일위대가!I131 -> 0 | H29: =일위대가!J131 -> 306543 | I29: =일위대가!K131 -> 0 | J29: =일위대가!L131 -> 5679 | K29: 제 25호표
A30: PC글러브 교체 | B30: 16인치 상부증착 | C30: 1 | D30: 개 | E30: =F30+H30+J30 -> 45589 | F30: =일위대가!H136 -> 18824 | G30: =일위대가!I136 -> 0 | H30: =일위대가!J136 -> 23358 | I30: =일위대가!K136 -> 0 | J30: =일위대가!L136 -> 3407 | K30: 제 26호표
A31: PC글러브 교체 | B31: 자재지급 | C31: 1 | D31: 개 | E31: =F31+H31+J31 -> 29489 | F31: =일위대가!H140 -> 2724 | G31: =일위대가!I140 -> 0 | H31: =일위대가!J140 -> 23358 | I31: =일위대가!K140 -> 0 | J31: =일위대가!L140 -> 3407 | K31: 제 27호표
A32: CDM램프교체 | B32: 70W | C32: 1 | D32: 개 | E32: =F32+H32+J32 -> 103284 | F32: =일위대가!H145 -> 55464 | G32: =일위대가!I145 -> 0 | H32: =일위대가!J145 -> 32444 | I32: =일위대가!K145 -> 0 | J32: =일위대가!L145 -> 15376 | K32: 제 28호표
A33: CDM안정기교체 | B33: 70W | C33: 1 | D33: 개 | E33: =F33+H33+J33 -> 41030 | F33: =일위대가!H149 -> 0 | G33: =일위대가!I149 -> 0 | H33: =일위대가!J149 -> 41030 | I33: =일위대가!K149 -> 0 | J33: =일위대가!L149 -> 0 | K33: 제 29호표
A34: 공원등 기초 | B34: 0.5*0.8*H1.2 | C34: 1 | D34: 개소 | E34: =F34+H34+J34 -> 596017 | F34: =일위대가!H159 -> 99713 | G34: =일위대가!I159 -> 0 | H34: =일위대가!J159 -> 487903 | I34: =일위대가!K159 -> 0 | J34: =일위대가!L159 -> 8401 | K34: 제 30호표
A35: 제어반 기초 | B35: 0.66*0.37*H1.6 | C35: 1 | D35: 개소 | E35: =F35+H35+J35 -> 434289 | F35: =일위대가!H168 -> 92075 | G35: =일위대가!I168 -> 0 | H35: =일위대가!J168 -> 336356 | I35: =일위대가!K168 -> 0 | J35: =일위대가!L168 -> 5858 | K35: 제 31호표
A36: 배선용차단기교체 | B36: ABS 30AF 32 2P | C36: 1 | D36: 개 | E36: =F36+H36+J36 -> 84671 | F36: =일위대가!H172 -> 30100 | G36: =일위대가!I172 -> 0 | H36: =일위대가!J172 -> 54571 | I36: =일위대가!K172 -> 0 | J36: =일위대가!L172 -> 0 | K36: 제 32호표
A37: 배선용차단기교체 | B37: ABS 50AF 50b 2P | C37: 1 | D37: 개 | E37: =F37+H37+J37 -> 114776 | F37: =일위대가!H176 -> 40100 | G37: =일위대가!I176 -> 0 | H37: =일위대가!J176 -> 74676 | I37: =일위대가!K176 -> 0 | J37: =일위대가!L176 -> 0 | K37: 제 33호표
A38: 누전차단기교체 | B38: 5~30A 2P | C38: 1 | D38: 개 | E38: =F38+H38+J38 -> 69371 | F38: =일위대가!H180 -> 14800 | G38: =일위대가!I180 -> 0 | H38: =일위대가!J180 -> 54571 | I38: =일위대가!K180 -> 0 | J38: =일위대가!L180 -> 0 | K38: 제 34호표
A39: 누전차단기교체 | B39: 40~50A 2P | C39: 1 | D39: 개 | E39: =F39+H39+J39 -> 116876 | F39: =일위대가!H184 -> 42200 | G39: =일위대가!I184 -> 0 | H39: =일위대가!J184 -> 74676 | I39: =일위대가!K184 -> 0 | J39: =일위대가!L184 -> 0 | K39: 제 35호표
A40: 전자접촉기교체 | B40: 30AF이하 | C40: 1 | D40: 개 | E40: =F40+H40+J40 -> 135292 | F40: =일위대가!H188 -> 12200 | G40: =일위대가!I188 -> 0 | H40: =일위대가!J188 -> 123092 | I40: =일위대가!K188 -> 0 | J40: =일위대가!L188 -> 0 | K40: 제 36호표
A41: 스위치박스 설치 | B41: 3개용 이상 | C41: 1 | D41: 개 | E41: =F41+H41+J41 -> 68384 | F41: =일위대가!H191 -> 0 | G41: =일위대가!I191 -> 0 | H41: =일위대가!J191 -> 68384 | I41: =일위대가!K191 -> 0 | J41: =일위대가!L191 -> 0 | K41: 제 37호표
A42: 푸시버튼스위치 신설 | B42: 220V | C42: 1 | D42: 개 | E42: =F42+H42+J42 -> 20980 | F42: =일위대가!H195 -> 3200 | G42: =일위대가!I195 -> 0 | H42: =일위대가!J195 -> 17780 | I42: =일위대가!K195 -> 0 | J42: =일위대가!L195 -> 0 | K42: 제 38호표
...

Sheet 일위대가
A1: 일 위 대 가 표
A3: 공 종 | B3: 규 격 | C3: 수 량 | D3: 단위 | E3: 합 계 | G3: 재 료 비 | I3: 노 무 비 | K3: 경 비 | M3: 비 고
E4: 단 가 | F4: 금 액 | G4: 단 가 | H4: 금 액 | I4: 단 가 | J4: 금 액 | K4: 단 가 | L4: 금 액
A5: 제 1 호표 :비포장구간(인10:기90) ((인10:기90)) M 당
A6: 터파기(인10+기90) | B6: 백호우0.4, 견질토사 | C6: 0.43 | D6: ㎥ | E6: =G6+I6+K6 -> 6280 | F6: =H6+J6+L6 -> 2698 | G6: =H301 -> 325 | H6: =TRUNC(C6*G6,0) -> 139 | I6: =J301 -> 5611 | J6: =TRUNC(C6*I6,0) -> 2412 | K6: =L301 -> 344 | L6: =TRUNC(C6*K6,0) -> 147 | M6: =일위대가_목록!K69 -> 제 65호표
A7: 관부사 | B7: 백호우0.4 | C7: 0.12 | D7: ㎥ | E7: =G7+I7+K7 -> 1515 | F7: =H7+J7+L7 -> 181 | G7: =H315 -> 269 | H7: =TRUNC(C7*G7,0) -> 32 | I7: =J315 -> 962 | J7: =TRUNC(C7*I7,0) -> 115 | K7: =L315 -> 284 | L7: =TRUNC(C7*K7,0) -> 34 | M7: =일위대가_목록!K72 -> 제 68호표
A8: 되메우기(인10+기90) | B8: 백호우0.4 | C8: 0.31 | D8: ㎥ | E8: =G8+I8+K8 -> 18465 | F8: =H8+J8+L8 -> 5724 | G8: =H358 -> 242 | H8: =TRUNC(C8*G8,0) -> 75 | I8: =J358 -> 17968 | J8: =TRUNC(C8*I8,0) -> 5570 | K8: =L358 -> 255 | L8: =TRUNC(C8*K8,0) -> 79 | M8: =일위대가_목록!K82 -> 제 78호표
A9: 다짐 | B9: 램머 80㎏ | C9: 0.31 | D9: ㎥ | E9: =G9+I9+K9 -> 14641 | F9: =H9+J9+L9 -> 4537 | G9: =H371 -> 437 | H9: =TRUNC(C9*G9,0) -> 135 | I9: =J371 -> 14006 | J9: =TRUNC(C9*I9,0) -> 4341 | K9: =L371 -> 198 | L9: =TRUNC(C9*K9,0) -> 61 | M9: =일위대가_목록!K85 -> 제 81호표
A10: 계 | F10: =H10+J10+L10 -> 13140 | H10: =INT(SUM(H6:H9)) -> 381 | J10: =INT(SUM(J6:J9)) -> 12438 | L10: =INT(SUM(L6:L9)) -> 321
A11: 제 2 호표 :보도구간(인10:기90) ((인10:기90)) M 당
A12: 보도블럭해체 | B12: 고압블럭 | C12: 0.01 | D12: a | E12: =G12+I12+K12 -> 646519 | F12: =H12+J12+L12 -> 6465 | G12: 0 | H12: =TRUNC(C12*G12,0) -> 0 | I12: =J312 -> 646519 | J12: =TRUNC(C12*I12,0) -> 6465 | K12: 0 | L12: =TRUNC(C12*K12,0) -> 0 | M12: =일위대가_목록!K71 -> 제 67호표
A13: 터파기(인10+기90) | B13: 백호우0.4, 견질토사 | C13: 0.47 | D13: ㎥ | E13: =G13+I13+K13 -> 6280 | F13: =H13+J13+L13 -> 2950 | G13: =H301 -> 325 | H13: =TRUNC(C13*G13,0) -> 152 | I13: =J301 -> 5611 | J13: =TRUNC(C13*I13,0) -> 2637 | K13: =L301 -> 344 | L13: =TRUNC(C13*K13,0) -> 161 | M13: =일위대가_목록!K69 -> 제 65호표
A14: 관부사 | B14: 백호우0.4 | C14: 0.06 | D14: ㎥ | E14: =G14+I14+K14 -> 1515 | F14: =H14+J14+L14 -> 90 | G14: =H315 -> 269 | H14: =TRUNC(C14*G14,0) -> 16 | I14: =J315 -> 962 | J14: =TRUNC(C14*I14,0) -> 57 | K14: =L315 -> 284 | L14: =TRUNC(C14*K14,0) -> 17 | M14: =일위대가_목록!K72 -> 제 68호표
A15: 되메우기(인10+기90) | B15: 백호우0.4 | C15: 0.2 | D15: ㎥ | E15: =G15+I15+K15 -> 18465 | F15: =H15+J15+L15 -> 3692 | G15: =H358 -> 242 | H15: =TRUNC(C15*G15,0) -> 48 | I15: =J358 -> 17968 | J15: =TRUNC(C15*I15,0) -> 3593 | K15: =L358 -> 255 | L15: =TRUNC(C15*K15,0) -> 51 | M15: =M8 -> 제 78호표
A16: 잔토처리(기계상차) | B16: L=20km | C16: 0.22 | D16: ㎥ | E16: =G16+I16+K16 -> 59032 | F16: =H16+J16+L16 -> 12985 | G16: =H332 -> 10963 | H16: =TRUNC(C16*G16,0) -> 2411 | I16: =J332 -> 40560 | J16: =TRUNC(C16*I16,0) -> 8923 | K16: =L332 -> 7509 | L16: =TRUNC(C16*K16,0) -> 1651 | M16: =일위대가_목록!K76 -> 제 72호표
A17: 다짐 | B17: 램머 80㎏ | C17: 0.2 | D17: ㎥ | E17: =G17+I17+K17 -> 14641 | F17: =H17+J17+L17 -> 2927 | G17: =H371 -> 437 | H17: =TRUNC(C17*G17,0) -> 87 | I17: =J371 -> 14006 | J17: =TRUNC(C17*I17,0) -> 2801 | K17: =L371 -> 198 | L17: =TRUNC(C17*K17,0) -> 39 | M17: =일위대가_목록!K85 -> 제 81호표
A18: 보조기층(T=20cm)9+1 | B18: 핸드 진동(백호0.4㎥) | C18: 0.01 | D18: a | E18: =G18+I18+K18 -> 388697 | F18: =H18+J18+L18 -> 3886 | G18: =H329 -> 14429 | H18: =TRUNC(C18*G18,0) -> 144 | I18: =J329 -> 363707 | J18: =TRUNC(C18*I18,0) -> 3637 | K18: =L329 -> 10561 | L18: =TRUNC(C18*K18,0) -> 105 | M18: =일위대가_목록!K75 -> 제 71호표
A19: 보도블럭포장(고압) | B19: 소형고압 | C19: 0.01 | D19: a | E19: =G19+I19+K19 -> 2531055 | F19: =H19+J19+L19 -> 25309 | G19: =H309 -> 126578 | H19: =TRUNC(C19*G19,0) -> 1265 | I19: =J309 -> 2402259 | J19: =TRUNC(C19*I19,0) -> 24022 | K19: =L309 -> 2218 | L19: =TRUNC(C19*K19,0) -> 22 | M19: =일위대가_목록!K70 -> 제 66호표
A20: 혼합골재 | B20: Ø40mm이하, 현장도착도 | C20: 0.17 | D20: ㎥ | E20: =G20+I20+K20 -> 24000 | F20: =H20+J20+L20 -> 4080 | G20: =자재단가!I5 -> 24000 | H20: =TRUNC(C20*G20,0) -> 4080 | I20: 0 | J20: =TRUNC(C20*I20,0) -> 0 | K20: 0 | L20: =TRUNC(C20*K20,0) -> 0
A21: 계 | F21: =H21+J21+L21 -> 62384 | H21: =INT(SUM(H12:H20)) -> 8203 | J21: =INT(SUM(J12:J20)) -> 52135 | L21: =INT(SUM(L12:L20)) -> 2046
A22: 제 3 호표 :콘크리트구간(인10:기90) ((인10:기90)) M 당
A23: 콘크리트 포장절단 | C23: 3 | D23: M | E23: =G23+I23+K23 -> 5521 | F23: =H23+J23+L23 -> 16563 | G23: =H321 -> 2824 | H23: =TRUNC(C23*G23,0) -> 8472 | I23: =J321 -> 2631 | J23: =TRUNC(C23*I23,0) -> 7893 | K23: =L321 -> 66 | L23: =TRUNC(C23*K23,0) -> 198 | M23: =일위대가_목록!K73 -> 제 69호표
A24: 콘크리트 포장깨기(기계) | B24: 대형브레이카+백호우0.4㎥ | C24: 0.12 | D24: ㎥ | E24: =G24+I24+K24 -> 42943 | F24: =H24+J24+L24 -> 5152 | G24: =H324 -> 6299 | H24: =TRUNC(C24*G24,0) -> 755 | I24: =J324 -> 28501 | J24: =TRUNC(C24*I24,0) -> 3420 | K24: =L324 -> 8143 | L24: =TRUNC(C24*K24,0) -> 977 | M24: =일위대가_목록!K74 -> 제 70호표
A25: 터파기(인10+기90) | B25: 백호우0.4, 견질토사 | C25: 0.43 | D25: ㎥ | E25: =G25+I25+K25 -> 6280 | F25: =H25+J25+L25 -> 2698 | G25: =H301 -> 325 | H25: =TRUNC(C25*G25,0) -> 139 | I25: =J301 -> 5611 | J25: =TRUNC(C25*I25,0) -> 2412 | K25: =L301 -> 344 | L25: =TRUNC(C25*K25,0) -> 147 | M25: =일위대가_목록!K69 -> 제 65호표
A26: 관부사 | B26: 백호우0.4 | C26: 0.06 | D26: ㎥ | E26: =G26+I26+K26 -> 1515 | F26: =H26+J26+L26 -> 90 | G26: =H315 -> 269 | H26: =TRUNC(C26*G26,0) -> 16 | I26: =J315 -> 962 | J26: =TRUNC(C26*I26,0) -> 57 | K26: =L315 -> 284 | L26: =TRUNC(C26*K26,0) -> 17 | M26: =M7 -> 제 68호표
A27: 되메우기(인10+기90) | B27: 백호우0.4 | C27: 0.13 | D27: ㎥ | E27: =G27+I27+K27 -> 18465 | F27: =H27+J27+L27 -> 2399 | G27: =H358 -> 242 | H27: =TRUNC(C27*G27,0) -> 31 | I27: =J358 -> 17968 | J27: =TRUNC(C27*I27,0) -> 2335 | K27: =L358 -> 255 | L27: =TRUNC(C27*K27,0) -> 33 | M27: =일위대가_목록!K82 -> 제 78호표
A28: 잔토처리(인10+기90) | B28: 백호우0.7+덤프15톤 | C28: 0.3 | D28: ㎥ | E28: =G28+I28+K28 -> 59030 | F28: =H28+J28+L28 -> 17708 | G28: =H336 -> 10962 | H28: =TRUNC(C28*G28,0) -> 3288 | I28: =J336 -> 40560 | J28: =TRUNC(C28*I28,0) -> 12168 | K28: =L336 -> 7508 | L28: =TRUNC(C28*K28,0) -> 2252 | M28: =일위대가_목록!K77 -> 제 73호표
A29: 다짐 | B29: 램머 80㎏ | C29: 0.13 | D29: ㎥ | E29: =G29+I29+K29 -> 14641 | F29: =H29+J29+L29 -> 1901 | G29: =H371 -> 437 | H29: =TRUNC(C29*G29,0) -> 56 | I29: =J371 -> 14006 | J29: =TRUNC(C29*I29,0) -> 1820 | K29: =L371 -> 198 | L29: =TRUNC(C29*K29,0) -> 25 | M29: =일위대가_목록!K85 -> 제 81호표
A30: 보조기층(T=20cm)9+1 | B30: 핸드 진동(백호0.4㎥) | C30: 0.01 | D30: a | E30: =G30+I30+K30 -> 388697 | F30: =H30+J30+L30 -> 3886 | G30: =H329 -> 14429 | H30: =TRUNC(C30*G30,0) -> 144 | I30: =J329 -> 363707 | J30: =TRUNC(C30*I30,0) -> 3637 | K30: =L329 -> 10561 | L30: =TRUNC(C30*K30,0) -> 105 | M30: =M18 -> 제 71호표
A31: 쇄석콘크리트(δ=160kg/㎠) | B31: 소형 인력비빔타설 | C31: 0.12 | D31: ㎥ | E31: =G31+I31+K31 -> 651139 | F31: =H31+J31+L31 -> 78135 | G31: =H365 -> 56490 | H31: =TRUNC(C31*G31,0) -> 6778 | I31: =J365 -> 589293 | J31: =TRUNC(C31*I31,0) -> 70715 | K31: =L365 -> 5356 | L31: =TRUNC(C31*K31,0) -> 642 | M31: =일위대가_목록!K83 -> 제 79호표
A32: 혼합골재 | B32: Ø40mm이하, 현장도착도 | C32: 0.24 | D32: ㎥ | E32: =G32+I32+K32 -> 24000 | F32: =H32+J32+L32 -> 5760 | G32: =자재단가!I5 -> 24000 | H32: =TRUNC(C32*G32,0) -> 5760 | I32: 0 | J32: =TRUNC(C32*I32,0) -> 0 | K32: 0 | L32: =TRUNC(C32*K32,0) -> 0
A33: 계 | F33: =H33+J33+L33 -> 134292 | H33: =INT(SUM(H23:H32)) -> 25439 | J33: =INT(SUM(J23:J32)) -> 104457 | L33: =INT(SUM(L23:L32)) -> 4396
A34: 제 4 호표 :케이블 신설 (600V F-CV 2C 2.5㎟) M 당
A36: 저압케이블전공 | B36: 0.00462*1.4*1.5 | C36: =0.00462*1.4*1.5 -> 0.009702 | D36: 인 | E36: =G36+I36+K36 -> 303632 | F36: =H36+J36+L36 -> 2945 | G36: 0 | H36: =TRUNC(C36*G36,0) -> 0 | I36: =VLOOKUP(A36,노임단가!B$3:E$20,3,0) -> 303632 | J36: =TRUNC(C36*I36,0) -> 2945 | K36: 0 | L36: =TRUNC(C36*K36,0) -> 0 | M36: 전품 4-34
A37: 보통인부 | B37: =B36 -> 0.00462*1.4*1.5 | C37: =0.00462*1.4*1.5 -> 0.009702 | E37: =G37+I37+K37 -> 171037 | F37: =H37+J37+L37 -> 1659 | I37: =VLOOKUP(A37,노임단가!B$3:E$20,3,0) -> 171037 | J37: =TRUNC(C37*I37,0) -> 1659
A38: 절연난연케이블 | B38: 600V F-CV 2C/2.5㎟ | C38: 1 | D38: M | E38: =G38+I38+K38 -> 1697 | F38: =H38+J38+L38 -> 1697 | G38: =자재단가!I10 -> 1697 | H38: =TRUNC(C38*G38,0) -> 1697 | I38: 0 | J38: =TRUNC(C38*I38,0) -> 0 | K38: 0 | L38: =TRUNC(C38*K38,0) -> 0
A39: 계 | F39: =H39+J39+L39 -> 6301 | H39: =INT(SUM(H36:H38)) -> 1697 | J39: =INT(SUM(J36:J38)) -> 4604 | L39: =INT(SUM(L36:L38)) -> 0
A40: 제 5 호표 :케이블 교체 (600V F-CV 2C 2.5㎟) M 당
A41: 신설노무비 | B41: 1.5 | C41: 1.5 | D41: 인 | E41: =G41+I41+K41 -> 4604 | F41: =H41+J41+L41 -> 6906 | G41: 0 | H41: =TRUNC(C41*G41,0) -> 0 | I41: =J39 -> 4604 | J41: =I41*C41 -> 6906 | K41: 0 | L41: =TRUNC(C41*K41,0) -> 0 | M41: =M36 -> 전품 4-34
A42: 절연난연케이블 | B42: 600V F-CV 2C/2.5㎟ | C42: 1 | D42: M | E42: =G42+I42+K42 -> 1697 | F42: =H42+J42+L42 -> 1697 | G42: =자재단가!I10 -> 1697 | H42: =TRUNC(C42*G42,0) -> 1697 | I42: 0 | J42: =TRUNC(C42*I42,0) -> 0 | K42: 0 | L42: =TRUNC(C42*K42,0) -> 0
...

Sheet 단가산출_목록
A1: 단 가 산 출 목 록 표
A3: 공 종 | B3: 규 격 | C3: 수 량 | D3: 단위 | E3: 합 계 | F3: 재 료 비 | G3: 노 무 비 | H3: 경 비 | I3: 비 고
A5: 다짐(램머) | B5: 렘머 80kg | C5: 1 | D5: ㎥ | E5: =F5+G5+H5 -> 14641 | F5: =단가산출!D17 -> 437 | G5: =단가산출!E17 -> 14006 | H5: =단가산출!F17 -> 198 | I5: 산근 1호표
A6: 터파기 | B6: 백호우 0.4㎥(견질토사) | C6: 1 | D6: ㎥ | E6: =F6+G6+H6 -> 2040 | F6: =단가산출!D26 -> 362 | G6: =단가산출!E26 -> 1295 | H6: =단가산출!F26 -> 383 | I6: 산근 2호표
A7: 관부사 부설 | B7: 백호우 0.4 ㎥ | C7: 1 | D7: ㎥ | E7: =F7+G7+H7 -> 1515 | F7: =단가산출!D35 -> 269 | G7: =단가산출!E35 -> 962 | H7: =단가산출!F35 -> 284 | I7: 산근 3호표
A8: 되메우기 | B8: 백호우 0.4 ㎥ | C8: 1 | D8: ㎥ | E8: =F8+G8+H8 -> 1515 | F8: =단가산출!D44 -> 269 | G8: =단가산출!E44 -> 962 | H8: =단가산출!F44 -> 284 | I8: 산근 4호표
A9: 살수(인력) | B9: T=20㎝ | C9: 1 | D9: a | E9: =F9+G9+H9 -> 171037 | F9: 0 | G9: =단가산출!E48 -> 171037 | H9: 0 | I9: 산근 5호표
A10: 다짐(핸드) | B10: 핸드가이식진동롤러 | C10: 1 | D10: a | E10: =F10+G10+H10 -> 117459 | F10: =단가산출!D57 -> 9580 | G10: =단가산출!E57 -> 102445 | H10: =단가산출!F57 -> 5434 | I10: 산근 6호표
A11: 다짐(콤팩터) | B11: 콤팩터 1.5ton | C11: 1 | D11: a | E11: =F11+G11+H11 -> 141484 | F11: =단가산출!D66 -> 6466 | G11: =단가산출!E66 -> 132800 | H11: =단가산출!F66 -> 2218 | I11: 산근 7호표
A12: 잔토처리 | B12: 백호우(0.4㎥)+15T/D | C12: 1 | D12: ㎥ | E12: =F12+G12+H12 -> 15677 | F12: =단가산출!D90 -> 4088 | G12: =단가산출!E90 -> 8648 | H12: =단가산출!F90 -> 2941 | I12: 산근 8호표
A13: 부 설 | B13: 백0.4㎥90%+인10% T=20㎝ | C13: 1 | D13: a | E13: =F13+G13+H13 -> 100201 | F13: =단가산출!D105 -> 4849 | G13: =단가산출!E105 -> 90225 | H13: =단가산출!F105 -> 5127 | I13: 산근 9호표
A14: 콘크리트포장절단 | B14: 320-400mm | C14: 1 | D14: M | E14: =F14+G14+H14 -> 1587 | F14: =단가산출!D112 -> 326 | G14: =단가산출!E112 -> 1195 | H14: =단가산출!F112 -> 66 | I14: 산근 10호표
A15: 시멘트운반(자재대포함) | C15: 1 | D15: 대 | E15: =F15+G15+H15 -> 5959 | F15: =단가산출!D123 -> 5500 | G15: 0 | H15: =단가산출!F123 -> 459 | I15: 산근 11호표
A16: 쇄석자갈 운반 | B16: 화성 비봉 | C16: 1 | D16: ㎥ | E16: =F16+G16+H16 -> 18600 | F16: =단가산출!D141 -> 5094 | G16: =단가산출!E141 -> 10017 | H16: =단가산출!F141 -> 3489 | I16: 산근 12호표
A17: 잔토처리(인력상차) | B17: L=20㎞ + 15T/D | C17: 1 | D17: ㎥ | E17: =F17+G17+H17 -> 59032 | F17: =단가산출!D156 -> 10963 | G17: =단가산출!E156 -> 40560 | H17: =단가산출!F156 -> 7509 | I17: 산근 13호표
A18: 무근콘크리트깨기(0.4㎥) | B18: 평균두께 T=30cm 미만 | C18: 1 | D18: M3 | E18: =F18+G18+H18 -> 42943 | F18: =단가산출!D178 -> 6299 | G18: =단가산출!E178 -> 28501 | H18: =단가산출!F178 -> 8143 | I18: 산근 14호표

Sheet 단가산출
A1: 단 가 산 출 근 거
A3: 공 종 | B3: 산 출 근 거 | C3: 합 계 | D3: 재 료 비 | E3: 노 무 비 | F3: 경 비
A5: 산근 1 호표 :다짐(램머) (렘머 80kg) ㎥ 당
B6: ◈ 다짐 렘머 80kg ㎥당
B7: 1. 다짐(램머 80kg)
B8: Q = A * N * H * E / P 에서
B9: A = 0.28 * 0.33 = 0.09 ㎡/회
B10: N = 36,000회/hr
B11: H = 0.15 ,E=0.3 , P=57회
B12: f = 1
B13: Q = A * N * H * E / P = 2.56 ㎥/hr
B14: 노무비: 33,665 / 2.56 = 13,573 | C14: =E14 -> 14006 | E14: =INT(건설기계!H7/2.56) -> 14006
B15: 재료비: 1,110/ 2.56 = 411 | C15: =D15 -> 437 | D15: =INT(건설기계!G7/2.56) -> 437
B16: 경 비: 478/ 2.56 = 192 | C16: =F16 -> 198 | F16: =INT(건설기계!I7/2.56) -> 198
B17: 합 계 | C17: =SUM(C14:C16) -> 14641 | D17: =SUM(D14:D16) -> 437 | E17: =SUM(E14:E16) -> 14006 | F17: =SUM(F14:F16) -> 198 | IV17: =SUM(C17:IU17) -> 29282
A18: 산근 2 호표 :터파기 (백호우 0.4㎥(견질토사)) ㎥ 당
B19: 터파기 (백호우 0.4㎥):견질토사; ㎥당
B20: q = 0.4, k = 0.9, cm = 15sec(90도 선회)
B21: E = 0.65, f = 1/1.25= 0.8
B22: Q = 3600*0.4*0.9*0.8*0.65/15 = 44.92 ㎥/hr
B23: 노무비 : 53,207 / 44.92 = 1,264 | C23: =E23 -> 1295 | E23: =INT(건설기계!H8/44.92) -> 1295
B24: 재료비 : 17,304 / 44.92 = 329 | C24: =D24 -> 362 | D24: =INT(건설기계!G8/44.92) -> 362
B25: 경 비 : 15,994 / 44.92 = 369 | C25: =F25 -> 383 | F25: =INT(건설기계!I8/44.92) -> 383
B26: 합 계 | C26: =SUM(C23:C25) -> 2040 | D26: =SUM(D23:D25) -> 362 | E26: =SUM(E23:E25) -> 1295 | F26: =SUM(F23:F25) -> 383
A27: 산근 3 호표 :관부사 부설 (백호우 0.4 ㎥) ㎥ 당 | C27: .
B28: ◈ 관부사부설 (백호우 0.4 ㎥) ; ㎥당
B29: q = 0.4㎥, K = 0.9, f = 1, E = 0.70
B30: Cm = 15sec(90도 선회)
B31: Q = 3600*0.4*0.9*1*0.70*1/15 = 60.48㎥/hr
B32: 노무비 : 53,207 / 60.48 = 938 | C32: =E32 -> 962 | E32: =INT(건설기계!H8/60.48) -> 962
B33: 재료비 : 17,304 / 60.48 = 244 | C33: =D33 -> 269 | D33: =INT(건설기계!G8/60.48) -> 269
B34: 경 비 : 15,994 / 60.48 = 270 | C34: =F34 -> 284 | F34: =INT(건설기계!I8/60.48) -> 284
B35: 합 계 | C35: =SUM(C32:C34) -> 1515 | D35: =SUM(D32:D34) -> 269 | E35: =SUM(E32:E34) -> 962 | F35: =SUM(F32:F34) -> 284
A36: 산근 4 호표 :되메우기 (백호우 0.4 ㎥) ㎥ 당
B37: ◈ 되메우기 (백호우 0.4 ㎥) ; ㎥당
B38: q = 0.4㎥, K = 0.9 , f = 1, E = 0.70
B39: Cm = 15sec(90도 선회)
B40: Q = 3600 * q * K * f * E / Cm = 60.48㎥/hr
B41: 노무비 :53,207 / 60.48 = 938 | C41: =E41 -> 962 | E41: =INT(건설기계!H8/60.48) -> 962
B42: 재료비 : 17,304 / 60.48 = 244 | C42: =D42 -> 269 | D42: =INT(건설기계!G8/60.48) -> 269
...

Sheet 건설기계
A1: 건 설 기 계 목 록 표
A3: 기 종 | B3: 분 류 | C3: 규 격 | D3: 수 량 | E3: 단위 | F3: 합 계 | G3: 재 료 비 | H3: 노 무 비 | I3: 경 비 | J3: 비 고
A5: 절연버킷트럭 | B5: D10136-3005 | C5: 5TON | D5: 1 | E5: 시간 | F5: =G5+H5+I5 -> 115481 | G5: 12013 | H5: 56874 | I5: 46594 | N5: ：절연버킷트럭 (5Ton)【기계가격：197,350 천원】
A6: 트럭탑재형크레인 | B6: 2105-0005 | C6: 5TON | D6: 1 | E6: 시간 | F6: =G6+H6+I6 -> 68645 | G6: 8256 | H6: 50062 | I6: 10327 | J6: 물가자료2 161 | N6: 경 유 | O6: 저 유 황 | P6: 7.2 | Q6: ℓ | R6: 1236 | S6: 8899.2 | T6: 1236 | U6: 8899.2 | V6: 0 | W6: 0 | X6: 0 | Y6: 0
A7: 램 머 | B7: 1630-0080 | C7: 80 KG | D7: 1 | E7: 시간 | F7: =G7+H7+I7 -> 37483 | G7: 1120 | H7: 35856 | I7: 507 | J7: 물가자료2 161 | N7: 잡 품 | O7: 주연료비의 % | P7: 35 | Q7: % | R7: 8899.2 | S7: 3114.7 | T7: 8899.2 | U7: 3114.7 | V7: 0 | W7: 0 | X7: 0 | Y7: 0
A8: 굴삭기(유압식 백호우) | B8: 0201-0040 | C8: 0.4㎥ | D8: 1 | E8: 시간 | F8: =G8+H8+I8 -> 91724 | G8: 16294 | H8: 58203 | I8: 17227 | J8: 물가자료2 160 | N8: 건설기계운전사 | P8: 1 | Q8: 인 | R8: 56874 | S8: 56874 | T8: 0 | U8: 0 | V8: 56874 | W8: 56874 | X8: 0 | Y8: 0
A9: 진동롤러(핸드가이드식) | B9: 1305-0007 | C9: 0.7 톤 | D9: 1 | E9: 시간 | F9: =G9+H9+I9 -> 41111 | G9: 3353 | H9: 35856 | I9: 1902 | J9: 물가자료2 161 | N9: 기계손료 | O9: 상각비:1000/정비비:778/관리비:583 | P9: 0.2361 | R9: 197350 | S9: 46594.3 | T9: 0 | U9: 0 | V9: 0 | W9: 0 | X9: 197350 | Y9: 46594.3
A10: 플레이트콤팩터 | B10: 1730-0015 | C10: 1.5 TON | D10: 1 | E10: 시간 | F10: =G10+H10+I10 -> 38201 | G10: 1746 | H10: 35856 | I10: 599 | J10: 물가자료2 161 | N10: 계 | S10: 115481 | U10: 12013 | W10: 56874 | Y10: 46594
A11: 덤프트럭 | B11: 0602-0150 | C11: 15 TON | D11: 1 | E11: 시간 | F11: =G11+H11+I11 -> 108080 | G11: 29601 | H11: 58203 | I11: 20276 | J11: 물가자료2 160
A12: 커 터 | B12: 4430-0400 | C12: 320-400 mm | D12: 1 | E12: 시간 | F12: =G12+H12+I12 -> 47617 | G12: 9780 | H12: 35856 | I12: 1981 | J12: 물가자료2 162
A13: 대형 브레이커 | B13: 0230-0004 | C13: 0.4㎥ | D13: 1 | E13: 시간 | F13: =G13+H13+I13 -> 5363 | I13: 5363 | J13: 물가자료2 160

Sheet 자재단가
A1: 자 재 단 가
A3: 품 명 | B3: 규 격 | C3: 단위 | D3: 물 가 자 료(25년 12월) | F3: 물 가 정 보(25년 12월) | H3: 기 타 가 격 | I3: 적용단가 | J3: 비 고
D4: 단 가 | E4: Page | F4: 단 가 | G4: Page | H4: 단 가
A5: 혼합골재 | B5: 현장도착도 | C5: ㎥ | D5: 24000 | E5: 62 | I5: =MIN(D5,F5,H5) -> 24000
A6: 시멘트 | B6: 40kg | C6: 대 | D6: 7400 | E6: 65 | I6: =MIN(D6,F6,H6) -> 7400
A7: 모래 | B7: 현장도착도 | C7: ㎥ | D7: 40000 | E7: 62 | I7: =MIN(D7,F7,H7) -> 40000
A8: 합판내수 1급 | B8: 12.0Tx1220mmx2400mm | C8: ㎡ | D8: 34400 | E8: 670 | I8: =MIN(D8,F8,H8) -> 34400
A9: 각재 | B9: 외송 | C9: ㎥ | H9: 577844 | I9: =MIN(D9,F9,H9) -> 577844 | K9: 거래가격 150
A10: 절연난연케이블 | B10: 600V F-CV 2C/2.5㎟ | C10: M | D10: 1697 | E10: 1075 | I10: =MIN(D10,F10,H10) -> 1697
A11: 절연난연케이블 | B11: 600V F-CV 2C/4㎟ | C11: M | D11: 2305 | E11: 1075 | I11: =MIN(D11,F11,H11) -> 2305
A12: 절연난연케이블 | B12: 600V F-CV 2C/6㎟ | C12: M | D12: 3101 | E12: 1075 | I12: =MIN(D12,F12,H12) -> 3101
A13: 절연난연케이블 | B13: 600V F-CV 3C 4㎟ | C13: M | D13: 3165 | E13: 1075 | I13: =MIN(D13,F13,H13) -> 3165
A14: 절연난연케이블 | B14: 600V VCT 3C 4㎟ | C14: M | F14: 3886 | G14: 1167 | I14: =MIN(D14,F14,H14) -> 3886
A15: 절연난연케이블 | B15: 600V PNCT 3C 6㎟ | C15: M | F15: 10365 | G15: 1166 | I15: =MIN(D15,F15,H15) -> 10365
A16: 비닐코드케이블 | B16: 600V VCTF 2C/2.5SQ | C16: M | D16: 1180 | E16: 1080 | I16: =MIN(D16,F16,H16) -> 1180
A17: 수중케이블 | B17: CVF 3C/4㎟ | C17: M | D17: 3370 | E17: 1076 | I17: =MIN(D17,F17,H17) -> 3370
A18: 파상형폴리에틸렌전선관 | B18: 30mm | C18: M | D18: 360 | E18: 1106 | I18: =MIN(D18,F18,H18) -> 360
A19: 파상형폴리에틸렌전선관 | B19: 40mm | C19: M | D19: 550 | E19: 1106 | I19: =MIN(D19,F19,H19) -> 550
A20: 베이스 커버 | B20: 420*220*280 | C20: 개 | H20: 62000 | I20: =MIN(D20,F20,H20) -> 62000
A21: 환풍기 | B21: 165*165 | D21: 39600 | E21: 940 | I21: =MIN(D21,F21,H21) -> 39600
A22: CDM램프 | B22: 70W | C22: 개 | I22: =MIN(D22,F22,H22) -> 0
A23: CDM안정기 | B23: 70W | C23: 개 | I23: =MIN(D23,F23,H23) -> 0
A24: 접지용전선 | B24: F-GV, 4㎟ | C24: M | D24: 1172 | E24: 1075 | I24: =MIN(D24,F24,H24) -> 1172
A25: 접 지 봉 | B25: Φ14*1000 | C25: 개 | D25: 8000 | E25: 1199 | I25: =MIN(D25,F25,H25) -> 8000
A26: 배선용차단기 | B26: ABS 32C 2P | C26: 개 | D26: 30100 | E26: 1154 | I26: =MIN(D26,F26,H26) -> 30100
A27: 배선용차단기 | B27: ABS 52C 2P | C27: 개 | D27: 40100 | E27: 1154 | I27: =MIN(D27,F27,H27) -> 40100
A28: 누전차단기 | B28: 32GRh 2P2E | C28: 개 | D28: 14800 | E28: 1161 | I28: =MIN(D28,F28,H28) -> 14800
A29: 누전차단기 | B29: EBE 52Fb 2P2E | C29: 개 | D29: 42200 | E29: 1161 | I29: =MIN(D29,F29,H29) -> 42200
A30: 전자접촉기 | B30: GMC-9M | C30: 개 | D30: 12200 | E30: 1144 | I30: =MIN(D30,F30,H30) -> 12200
A31: 전자접촉기 | B31: GMC-12M | C31: 개 | D31: 13400 | E31: 1144 | I31: =MIN(D31,F31,H31) -> 13400
A32: 안정기함 커버 | B32: 주철,스텐 | C32: 개 | H32: 18000 | I32: =MIN(D32,F32,H32) -> 18000
A33: 모갈(소켓) | B33: 일단소모갈 | C33: 개 | F33: 1360 | G33: 1280 | I33: =MIN(D33,F33,H33) -> 1360
A34: 공원등표찰 | B34: STS밴드식 | C34: EA | H34: 10000 | I34: =MIN(D34,F34,H34) -> 10000
A35: 콘센트(매입) | B35: 2구(접지용) | C35: 개 | D35: 2200 | E35: 1205 | I35: =MIN(D35,F35,H35) -> 2200
A36: 전자식과전류계전기 | B36: EOCR-SS | C36: 개 | D36: 30000 | E36: 1277 | I36: =MIN(D36,F36,H36) -> 30000
A37: 푸시버튼스위치 신설 | B37: 220V | C37: 개 | H37: 3200 | I37: =MIN(D37,F37,H37) -> 3200
A38: 전자식자동점멸기 | B38: 일몰, 일출 | C38: 개 | H38: 65000 | I38: =MIN(D38,F38,H38) -> 65000
A39: 타임스위치 | B39: 24시간용 | C39: 개 | H39: 40000 | I39: =MIN(D39,F39,H39) -> 40000
A40: 재실감지센서 | B40: 멀티센서(인지) | C40: 개 | D40: 25000 | E40: 1210 | I40: =MIN(D40,F40,H40) -> 25000
A41: 전등스위치 | B41: 220V 2구 | C41: 개 | F41: 3617 | G41: 1280 | I41: =MIN(D41,F41,H41) -> 3617
...

Sheet 노임단가
A1: 노 임 단 가
A3: 번호 | B3: 직 종 명 | C3: 단위 | D3: 건 설 협 회 | F3: 조 달 청 | H3: 적용단가 | I3: 비 고
D4: 2025년 하반기 | E4: 2025년 상반기 | F4: 2024년 하반기 | G4: 2024년 상반기
A5: 1 | B5: H/W 시험사 | C5: 인 | D5: 390048 | E5: 384609 | F5: 0 | G5: 0 | H5: =D5 -> 390048
A6: 2 | B6: 건설기계운전사 | C6: 인 | D6: 279824 | E6: 273971 | F6: 0 | G6: 0 | H6: =D6 -> 279824
A7: 3 | B7: 내선전공 | C7: 인 | D7: 273539 | E7: 268915 | F7: 0 | G7: 0 | H7: =D7 -> 273539
A8: 4 | B8: 배전전공 | C8: 인 | D8: 413173 | E8: 408559 | F8: 0 | G8: 0 | H8: =D8 -> 413173
A9: 5 | B9: 특별인부 | C9: 인 | D9: 224490 | E9: 221506 | F9: 0 | G9: 0 | H9: =D9 -> 224490
A10: 6 | B10: 보통인부 | C10: 인 | D10: 171037 | E10: 169804 | F10: 0 | G10: 0 | H10: =D10 -> 171037
A11: 7 | B11: 비 계 공 | C11: 인 | D11: 279613 | E11: 279433 | F11: 0 | G11: 0 | H11: =D11 -> 279613
A12: 8 | B12: 용 접 공 | C12: 인 | D12: 280178 | E12: 278326 | F12: 0 | G12: 0 | H12: =D12 -> 280178
A13: 9 | B13: 일반기계운전사 | C13: 인 | D13: 172387 | E13: 170920 | F13: 0 | G13: 0 | H13: =D13 -> 172387
A14: 10 | B14: 화물차운전사 | C14: 인 | D14: 240685 | E14: 237971 | F14: 0 | G14: 0 | H14: =D14 -> 240685
A15: 11 | B15: 저압케이블전공 | C15: 인 | D15: 303632 | E15: 300337 | F15: 0 | G15: 0 | H15: =D15 -> 303632
A16: 12 | B16: 철 공 | C16: 인 | D16: 237686 | E16: 237754 | F16: 0 | G16: 0 | H16: =D16 -> 237686
... A18: 14 | B18: 전기공사기사 | C18: 인 | D18: 333866 | E18: 327381 | F18: 0 | G18: 0 | H18: =D18 -> 333866
A19: 15 | B19: 변전전공 | C19: 인 | D19: 483274 | E19: 477832 | H19: =D19 -> 483274
A20: 16 | B20: 형틀목공 | C20: 인 | D20: 273074 | E20: 272831 | F20: 0 | G20: 0 | H20: =D20 -> 273074

Sheet 전기시설물 현황
C1: ■ 어린이공원, 소공원 현황
B2: 번지 | C2: 순번 | D2: 공 원 명 | E2: 소재동 | F2: 번지 | G2: 계 | H2: 공원등 | K2: 경관조명 | L2: 체육시설
H3: 계 | I3: LED | J3: 메탈
C4: 1 | D4: 관악(1호)공원 | E4: 부흥동 | F4: 1102-6 | G4: =H4+K4+L4 -> 18 | H4: =I4+J4 -> 18 | I4: 18
C5: 2 | D5: 부흥(5호)공원 | E5: 부흥동 | F5: 1103-3 | G5: =H5+K5+L5 -> 10 | H5: =I5+J5 -> 10 | I5: 10
C6: 3 | D6: 희성(2호)공원 | E6: 달안동 | F6: 1101-3 | G6: =H6+K6+L6 -> 13 | H6: =I6+J6 -> 13 | I6: 13
C7: 4 | D7: 달안(6호)공원 | E7: 달안동 | F7: 1109-2 | G7: =H7+K7+L7 -> 22 | H7: =I7+J7 -> 22 | I7: 22
C8: 5 | D8: 한가람(3호)공원 | E8: 부림동 | F8: 1586-3 | G8: =H8+K8+L8 -> 13 | H8: =I8+J8 -> 13 | I8: 13
C9: 6 | D9: 공작(4호)공원 | E9: 부림동 | F9: 1587-1 | G9: =H9+K9+L9 -> 11 | H9: =I9+J9 -> 11 | I9: 11
C10: 7 | D10: 부안(7호)공원 | E10: 부림동 | F10: 1588-4 | G10: =H10+K10+L10 -> 12 | H10: =I10+J10 -> 12 | I10: 12
C11: 8 | D11: 범계(8호)공원 | E11: 범계동 | F11: 1053-5 | G11: =H11+K11+L11 -> 16 | H11: =I11+J11 -> 16 | I11: 16
C12: 9 | D12: 목련(9호)공원 | F12: 1052-2 | G12: =H12+K12+L12 -> 19 | H12: =I12+J12 -> 19 | I12: 19
C13: 10 | D13: 꿈자람(11호)공원 | F13: 1054-4 | G13: =H13+K13+L13 -> 24 | H13: =I13+J13 -> 24 | I13: 24
C14: 11 | D14: 초원(10호)공원 | E14: 평안동 | F14: 896-3 | G14: =H14+K14+L14 -> 17 | H14: =I14+J14 -> 17 | I14: 17
C15: 12 | D15: 평안(12호)공원 | F15: 899-6 | G15: =H15+K15+L15 -> 14 | H15: =I15+J15 -> 14 | I15: 14
C16: 13 | D16: 대원(13호)공원 | F16: 898-5 | G16: =H16+K16+L16 -> 12 | H16: =I16+J16 -> 12 | I16: 12
C17: 14 | D17: 럭키(14호)공원 | F17: 897-6 | G17: =H17+K17+L17 -> 17 | H17: =I17+J17 -> 16 | I17: 16 | K17: 1
C18: 15 | D18: 신촌(15호)공원 | E18: 신촌동 | F18: 1055-2 | G18: =H18+K18+L18 -> 17 | H18: =I18+J18 -> 17 | I18: 17
C19: 16 | D19: 신기(16호)공원 | F19: 1056-1 | G19: =H19+K19+L19 -> 16 | H19: =I19+J19 -> 16 | I19: 16
C20: 17 | D20: 무궁화(17호)공원 | F20: 1061 | G20: =H20+K20+L20 -> 14 | H20: =I20+J20 -> 14 | I20: 14
C21: 18 | D21: 귀인(18호)공원 | E21: 귀인동 | F21: 905 | G21: =H21+K21+L21 -> 9 | H21: =I21+J21 -> 9 | I21: 9
C22: 19 | D22: 먹거리촌(19호)공원 | F22: 927 | G22: =H22+K22+L22 -> 16 | H22: =I22+J22 -> 16 | I22: 16
C23: 20 | D23: 꿈마을(20호)공원 | F23: 932-3 | G23: =H23+K23+L23 -> 13 | H23: =I23+J23 -> 13 | I23: 13
C24: 21 | D24: 민백(21호)공원 | F24: 933-2 | G24: =H24+K24+L24 -> 23 | H24: =I24+J24 -> 23 | I24: 23
C25: 22 | D25: 솔향(22호)공원 | E25: 갈산동 | F25: 1080 | G25: =H25+K25+L25 -> 11 | H25: =I25+J25 -> 11 | I25: 11
C26: 23 | D26: 갈산(23호)공원 | F26: 1093 | G26: =H26+K26+L26 -> 12 | H26: =I26+J26 -> 12 | I26: 12
C27: 24 | D27: 샘마을(24호)공원 | F27: 1118-2 | G27: =H27+K27+L27 -> 10 | H27: =I27+J27 -> 10 | I27: 10
C28: 25 | D28: 흥안(25호)공원 | F28: 1113-1 | G28: =H28+K28+L28 -> 13 | H28: =I28+J28 -> 13 | I28: 13
C29: 26 | D29: 수풀내(임곡2차)공원 | E29: 비산1동 | F29: 1164 | G29: =H29+K29+L29 -> 23 | H29: =I29+J29 -> 5 | I29: 5 | K29: 18
C30: 27 | D30: 어우리지공원 | G30: =H30+K30+L30 -> 2 | H30: =I30+J30 -> 2 | I30: 2
C31: 28 | D31: 샘모루공원 | G31: =H31+K31+L31 -> 1 | H31: =I31+J31 -> 1 | I31: 1
C32: 29 | D32: 수명 어린이공원 | F32: 541-49일원 | G32: =H32+K32+L32 -> 12 | H32: 12 | I32: 12
C33: 30 | D33: 105호 어린이공원 | E33: 비산2동 | F33: 414-2일원 | G33: =H33+K33+L33 -> 8 | H33: 8 | I33: 8
C34: 31 | D34: 다보란공원 | E34: 비산3동 | F34: 1051 | G34: =H34+K34+L34 -> 5 | H34: =I34+J34 -> 5 | I34: 5
C35: 32 | D35: 은하수공원 | F35: 1057 | G35: =H35+K35+L35 -> 9 | H35: =I35+J35 -> 9 | I35: 9
C36: 33 | D36: 시립꽃동산공원 | F36: 1041-2 | G36: =H36+K36+L36 -> 5 | H36: =I36+J36 -> 5 | I36: 5
C37: 34 | D37: 너랑나랑공원 | F37: 1016 | G37: =H37+K37+L37 -> 6 | H37: =I37+J37 -> 6 | I37: 6
C38: 35 | D38: 동안공원 | E38: 관양1동 | F38: 1447-10 | G38: =H38+K38+L38 -> 4 | H38: =I38+J38 -> 4 | I38: 4
C39: 36 | D39: 황금공원 | F39: 1436-13 | G39: =H39+K39+L39 -> 4 | H39: =I39+J39 -> 4 | I39: 4
C40: 37 | D40: 중촌공원 | F40: 1430-5 | G40: =H40+K40+L40 -> 4 | H40: =I40+J40 -> 4 | I40: 4
...
