Workbook

Sheet 설계설명서
A1: 1. 사업명
B2: - | C2: 운곡공원 등 2개소 맨발산책길 조성공사
A4: 2. 사업의 목적
B5: - | C5: 공원을 정비하여 시민들에게 힐링할 수 있는 공간을 제공하고 시민 건강증진에 기여
A7: 3. 사업의 위치 및 범위
B8: 1) | C8: 위치: 운곡공원(비산동 249-6번지), 자유공원(호계동 1113-2번지)
B9: 2) | C9: 사업년도 : 2025년
A11: 4. 공 사 기 간
B12: 본 공사는 착공일로부터 50일로 한다.
A14: 5. 설계변경조건
B15: 1) | C15: 본 공사는 설계당시 수집된 자료에 의하여 설계한 것인바 조사가 불가능한 부분 및 조사후 변경된 사항에 대해서는 시공시 실정에 맞추어 변경
B16: 2) | C16: 골재원 및 토취장의 위치 및 운반거리등이 변경될 경우
B17: 3) | C17: 연평균 강우일보다 많은 강우일로 인하여 공사진행에 현저한 지장을 주거나 관급자재의 공급지연으로 공사에 지장을 주었다고 인정될 경우에는 상당하는
C18: 기일 만큼 연기 할 수 있다
B19: 4) | C19: 공법이 변경될 경우
B20: 5) | C20: 천재지변으로 인하여 설계변경이 불가피한 경우
B21: 6) | C21: 본 공사 시공중 관의 형편상 설계변경이 불가피한 경우

Sheet 원가계산서
A1: 공 사 비 원 가 계 산 서
A2: =#REF! -> #REF! | J2: (공사기간 : 50일)
A3: 비목 | C3: 구분 | E3: 산출근거 | I3: 금 액 | J3: 비고
B4: 재료비 | C4: A1 | D4: 직접재료비
C5: A2 | D5: 간접재료비
C6: A | D6: 소계 | J6: (A1+A2)
B7: 노무비 | C7: B1 | D7: 직접노무비
C8: B2 | D8: 간접노무비 | F8: * | G8: 16.2 | H8: % | J8: (B1)*16.2%
C9: B | D9: 소계 | J9: (B1+B2)
B10: 경비 | C10: C1 | D10: 직접경비
C11: C | D11: 소계 | J11: (C1)
C12: D1 | D12: 산재보험료 | F12: * | G12: 3.56 | H12: % | J12: (B)*3.56%
C13: D2 | D13: 고용보험료 | F13: * | G13: 1.01 | H13: % | J13: (B)*1.01% | L13: =E13*G13/100 -> 0
C14: D3 | D14: 건강보험료 | F14: * | G14: 3.545 | H14: % | J14: (B1)*3.545%
C15: D4 | D15: 노인장기요양보험료 | F15: * | G15: 12.95 | H15: % | J15: (D3)*12.95%
C16: D5 | D16: 연금보험료 | F16: * | G16: 4.5 | H16: % | J16: (B1)*4.5%
C17: D6 | D17: 퇴직공제부금 | F17: * | G17: 2.3 | H17: % | J17: (B1)*2.3%
C18: D7 | D18: 산업안전보건관리비 | F18: * | G18: 2.07 | H18: % | J18: (A+B1)*2.07
C19: D8 | D19: 기타경비 | F19: * | G19: 4.6 | H19: % | J19: (A+B)*4.6% | L19: =E19*G19/100 -> 0
C20: D9 | D20: 환경보전비 | F20: * | G20: 0.3 | H20: % | J20: (A1+B1+C)*0.3%
C21: D10 | D21: 건설기계대여대금 지급보증액 발급금액 | F21: * | G21: 0.16 | H21: % | J21: (A1+B1+C)*0.16%
C22: D11 | D22: 안전관리비
C23: D | D23: 소 계 | J23: (D1+D2+~+D10+D11)
A24: E. 합 계 | J24: (A+B+C+D) | L24: =#REF!+#REF!+#REF! -> #REF!
A25: F. 일반관리비 | F25: * | G25: 8 | H25: % | J25: (E)*8.0% | L25: =#REF!*4.7% -> #REF!
A26: G. 이 윤 | F26: * | G26: 15 | H26: % | J26: (B+C+D+F)*15.0%이내 | L26: =E26*G26% -> 0
A27: H.총원가 | J27: (E+F+G)
A28: I. 폐기물처리비
A29: J. 공급가액 | J29: (H+I)
A30: K. 부가가치세 | F30: * | G30: 10 | H30: % | J30: (J)*10.0% | L30: =#REF!+#REF! -> #REF!
A31: L. 도급공사비 | J31: (J+K)
A32: M. 관급자 관급자재대
A33: N. 총공사비 | J33: (L+M)

Sheet 내역서
A1: 내역서
A2: 공 종 명 | B2: 규 격 | C2: 수량 | D2: 단위 | E2: 합 계 | G2: 재 료 비 | I2: 노 무 비 | K2: 경 비 | M2: 비 고
E3: 단 가 | F3: 금 액 | G3: 단 가 | H3: 금 액 | I3: 단 가 | J3: 금 액 | K3: 단 가 | L3: 금 액 | S3: 할 증 | T3: 화폐변환 | U3: OP값 | V3: EQ | W3: LA | X3: MA | Y3: 금액계상
A4: ■ 운곡공원 등 2개소 맨발산책길 조성공사 | C4: 1 | D4: 식 | O4: A00001
A5: a, 순공사비 | C5: 1 | D5: 식 | P5: 10 | R5: A0001 | AA5: MA+ = | AB5: =내역서!H5 -> 0 | AC5: MA = | AD5: =$AB5 -> 0 | BI5: =HYPERLINK("#내역서!A31","A0001 →") -> A0001 →
A6: 직 접 공 사 비 | C6: 1 | D6: 식 | P6: 20 | Q6: * | R6: F | X6: MA = MA(1, -1,10) _x000D_ LA = LA(1, -1,10) _x000D_ EQ = EQ(1, -1,10) _x000D_ | AA6: LA+ = | AB6: =내역서!J6*16.2/100 -> 0 | AC6: LA = | AD6: =$AB6 -> 0
A7: 간 접 노 무 비 | B7: 직접노무비의 16.2% | C7: 1 | D7: 식 | N7: ZZA000200000 | P7: 30 | R7: F-FUZZA000200000 | X7: LA = LA(20) * 16.2/100_x000D_ | AA7: EQ+ = | AB7: =(내역서!J6+내역서!J7)*3.56/100 -> 0 | AC7: EQ = | AD7: =$AB7 -> 0
A8: 산 재 보 험 료 | B8: 노무비의 3.56% | C8: 1 | D8: 식 | N8: ZZB110100000 | P8: 40 | R8: F-FUZZB110100000 | X8: EQ = ( LA(20) + LA(30) ) * 3.56/100_x000D_ | AA8: EQ+ = | AB8: =(내역서!J6+내역서!J7)*1.01/100 -> 0 | AC8: EQ = | AD8: =$AB8 -> 0
A9: 고 용 보 험 료 | B9: 노무비의 1.01% | C9: 1 | D9: 식 | N9: ZZB120100000 | P9: 50 | R9: F-FUZZB120100000 | X9: EQ = ( LA(20) + LA(30) ) * 1.01/100_x000D_ | AA9: EQ+ = | AB9: =내역서!J6*3.545/100 -> 0 | AC9: EQ = | AD9: =$AB9 -> 0
A10: 건 강 보 험 료 | B10: 직접노무비의 3.545% | C10: 1 | D10: 식 | N10: ZZB130100000 | P10: 60 | R10: F-FUZZB130100000 | X10: EQ = LA(20) * 3.545/100_x000D_ | AA10: EQ+ = | AB10: =내역서!L10*12.95/100 -> 0 | AC10: EQ = | AD10: =$AB10 -> 0
A11: 노인장기요양보험료 | B11: 건강보험료의 12.95% | C11: 1 | D11: 식 | N11: ZZB130200000 | P11: 70 | R11: F-FUZZB130200000 | X11: EQ = EQ(60) * 12.95/100_x000D_ | AA11: EQ+ = | AB11: =내역서!J6*4.5/100 -> 0 | AC11: EQ = | AD11: =$AB11 -> 0
A12: 연 금 보 험 료 | B12: 직접노무비의 4.5% | C12: 1 | D12: 식 | N12: ZZB140100000 | P12: 80 | R12: F-FUZZB140100000 | X12: EQ = LA(20) * 4.5/100_x000D_ | AA12: EQ+ = | AB12: =내역서!J6*2.3/100 -> 0 | AC12: EQ = | AD12: =$AB12 -> 0
A13: 퇴 직 공 제 부 금 | B13: 직접노무비의 2.3% | C13: 1 | D13: 식 | N13: ZZB200100000 | P13: 90 | R13: F-FUZZB200100000 | X13: EQ = LA(20) * 2.3/100_x000D_ | AA13: EQ+ = | AB13: =(내역서!H6+내역서!J6)*2.07/100 -> 0 | AC13: EQ = | AD13: =$AB13 -> 0
A14: 산업안전보건관리비 | B14: (재료+직노)*2.07 | C14: 1 | D14: 식 | P14: 100 | R14: F-FUZZB300100001 | X14: EQ = ( MA(20) + LA(20) ) * 2.07/100_x000D_ | AA14: EQ+ = | AB14: =(내역서!H6+내역서!J6+내역서!J7)*4.6/100 -> 0 | AC14: EQ = | AD14: =$AB14 -> 0
A15: 기 타 경 비 | B15: 재료비,노무비의 4.6% | C15: 1 | D15: 식 | N15: ZZB400100000 | P15: 110 | R15: F-FUZZB400100000 | X15: EQ = ( MA(20) + LA(20) + LA(30) ) * 4.6/100_x000D_ | AA15: EQ+ = | AB15: =(내역서!H6+내역서!J6+내역서!L6)*0.3/100 -> 0 | AC15: EQ = | AD15: =$AB15 -> 0
A16: 환 경 보 전 비 | B16: 직접재료비,직접노무비,경비의 0.3% | C16: 1 | D16: 식 | N16: ZZB700100000 | P16: 120 | R16: F-FUZZB700100000 | X16: EQ = ( MA(20) + LA(20) + EQ(20) ) * 0.3/100_x000D_ | AA16: EQ+ = | AB16: =(내역서!H6+내역서!J6+내역서!L6)*0.16/100 -> 0 | AC16: EQ = | AD16: =$AB16 -> 0
A17: 건설기계대여대금 지급보증액 발급금액 | B17: 직접재료비,직접노무비,경비의 0.16% | C17: 1 | D17: 식 | P17: 130 | R17: F | X17: EQ = ( MA(20) + LA(20) + EQ(20) ) * 0.16/100
A18: C-1. 안전관리비 | C18: 1 | D18: 식 | P18: 150 | R18: C01 | AA18: EQ+ = | AB18: =(내역서!H6+내역서!J6+내역서!J7+내역서!L6+내역서!L8+내역서!L9+내역서!L10+내역서!L11+내역서!L12+내역서!L13+내역서!L14+내역서!L15+내역서!L16+내역서!L17+내역서!L18)*8/100 -> 0 | AC18: EQ = | AD18: =$AB18 -> 0 | BI18: =HYPERLINK("#내역서!A148","C01 →") -> C01 →
A19: 일 반 관 리 비 | B19: 순공사원가의 8% | C19: 1 | D19: 식 | N19: ZZC000100000 | P19: 160 | R19: F-FUZZC000100000 | X19: EQ = ( MA(20) + LA(20) + LA(30) + EQ(20) + EQ(40) + EQ(50) + EQ(60) + EQ(70) + EQ(80) + EQ(90) + EQ(100) + EQ(110) + EQ(120) + EQ(130) + EQ(150) ) * 8/100_x000D_ | AA19: EQ+ = | AB19: =(내역서!J6+내역서!J7+내역서!L6+내역서!L8+내역서!L9+내역서!L10+내역서!L11+내역서!L12+내역서!L13+내역서!L14+내역서!L15+내역서!L16+내역서!L17+내역서!L18+내역서!L19)*11/100-(574940/1.1)-9091-7296/1.1 -> -538396.45 | AC19: EQ = | AD19: =$AB19 -> -538396.45
A20: 이 윤 | B20: 노무비,경비,일반관리비의 15% | C20: 1 | D20: 식 | N20: ZZD000100000 | P20: 170 | R20: F-FUZZD000100000 | X20: EQ = ( LA(20) + LA(30) + EQ(20) + EQ(40) + EQ(50) + EQ(60) + EQ(70) + EQ(80) + EQ(90) + EQ(100) + EQ(110) + EQ(120) + EQ(130) + EQ(150) + EQ(160) ) * 11/100-(574940/1.1)-9091-7296/1.1_x000D_ | AA20: EQ+ = | AB20: =내역서!H6+내역서!J6+내역서!J7+내역서!L6+내역서!L8+내역서!L9+내역서!L10+내역서!L11+내역서!L12+내역서!L13+내역서!L14+내역서!L15+내역서!L16+내역서!L17+내역서!L18+내역서!L19+내역서!L20 -> 0 | AC20: EQ = | AD20: =$AB20 -> 0
A21: 총 원 가 | C21: 1 | D21: 식 | N21: * | P21: 180 | Q21: * | R21: F-FU* | X21: EQ = MA(20) + LA(20) + LA(30) + EQ(20) + EQ(40) + EQ(50) + EQ(60) + EQ(70) + EQ(80) + EQ(90) + EQ(100) + EQ(110) + EQ(120) + EQ(130) + EQ(150) + EQ(160) + EQ(170)_x000D_
A22: C-2. 폐기물처리공 | C22: 1 | D22: 식 | P22: 190 | R22: C03 | AA22: EQ+ = | AB22: =(내역서!H21+내역서!J21+내역서!L21)+(내역서!H22+내역서!J22+내역서!L22) -> 0 | AC22: EQ = | AD22: =$AB22 -> 0 | BI22: =HYPERLINK("#내역서!A154","C03 →") -> C03 →
A23: 공 급 가 액 | C23: 1 | D23: 식 | P23: 200 | Q23: * | R23: F | X23: eq=tot(180)+tot(190)_x000D_ | AA23: EQ+ = | AB23: =내역서!L23*10/100-1 -> -1 | AC23: EQ = | AD23: =$AB23 -> -1
A24: 부 가 가 치 세 | B24: 총원가의 10% | C24: 1 | D24: 식 | N24: ZZF000100000 | P24: 210 | R24: F-FUZZF000100000 | X24: EQ = EQ(200) * 10/100 -1_x000D_ | AA24: EQ+ = | AB24: =(내역서!H23+내역서!J23+내역서!L23)+(내역서!H24+내역서!J24+내역서!L24) -> 0 | AC24: EQ = | AD24: =$AB24 -> 0
A25: 도 급 공 사 비 | C25: 1 | D25: 식 | P25: 220 | Q25: * | R25: F | X25: eq=tot(200)+tot(210)_x000D_
A26: 관급자관급자재대 | C26: 1 | D26: 식 | P26: 230 | R26: D01 | AA26: EQ+ = | AB26: =(내역서!H25+내역서!J25+내역서!L25)+(내역서!H26+내역서!J26+내역서!L26) -> 0 | AC26: EQ = | AD26: =$AB26 -> 0 | BI26: =HYPERLINK("#내역서!A170","D01 →") -> D01 →
A27: 총 공 사 비 | C27: 1 | D27: 식 | N27: * | P27: 240 | Q27: * | R27: F-FU* | X27: EQ = tot(220) + tot(230)_x000D_
A28: a, 순공사비 | C28: 1 | D28: 식 | O28: A0001
A29: A, 운곡공원 | C29: 1 | D29: 식 | P29: 10 | R29: A001 | BI29: =HYPERLINK("#내역서!A37","A001 →") -> A001 →
A30: B, 자유공원 | C30: 1 | D30: 식 | P30: 20 | R30: B001 | BI30: =HYPERLINK("#내역서!A96","B001 →") -> B001 →
E31: =G31+I31+K31 -> 0 | F31: =H31+J31+L31 -> 0 | H31: 0 | J31: 0 | L31: 0 | P31: 30 | Q31: *
E32: =G32+I32+K32 -> 0 | F32: =H32+J32+L32 -> 0 | H32: 0 | J32: 0 | L32: 0 | P32: 40 | Q32: S
A53: A, 운곡공원 | C53: 1 | D53: 식 | F53: =H53+J53+L53 -> #REF! | H53: =TRUNC(H54+H55+H56+H57+H58,0) -> #REF! | J53: =TRUNC(J54+J55+J56+J57+J58,0) -> #REF! | L53: =TRUNC(L54+L55+L56+L57+L58,0) -> #REF! | O53: A001
A54: A-1. 철거공 | C54: 1 | D54: 식 | E54: =G54+I54+K54 -> #REF! | F54: =H54+J54+L54 -> #REF! | G54: =H75 -> #REF! | H54: =TRUNC(G54*C54,0) -> #REF! | I54: =J75 -> #REF! | J54: =TRUNC(I54*C54,0) -> #REF! | K54: =L75 -> #REF! | L54: =TRUNC(K54*C54,0) -> #REF! | P54: 10 | R54: A02 | BI54: =HYPERLINK("#내역서!A46","A02 →") -> A02 →
A55: A-3. 우수공 | C55: 1 | D55: 식 | E55: =G55+I55+K55 -> #REF! | F55: =H55+J55+L55 -> #REF! | G55: =H83 -> #REF! | H55: =TRUNC(G55*C55,0) -> #REF! | I55: =J83 -> #REF! | J55: =TRUNC(I55*C55,0) -> #REF! | K55: =L83 -> #REF! | L55: =TRUNC(K55*C55,0) -> #REF! | P55: 25 | R55: A03 | BI55: =HYPERLINK("#내역서!A56","A03 →") -> A03 →
A56: A-3. 식재공 | C56: 1 | D56: 식 | E56: =G56+I56+K56 -> #REF! | F56: =H56+J56+L56 -> #REF! | G56: =H88 -> #REF! | H56: =TRUNC(G56*C56,0) -> #REF! | I56: =J88 -> #REF! | J56: =TRUNC(I56*C56,0) -> #REF! | K56: =L88 -> #REF! | L56: =TRUNC(K56*C56,0) -> #REF! | P56: 27 | R56: A04 | BI56: =HYPERLINK("#내역서!A63","A04 →") -> A04 →
A57: A-4. 시설공 | C57: 1 | D57: 식 | E57: =G57+I57+K57 -> #REF! | F57: =H57+J57+L57 -> #REF! | G57: =H91 -> #REF! | H57: =TRUNC(G57*C57,0) -> #REF! | I57: =J91 -> #REF! | J57: =TRUNC(I57*C57,0) -> #REF! | K57: =L91 -> #REF! | L57: =TRUNC(K57*C57,0) -> #REF! | P57: 30 | R57: A06 | BI57: =HYPERLINK("#내역서!A68","A06 →") -> A06 →
A58: A-5. 포장공 | C58: 1 | D58: 식 | E58: =G58+I58+K58 -> #REF! | F58: =H58+J58+L58 -> #REF! | G58: =H105 -> #REF! | H58: =TRUNC(G58*C58,0) -> #REF! | I58: =J105 -> #REF! | J58: =TRUNC(I58*C58,0) -> #REF! | K58: =L105 -> #REF! | L58: =TRUNC(K58*C58,0) -> #REF! | P58: 40 | R58: A07 | BI58: =HYPERLINK("#내역서!A84","A07 →") -> A07 →
E74: =G74+I74+K74 -> 0 | F74: =H74+J74+L74 -> 0 | H74: 0 | J74: 0 | L74: 0 | P74: 50 | Q74: *
A75: A-1. 철거공 | C75: 1 | D75: 식 | F75: =H75+J75+L75 -> #REF! | H75: =TRUNC(H76+H77+H78+H79+H80+H81,0) -> #REF! | J75: =TRUNC(J76+J77+J78+J79+J80+J81,0) -> #REF! | L75: =TRUNC(L76+L77+L78+L79+L80+L81,0) -> #REF! | O75: A02
A76: 등의자 철거 | B76: 현장내이설 | C76: 1 | D76: 개소 | E76: =G76+I76+K76 -> #REF! | F76: =H76+J76+L76 -> #REF! | G76: =#REF! -> #REF! | H76: =TRUNC(G76*C76,0) -> #REF! | I76: =#REF! -> #REF! | J76: =TRUNC(I76*C76,0) -> #REF! | K76: =#REF! -> #REF! | L76: =TRUNC(K76*C76,0) -> #REF! | M76: No.1 | P76: 10 | R76: SAAA0010 | T76: T | BI76: =HYPERLINK("#일위대가목록!A10","SAAA0010 →") -> SAAA0010 →
A77: 보행매트철거 | B77: W1000 | C77: 50 | D77: ㎡ | E77: =G77+I77+K77 -> #REF! | F77: =H77+J77+L77 -> #REF! | G77: =#REF! -> #REF! | H77: =TRUNC(G77*C77,0) -> #REF! | I77: =#REF! -> #REF! | J77: =TRUNC(I77*C77,0) -> #REF! | K77: =#REF! -> #REF! | L77: =TRUNC(K77*C77,0) -> #REF! | M77: No.2 | P77: 20 | R77: SAAA0020 | T77: T | BI77: =HYPERLINK("#일위대가목록!A11","SAAA0020 →") -> SAAA0020 →
A78: 경계목철거 | B78: Φ10, H300 | C78: 85 | D78: m | E78: =G78+I78+K78 -> #REF! | F78: =H78+J78+L78 -> #REF! | G78: =#REF! -> #REF! | H78: =TRUNC(G78*C78,0) -> #REF! | I78: =#REF! -> #REF! | J78: =TRUNC(I78*C78,0) -> #REF! | K78: =#REF! -> #REF! | L78: =TRUNC(K78*C78,0) -> #REF! | M78: No.3 | P78: 30 | R78: SAAA0030 | T78: T | BI78: =HYPERLINK("#일위대가목록!A12","SAAA0030 →") -> SAAA0030 →
A79: 포장철거 | B79: T60 | C79: 46.5 | D79: ㎡ | E79: =G79+I79+K79 -> #REF! | F79: =H79+J79+L79 -> #REF! | G79: =#REF! -> #REF! | H79: =TRUNC(G79*C79,0) -> #REF! | I79: =#REF! -> #REF! | J79: =TRUNC(I79*C79,0) -> #REF! | K79: =#REF! -> #REF! | L79: =TRUNC(K79*C79,0) -> #REF! | M79: No.4 | P79: 40 | R79: SAAA0040 | T79: T | BI79: =HYPERLINK("#일위대가목록!A13","SAAA0040 →") -> SAAA0040 →
A80: 침목계단철거 | B80: D260xH150xL1,200 | C80: 6 | D80: ea | E80: =G80+I80+K80 -> #REF! | F80: =H80+J80+L80 -> #REF! | G80: =#REF! -> #REF! | H80: =TRUNC(G80*C80,0) -> #REF! | I80: =#REF! -> #REF! | J80: =TRUNC(I80*C80,0) -> #REF! | K80: =#REF! -> #REF! | L80: =TRUNC(K80*C80,0) -> #REF! | M80: No.5 | P80: 50 | R80: SAAA0050 | T80: T | BI80: =HYPERLINK("#일위대가목록!A14","SAAA0050 →") -> SAAA0050 →
A81: 경계석철거 | B81: 150x150x1000 | C81: 18 | D81: m | E81: =G81+I81+K81 -> #REF! | F81: =H81+J81+L81 -> #REF! | G81: =#REF! -> #REF! | H81: =TRUNC(G81*C81,0) -> #REF! | I81: =#REF! -> #REF! | J81: =TRUNC(I81*C81,0) -> #REF! | K81: =#REF! -> #REF! | L81: =TRUNC(K81*C81,0) -> #REF! | M81: No.6 | P81: 55 | R81: SAAA0055 | T81: T | BI81: =HYPERLINK("#일위대가목록!A15","SAAA0055 →") -> SAAA0055 →
E82: =G82+I82+K82 -> 0 | F82: =H82+J82+L82 -> 0 | H82: 0 | J82: 0 | L82: 0 | P82: 60 | Q82: *
A83: A-2. 우수공 | C83: 1 | D83: 식 | F83: =H83+J83+L83 -> #REF! | H83: =TRUNC(H84+H85+H86,0) -> #REF! | J83: =TRUNC(J84+J85+J86,0) -> #REF! | L83: =TRUNC(L84+L85+L86,0) -> #REF! | O83: A03
A84: 콘크리트집수정 | B84: 500x500x850 | C84: 1 | D84: 개소 | E84: =G84+I84+K84 -> #REF! | F84: =H84+J84+L84 -> #REF! | G84: =#REF! -> #REF! | H84: =TRUNC(G84*C84,0) -> #REF! | I84: =#REF! -> #REF! | J84: =TRUNC(I84*C84,0) -> #REF! | K84: =#REF! -> #REF! | L84: =TRUNC(K84*C84,0) -> #REF! | M84: No.9 | P84: 10 | R84: SAAA1010 | T84: T | BI84: =HYPERLINK("#일위대가목록!A18","SAAA1010 →") -> SAAA1010 →
A85: 우수관 | B85: Φ200 | C85: 10 | D85: m | E85: =G85+I85+K85 -> #REF! | F85: =H85+J85+L85 -> #REF! | G85: =#REF! -> #REF! | H85: =TRUNC(G85*C85,0) -> #REF! | I85: =#REF! -> #REF! | J85: =TRUNC(I85*C85,0) -> #REF! | K85: =#REF! -> #REF! | L85: =TRUNC(K85*C85,0) -> #REF! | M85: No.10 | P85: 20 | R85: SAAA1020 | T85: T | BI85: =HYPERLINK("#일위대가목록!A19","SAAA1020 →") -> SAAA1020 →
A86: 그레이팅(날개형) | B86: 50x185x995 | C86: 10 | D86: m | E86: =G86+I86+K86 -> #REF! | F86: =H86+J86+L86 -> #REF! | G86: =#REF! -> #REF! | H86: =TRUNC(G86*C86,0) -> #REF! | I86: =#REF! -> #REF! | J86: =TRUNC(I86*C86,0) -> #REF! | K86: =#REF! -> #REF! | L86: =TRUNC(K86*C86,0) -> #REF! | M86: No.11 | P86: 30 | R86: SAAA1030 | T86: T | BI86: =HYPERLINK("#일위대가목록!A20","SAAA1030 →") -> SAAA1030 →
E87: =G87+I87+K87 -> 0 | F87: =H87+J87+L87 -> 0 | H87: 0 | J87: 0 | L87: 0 | P87: 40 | Q87: *
A88: A-3. 식재공 | C88: 1 | D88: 식 | F88: =H88+J88+L88 -> #REF! | H88: =TRUNC(H89,0) -> #REF! | J88: =TRUNC(J89,0) -> #REF! | L88: =TRUNC(L89,0) -> #REF! | O88: A04
A89: 수목이식 | B89: B10 | C89: 1 | D89: 주 | E89: =G89+I89+K89 -> #REF! | F89: =H89+J89+L89 -> #REF! | G89: =#REF! -> #REF! | H89: =TRUNC(G89*C89,0) -> #REF! | I89: =#REF! -> #REF! | J89: =TRUNC(I89*C89,0) -> #REF! | K89: =#REF! -> #REF! | L89: =TRUNC(K89*C89,0) -> #REF! | M89: No.12 | P89: 10 | R89: SAAA2010 | T89: T | BI89: =HYPERLINK("#일위대가목록!A21","SAAA2010 →") -> SAAA2010 →
A91: A-4. 시설공 | C91: 1 | D91: 식 | F91: =H91+J91+L91 -> #REF! | H91: =TRUNC(H92+H93+H94+H95+H96+H98+H102+H103,0) -> #REF! | J91: =TRUNC(J92+J93+J94+J95+J96+J98+J102+J103,0) -> #REF! | L91: =TRUNC(L92+L93+L94+L95+L96+L98+L102+L103,0) -> #REF! | O91: A06
A92: 세족장 | B92: 2200x1350xH850 | C92: 1 | D92: 개소 | E92: =G92+I92+K92 -> #REF! | F92: =H92+J92+L92 -> #REF! | G92: =#REF! -> #REF! | H92: =TRUNC(G92*C92,0) -> #REF! | I92: =#REF! -> #REF! | J92: =TRUNC(I92*C92,0) -> #REF! | K92: =#REF! -> #REF! | L92: =TRUNC(K92*C92,0) -> #REF! | M92: No.14 | P92: 10 | R92: SAAA3010 | T92: T | BI92: =HYPERLINK("#일위대가목록!A23","SAAA3010 →") -> SAAA3010 →
A93: 신발장 | B93: 1450x400x1120 | C93: 1 | D93: 개소 | E93: =G93+I93+K93 -> #REF! | F93: =H93+J93+L93 -> #REF! | G93: =#REF! -> #REF! | H93: =TRUNC(G93*C93,0) -> #REF! | I93: 0 | K93: 0 | M93: MZTAA2700 | P93: 15 | R93: MZTAA2700 | BI93: =HYPERLINK("#자재조서!A52","MZTAA2700 →") -> MZTAA2700 →
A94: 플랜터A | B94: H1050 | C94: 7 | D94: m | E94: =G94+I94+K94 -> #REF! | F94: =H94+J94+L94 -> #REF! | G94: =#REF! -> #REF! | H94: =TRUNC(G94*C94,0) -> #REF! | I94: =#REF! -> #REF! | J94: =TRUNC(I94*C94,0) -> #REF! | K94: =#REF! -> #REF! | L94: =TRUNC(K94*C94,0) -> #REF! | M94: No.15 | P94: 20 | R94: SAAA3020 | T94: T | BI94: =HYPERLINK("#일위대가목록!A24","SAAA3020 →") -> SAAA3020 →
A95: 플랜터B | B95: H600 | C95: 3 | D95: m | E95: =G95+I95+K95 -> #REF! | F95: =H95+J95+L95 -> #REF! | G95: =#REF! -> #REF! | H95: =TRUNC(G95*C95,0) -> #REF! | I95: =#REF! -> #REF! | J95: =TRUNC(I95*C95,0) -> #REF! | K95: =#REF! -> #REF! | L95: =TRUNC(K95*C95,0) -> #REF! | M95: No.16 | P95: 30 | R95: SAAA3030 | T95: T | BI95: =HYPERLINK("#일위대가목록!A25","SAAA3030 →") -> SAAA3030 →
A96: 플랜터C | B96: H150 | C96: 4 | D96: m | E96: =G96+I96+K96 -> #REF! | F96: =H96+J96+L96 -> #REF! | G96: =#REF! -> #REF! | H96: =TRUNC(G96*C96,0) -> #REF! | I96: =#REF! -> #REF! | J96: =TRUNC(I96*C96,0) -> #REF! | K96: =#REF! -> #REF! | L96: =TRUNC(K96*C96,0) -> #REF! | M96: No.17 | P96: 40 | R96: SAAA3040 | T96: T | BI96: =HYPERLINK("#일위대가목록!A26","SAAA3040 →") -> SAAA3040 →
A97: 등의자 | B97: 1600x580x700 | C97: 0 | D97: 개소 | E97: =G97+I97+K97 -> #REF! | F97: =H97+J97+L97 -> #REF! | G97: =TRUNC(#REF!*0,0) -> #REF! | H97: =TRUNC(G97*C97,0) -> #REF! | I97: 0 | K97: 0 | M97: MZTAA2840 | P97: 50 | Q97: * | R97: MZTAA2840 | W97: 관급자재 | BI97: =HYPERLINK("#자재조서!A61","MZTAA2840 →") -> MZTAA2840 →
A98: 등의자 이설 | B98: 현장내이설 | C98: 1 | D98: 개소 | E98: =G98+I98+K98 -> #REF! | F98: =H98+J98+L98 -> #REF! | G98: =#REF! -> #REF! | H98: =TRUNC(G98*C98,0) -> #REF! | I98: =#REF! -> #REF! | J98: =TRUNC(I98*C98,0) -> #REF! | K98: =#REF! -> #REF! | L98: =TRUNC(K98*C98,0) -> #REF! | M98: No.19 | P98: 55 | R98: SAAA3050 | T98: T | BI98: =HYPERLINK("#일위대가목록!A28","SAAA3050 →") -> SAAA3050 →
A99: 종합안내판A | B99: 1200x900 | C99: 0 | D99: 개소 | E99: =G99+I99+K99 -> #REF! | F99: =H99+J99+L99 -> #REF! | G99: =#REF! -> #REF! | H99: =TRUNC(G99*C99,0) -> #REF! | I99: 0 | K99: 0 | M99: MZTAA2850 | P99: 60 | Q99: * | R99: MZTAA2850 | BI99: =HYPERLINK("#자재조서!A63","MZTAA2850 →") -> MZTAA2850 →
A100: 주의안내판A | B100: 700x1200 | C100: 0 | D100: 개소 | E100: =G100+I100+K100 -> #REF! | F100: =H100+J100+L100 -> #REF! | G100: =#REF! -> #REF! | H100: =TRUNC(G100*C100,0) -> #REF! | I100: 0 | K100: 0 | M100: MZTAA2860 | P100: 70 | Q100: * | R100: MZTAA2860 | BI100: =HYPERLINK("#자재조서!A65","MZTAA2860 →") -> MZTAA2860 →
A101: 로프휀스 | B101: W1500xH1000 | C101: 10 | D101: 경간 | E101: =G101+I101+K101 -> #REF! | F101: =H101+J101+L101 -> #REF! | G101: =TRUNC(#REF!*0,0) -> #REF! | H101: =TRUNC(G101*C101,0) -> #REF! | I101: 0 | K101: 0 | M101: MZTAA2810 | P101: 80 | Q101: * | R101: MZTAA2810 | W101: 관급자재 | BI101: =HYPERLINK("#자재조서!A57","MZTAA2810 →") -> MZTAA2810 →
A102: 침목계단이설 | B102: D260xH150xL1,200 | C102: 6 | D102: ea | E102: =G102+I102+K102 -> #REF! | F102: =H102+J102+L102 -> #REF! | G102: =#REF! -> #REF! | H102: =TRUNC(G102*C102,0) -> #REF! | I102: =#REF! -> #REF! | J102: =TRUNC(I102*C102,0) -> #REF! | K102: =#REF! -> #REF! | L102: =TRUNC(K102*C102,0) -> #REF! | M102: No.20 | P102: 90 | R102: SAAA3060 | T102: T | BI102: =HYPERLINK("#일위대가목록!A29","SAAA3060 →") -> SAAA3060 →
A103: 설비A | B103: 상수 | C103: 1 | D103: 식 | E103: =G103+I103+K103 -> #REF! | F103: =H103+J103+L103 -> #REF! | G103: =#REF! -> #REF! | H103: =TRUNC(G103*C103,0) -> #REF! | I103: =#REF! -> #REF! | J103: =TRUNC(I103*C103,0) -> #REF! | K103: =#REF! -> #REF! | L103: =TRUNC(K103*C103,0) -> #REF! | M103: No.21 | P103: 100 | R103: SAAA3070 | T103: T | BI103: =HYPERLINK("#일위대가목록!A30","SAAA3070 →") -> SAAA3070 →
A105: A-5. 포장공 | C105: 1 | D105: 식 | F105: =H105+J105+L105 -> #REF! | H105: =TRUNC(H106+H107+H108+H109+H110+H111,0) -> #REF! | J105: =TRUNC(J106+J107+J108+J109+J110+J111,0) -> #REF! | L105: =TRUNC(L106+L107+L108+L109+L110+L111,0) -> #REF! | O105: A07
A106: 인조화강석블럭포장 | B106: T60 | C106: 10 | D106: ㎡ | E106: =G106+I106+K106 -> #REF! | F106: =H106+J106+L106 -> #REF! | G106: =#REF! -> #REF! | H106: =TRUNC(G106*C106,0) -> #REF! | I106: =#REF! -> #REF! | J106: =TRUNC(I106*C106,0) -> #REF! | K106: =#REF! -> #REF! | L106: =TRUNC(K106*C106,0) -> #REF! | M106: No.23 | P106: 10 | R106: SAAA4010 | T106: T | BI106: =HYPERLINK("#일위대가목록!A32","SAAA4010 →") -> SAAA4010 →
A107: 포장재설치 | B107: T60, 기존블럭활용 | C107: 46.5 | D107: ㎡ | E107: =G107+I107+K107 -> #REF! | F107: =H107+J107+L107 -> #REF! | G107: =#REF! -> #REF! | H107: =TRUNC(G107*C107,0) -> #REF! | I107: =#REF! -> #REF! | J107: =TRUNC(I107*C107,0) -> #REF! | K107: =#REF! -> #REF! | L107: =TRUNC(K107*C107,0) -> #REF! | M107: No.24 | P107: 15 | R107: SAAA4020 | T107: T | BI107: =HYPERLINK("#일위대가목록!A33","SAAA4020 →") -> SAAA4020 →
A108: 경계석재설치 | B108: 150x150x1000 | C108: 18 | D108: m | E108: =G108+I108+K108 -> #REF! | F108: =H108+J108+L108 -> #REF! | G108: =#REF! -> #REF! | H108: =TRUNC(G108*C108,0) -> #REF! | I108: =#REF! -> #REF! | J108: =TRUNC(I108*C108,0) -> #REF! | K108: =#REF! -> #REF! | L108: =TRUNC(K108*C108,0) -> #REF! | M108: No.25 | P108: 17 | R108: SAAA4030 | T108: T | BI108: =HYPERLINK("#일위대가목록!A34","SAAA4030 →") -> SAAA4030 →
A109: 바닥면고르기 | B109: w1000 | C109: 85.5 | D109: ㎡ | E109: =G109+I109+K109 -> #REF! | F109: =H109+J109+L109 -> #REF! | G109: =#REF! -> #REF! | H109: =TRUNC(G109*C109,0) -> #REF! | I109: =#REF! -> #REF! | J109: =TRUNC(I109*C109,0) -> #REF! | K109: =#REF! -> #REF! | L109: =TRUNC(K109*C109,0) -> #REF! | M109: No.26 | P109: 20 | R109: SAAA4040 | T109: T | BI109: =HYPERLINK("#일위대가목록!A35","SAAA4040 →") -> SAAA4040 →
A110: 맨발길포장 | B110: T100, 황토30%+마사토70% | C110: 127 | D110: ㎡ | E110: =G110+I110+K110 -> #REF! | F110: =H110+J110+L110 -> #REF! | G110: =#REF! -> #REF! | H110: =TRUNC(G110*C110,0) -> #REF! | I110: =#REF! -> #REF! | J110: =TRUNC(I110*C110,0) -> #REF! | K110: =#REF! -> #REF! | L110: =TRUNC(K110*C110,0) -> #REF! | M110: No.27 | P110: 30 | R110: SAAA4050 | T110: T | BI110: =HYPERLINK("#일위대가목록!A36","SAAA4050 →") -> SAAA4050 →
A111: 방부경계목A | B111: Φ100,H400 | C111: 113.5 | D111: m | E111: =G111+I111+K111 -> #REF! | F111: =H111+J111+L111 -> #REF! | G111: =#REF! -> #REF! | H111: =TRUNC(G111*C111,0) -> #REF! | I111: =#REF! -> #REF! | J111: =TRUNC(I111*C111,0) -> #REF! | K111: =#REF! -> #REF! | L111: =TRUNC(K111*C111,0) -> #REF! | M111: No.29 | P111: 50 | R111: SAAA4060 | T111: T | BI111: =HYPERLINK("#일위대가목록!A38","SAAA4060 →") -> SAAA4060 →
A112: 흙막이A | B112: W1000xH500mm | C112: 10 | D112: 경간 | E112: =G112+I112+K112 -> #REF! | F112: =H112+J112+L112 -> #REF! | G112: =TRUNC(#REF!*0,0) -> #REF! | H112: =TRUNC(G112*C112,0) -> #REF! | I112: 0 | K112: 0 | M112: MZTAA3000 | P112: 60 | Q112: * | R112: MZTAA3000 | W112: 관급자재 | BI112: =HYPERLINK("#자재조서!A67","MZTAA3000 →") -> MZTAA3000 →
A113: 흙막이B | B113: W1000xH315mm | C113: 8 | D113: 경간 | E113: =G113+I113+K113 -> #REF! | F113: =H113+J113+L113 -> #REF! | G113: =TRUNC(#REF!*0,0) -> #REF! | H113: =TRUNC(G113*C113,0) -> #REF! | I113: 0 | K113: 0 | M113: MZTAA3100 | P113: 65 | Q113: * | R113: MZTAA3100 | W113: 관급자재 | BI113: =HYPERLINK("#자재조서!A68","MZTAA3100 →") -> MZTAA3100 →
A123: B, 자유공원 | C123: 1 | D123: 식 | F123: =H123+J123+L123 -> #REF! | H123: =TRUNC(H124+H125+H126+H127+H128,0) -> #REF! | J123: =TRUNC(J124+J125+J126+J127+J128,0) -> #REF! | L123: =TRUNC(L124+L125+L126+L127+L128,0) -> #REF! | O123: B001
A124: B-1, 철거공 | C124: 1 | D124: 식 | E124: =G124+I124+K124 -> #REF! | F124: =H124+J124+L124 -> #REF! | G124: =H143 -> #REF! | H124: =TRUNC(G124*C124,0) -> #REF! | I124: =J143 -> #REF! | J124: =TRUNC(I124*C124,0) -> #REF! | K124: =L143 -> #REF! | L124: =TRUNC(K124*C124,0) -> #REF! | P124: 10 | R124: B01 | BI124: =HYPERLINK("#내역서!A105","B01 →") -> B01 →
A125: B-2, 우수공 | C125: 1 | D125: 식 | E125: =G125+I125+K125 -> #REF! | F125: =H125+J125+L125 -> #REF! | G125: =H148 -> #REF! | H125: =TRUNC(G125*C125,0) -> #REF! | I125: =J148 -> #REF! | J125: =TRUNC(I125*C125,0) -> #REF! | K125: =L148 -> #REF! | L125: =TRUNC(K125*C125,0) -> #REF! | P125: 20 | R125: B02 | BI125: =HYPERLINK("#내역서!A112","B02 →") -> B02 →
A126: B-3, 식재공 | C126: 1 | D126: 식 | E126: =G126+I126+K126 -> #REF! | F126: =H126+J126+L126 -> #REF! | G126: =H153 -> #REF! | H126: =TRUNC(G126*C126,0) -> #REF! | I126: =J153 -> #REF! | J126: =TRUNC(I126*C126,0) -> #REF! | K126: =L153 -> #REF! | L126: =TRUNC(K126*C126,0) -> #REF! | P126: 30 | R126: B03 | BI126: =HYPERLINK("#내역서!A119","B03 →") -> B03 →
A127: B-4, 시설공 | C127: 1 | D127: 식 | E127: =G127+I127+K127 -> #REF! | F127: =H127+J127+L127 -> #REF! | G127: =H157 -> #REF! | H127: =TRUNC(G127*C127,0) -> #REF! | I127: =J157 -> #REF! | J127: =TRUNC(I127*C127,0) -> #REF! | K127: =L157 -> #REF! | L127: =TRUNC(K127*C127,0) -> #REF! | P127: 40 | R127: B04 | BI127: =HYPERLINK("#내역서!A125","B04 →") -> B04 →
A128: B-5, 포장공 | C128: 1 | D128: 식 | E128: =G128+I128+K128 -> #REF! | F128: =H128+J128+L128 -> #REF! | G128: =H168 -> #REF! | H128: =TRUNC(G128*C128,0) -> #REF! | I128: =J168 -> #REF! | J128: =TRUNC(I128*C128,0) -> #REF! | K128: =L168 -> #REF! | L128: =TRUNC(K128*C128,0) -> #REF! | P128: 45 | R128: B05 | BI128: =HYPERLINK("#내역서!A136","B05 →") -> B05 →
E142: =G142+I142+K142 -> 0 | F142: =H142+J142+L142 -> 0 | H142: 0 | J142: 0 | L142: 0 | P142: 50 | Q142: *
A143: B-1, 철거공 | C143: 1 | D143: 식 | F143: =H143+J143+L143 -> #REF! | H143: =TRUNC(H144+H145+H146,0) -> #REF! | J143: =TRUNC(J144+J145+J146,0) -> #REF! | L143: =TRUNC(L144+L145+L146,0) -> #REF! | O143: B01
A144: 수목제거(관목) | B144: H0.3~0.7 | C144: 70 | D144: 주 | E144: =G144+I144+K144 -> #REF! | F144: =H144+J144+L144 -> #REF! | G144: =#REF! -> #REF! | H144: =TRUNC(G144*C144,0) -> #REF! | I144: =#REF! -> #REF! | J144: =TRUNC(I144*C144,0) -> #REF! | K144: =#REF! -> #REF! | L144: =TRUNC(K144*C144,0) -> #REF! | M144: No.7 | P144: 10 | R144: SAAA0060 | T144: T | BI144: =HYPERLINK("#일위대가목록!A16","SAAA0060 →") -> SAAA0060 →
A145: 뿌리제거 | B145: R50 | C145: 3 | D145: 주 | E145: =G145+I145+K145 -> #REF! | F145: =H145+J145+L145 -> #REF! | G145: =#REF! -> #REF! | H145: =TRUNC(G145*C145,0) -> #REF! | I145: =#REF! -> #REF! | J145: =TRUNC(I145*C145,0) -> #REF! | K145: =#REF! -> #REF! | L145: =TRUNC(K145*C145,0) -> #REF! | M145: No.8 | P145: 20 | R145: SAAA0070 | T145: T | BI145: =HYPERLINK("#일위대가목록!A17","SAAA0070 →") -> SAAA0070 →
A146: 포장철거 | B146: T60 | C146: 108 | D146: ㎡ | E146: =G146+I146+K146 -> #REF! | F146: =H146+J146+L146 -> #REF! | G146: =#REF! -> #REF! | H146: =TRUNC(G146*C146,0) -> #REF! | I146: =#REF! -> #REF! | J146: =TRUNC(I146*C146,0) -> #REF! | K146: =#REF! -> #REF! | L146: =TRUNC(K146*C146,0) -> #REF! | M146: No.4 | P146: 30 | R146: SAAA0040 | T146: T | BI146: =HYPERLINK("#일위대가목록!A13","SAAA0040 →") -> SAAA0040 →
A148: B-2, 우수공 | C148: 1 | D148: 식 | F148: =H148+J148+L148 -> #REF! | H148: =TRUNC(H149+H150+H151,0) -> #REF! | J148: =TRUNC(J149+J150+J151,0) -> #REF! | L148: =TRUNC(L149+L150+L151,0) -> #REF! | O148: B02
A149: 콘크리트집수정 | B149: 500x500x850 | C149: 1 | D149: 개소 | E149: =G149+I149+K149 -> #REF! | F149: =H149+J149+L149 -> #REF! | G149: =#REF! -> #REF! | H149: =TRUNC(G149*C149,0) -> #REF! | I149: =#REF! -> #REF! | J149: =TRUNC(I149*C149,0) -> #REF! | K149: =#REF! -> #REF! | L149: =TRUNC(K149*C149,0) -> #REF! | M149: No.9 | P149: 10 | R149: SAAA1010 | T149: T | BI149: =HYPERLINK("#일위대가목록!A18","SAAA1010 →") -> SAAA1010 →
A150: 빗물받이 | B150: 410x510x520 | C150: 1 | D150: 개소 | E150: =G150+I150+K150 -> #REF! | F150: =H150+J150+L150 -> #REF! | G150: =#REF! -> #REF! | H150: =TRUNC(G150*C150,0) -> #REF! | I150: =#REF! -> #REF! | J150: =TRUNC(I150*C150,0) -> #REF! | K150: =#REF! -> #REF! | L150: =TRUNC(K150*C150,0) -> #REF! | M150: No.65 | P150: 15 | R150: SXAAG3010 | T150: T | BI150: =HYPERLINK("#일위대가목록!A74","SXAAG3010 →") -> SXAAG3010 →
A151: 우수관 | B151: Φ200 | C151: 13 | D151: m | E151: =G151+I151+K151 -> #REF! | F151: =H151+J151+L151 -> #REF! | G151: =#REF! -> #REF! | H151: =TRUNC(G151*C151,0) -> #REF! | I151: =#REF! -> #REF! | J151: =TRUNC(I151*C151,0) -> #REF! | K151: =#REF! -> #REF! | L151: =TRUNC(K151*C151,0) -> #REF! | M151: No.10 | P151: 20 | R151: SAAA1020 | T151: T | BI151: =HYPERLINK("#일위대가목록!A19","SAAA1020 →") -> SAAA1020 →
A153: B-3, 식재공 | C153: 1 | D153: 식 | F153: =H153+J153+L153 -> #REF! | H153: =TRUNC(H154+H155,0) -> #REF! | J153: =TRUNC(J154+J155,0) -> #REF! | L153: =TRUNC(L154+L155,0) -> #REF! | O153: B03
A154: 수목이식 | B154: B10 | C154: 4 | D154: 주 | E154: =G154+I154+K154 -> #REF! | F154: =H154+J154+L154 -> #REF! | G154: =#REF! -> #REF! | H154: =TRUNC(G154*C154,0) -> #REF! | I154: =#REF! -> #REF! | J154: =TRUNC(I154*C154,0) -> #REF! | K154: =#REF! -> #REF! | L154: =TRUNC(K154*C154,0) -> #REF! | M154: No.12 | P154: 10 | R154: SAAA2010 | T154: T | BI154: =HYPERLINK("#일위대가목록!A21","SAAA2010 →") -> SAAA2010 →
A155: 자산홍 | B155: H0.3xW0.3 | C155: 0 | D155: 주 | E155: =G155+I155+K155 -> #REF! | F155: =H155+J155+L155 -> #REF! | G155: =#REF! -> #REF! | H155: =TRUNC(G155*C155,0) -> #REF! | I155: =#REF! -> #REF! | J155: =TRUNC(I155*C155,0) -> #REF! | K155: =#REF! -> #REF! | L155: =TRUNC(K155*C155,0) -> #REF! | M155: No.13 | P155: 20 | R155: SAAA2020 | T155: T | BI155: =HYPERLINK("#일위대가목록!A22","SAAA2020 →") -> SAAA2020 →
A157: B-4, 시설공 | C157: 1 | D157: 식 | F157: =H157+J157+L157 -> #REF! | H157: =TRUNC(H158+H159+H160+H164,0) -> #REF! | J157: =TRUNC(J158+J159+J160+J164,0) -> #REF! | L157: =TRUNC(L158+L159+L160+L164,0) -> #REF! | O157: B04
A158: 세족장 | B158: 2200x1350xH850 | C158: 1 | D158: 개소 | E158: =G158+I158+K158 -> #REF! | F158: =H158+J158+L158 -> #REF! | G158: =#REF! -> #REF! | H158: =TRUNC(G158*C158,0) -> #REF! | I158: 0 | K158: 0 | M158: MZTAA2687 | P158: 10 | R158: MZTAA2687 | BI158: =HYPERLINK("#자재조서!A51","MZTAA2687 →") -> MZTAA2687 →
A159: 신발장 | B159: 2000x1000xH1200 | C159: 1 | D159: 개소 | E159: =G159+I159+K159 -> #REF! | F159: =H159+J159+L159 -> #REF! | G159: =#REF! -> #REF! | H159: =TRUNC(G159*C159,0) -> #REF! | I159: 0 | K159: 0 | M159: MZTAA2700 | P159: 20 | R159: MZTAA2700 | BI159: =HYPERLINK("#자재조서!A52","MZTAA2700 →") -> MZTAA2700 →
A160: 플랜터D | B160: H450 | C160: 12 | D160: m | E160: =G160+I160+K160 -> #REF! | F160: =H160+J160+L160 -> #REF! | G160: =#REF! -> #REF! | H160: =TRUNC(G160*C160,0) -> #REF! | I160: =#REF! -> #REF! | J160: =TRUNC(I160*C160,0) -> #REF! | K160: =#REF! -> #REF! | L160: =TRUNC(K160*C160,0) -> #REF! | M160: No.18 | P160: 25 | R160: SAAA3045 | T160: T | BI160: =HYPERLINK("#일위대가목록!A27","SAAA3045 →") -> SAAA3045 →
A161: 등의자 | B161: 1600x580x700 | C161: 0 | D161: 개소 | E161: =G161+I161+K161 -> #REF! | F161: =H161+J161+L161 -> #REF! | G161: =TRUNC(#REF!*0,0) -> #REF! | H161: =TRUNC(G161*C161,0) -> #REF! | I161: 0 | K161: 0 | M161: MZTAA2840 | P161: 30 | Q161: * | R161: MZTAA2840 | W161: 관급자재 | BI161: =HYPERLINK("#자재조서!A61","MZTAA2840 →") -> MZTAA2840 →
A162: 종합안내판B | B162: 860x2150 | C162: 0 | D162: 개소 | E162: =G162+I162+K162 -> #REF! | F162: =H162+J162+L162 -> #REF! | G162: =#REF! -> #REF! | H162: =TRUNC(G162*C162,0) -> #REF! | I162: 0 | K162: 0 | M162: MZTAA2720 | P162: 40 | Q162: * | R162: MZTAA2720 | BI162: =HYPERLINK("#자재조서!A53","MZTAA2720 →") -> MZTAA2720 →
...

Sheet 자재
A1: 자재
A2: 명 칭 | B2: 규 격 | C2: 단 위 | D2: 단 가 | E2: 비 고
A3: 셋트앙카 | B3: M12xL100,스테인리스 | C3: ea | D3: =#REF! -> #REF! | E3: 거가/93/ | G3: M-BB-0090
A4: 시멘트 | B4: 40kg | C4: kg | D4: =#REF! -> #REF! | E4: 물자/65/ | G4: M-CA060
A5: 쇄석자갈 | B5: 25mm | C5: ㎥ | D5: =#REF! -> #REF! | E5: 물자/62/ | G5: M-CA070
A6: 지수밸브(소프트실) | B6: 15A | C6: EA | D6: =#REF! -> #REF! | E6: 가정/826/ | G6: M0000009
A7: 각 재 | B7: 외송 | C7: ㎥ | D7: =#REF! -> #REF! | E7: 거가/149/ | G7: M0882503 | H7: M0882503
A8: 내수합판 | B8: 12×1220×2440㎜ (1급T-I) | C8: ㎡ | D8: =#REF! -> #REF! | E8: 물자/670/물자1 P681 | G8: M4332041 | H8: M4332041
A9: 오일스테인 (페인트) | B9: 1종2급 황색 18ℓ=25㎏ | C9: ㎏ | D9: =#REF! -> #REF! | E9: 물자/590/ | G9: MA-PA-OS12H
A10: 퍼티 | B10: 외부용 18ℓ=25㎏ | C10: ㎏ | D10: =#REF! -> #REF! | E10: 물자/598/ | G10: MA-PA-PT-O
A11: STS BALL VALVE(S) | B11: 25A | C11: EA | D11: =#REF! -> #REF! | E11: 물자/850/ | G11: MAR0193
A12: VALVE BOX (CAP포함) | C12: SET | D12: =#REF! -> #REF! | E12: 물자/346/ | G12: MAR0479
A13: VALVE KEY | C13: EA | D13: =#REF! -> #REF! | E13: 물자/346/ | G13: MAR0480
A14: STS PIPE(SCH10) | B14: 15Ax2t | C14: M | D14: =#REF! -> #REF! | E14: 가정/744/ | G14: MAR0501
A15: STS PIPE(SCH10) | B15: 25Ax2.8t | C15: M | D15: =#REF! -> #REF! | E15: 물자/744/ | G15: MAR0503
A16: ARGON GAS | B16: 7000L | C16: ℓ | D16: =#REF! -> #REF! | E16: 물정/1430/ | G16: MAR0537
A17: 용접봉 | B17: D3.2 | C17: KG | D17: =#REF! -> #REF! | E17: 물정/1041/ | G17: MAR0541
A18: STS ELBOW | B18: 25A | C18: EA | D18: =#REF! -> #REF! | E18: 물정/699/ | G18: MAR0553
A19: STS TEE | B19: 15x15A | C19: EA | D19: =#REF! -> #REF! | E19: 물정/699/ | G19: MAR0571
A20: STS TEE | B20: 25x25A | C20: EA | D20: =#REF! -> #REF! | E20: 물정/699/ | G20: MAR0573
A21: STS NIPPLE | B21: 15A,SCREW | C21: EA | D21: =#REF! -> #REF! | E21: 가정/749/ | G21: MAR0784
A22: STS NIPPLE | B22: 25A,SCREW | C22: EA | D22: =#REF! -> #REF! | E22: 물정/705/ | G22: MAR0786
A23: STS 지수밸브(소프트실) | B23: 25A | C23: EA | D23: =#REF! -> #REF! | E23: 물자/826/ | G23: MAR0787
A24: 가교발포폴리에틸렌보온재 | B24: 25A*25T | C24: m | D24: =#REF! -> #REF! | E24: 물정/925/ | G24: MAR3002
A25: 인조화강석블럭 | B25: T60 | C25: ㎡ | D25: =#REF! -> #REF! | E25: 물자/150/ | G25: MPLC2110
... A31: 쇄석자갈 | B31: 25mm | C31: ㎥ | D31: =#REF! -> #REF! | E31: 물자/62/ | G31: MST0021
A32: 모래 | C32: ㎥ | D32: =#REF! -> #REF! | E32: 물자/62/ | G32: MST0030
A33: 혼합골재 | B33: 40mm이하 보조기층 | C33: ㎥ | D33: =#REF! -> #REF! | E33: 물자/62/ | G33: MST0040
A34: 시너 | B34: 오일스테인용 | C34: ℓ | D34: =#REF! -> #REF! | E34: 거가/620/ | G34: MU-2006
A35: 빗물받이 | B35: 410x510xH520, 침사조+앵글+그레이팅 | C35: 조 | D35: =#REF! -> #REF! | E35: 거가/220/ | G35: MWZA0012
A36: 콘크리트집수정 | B36: 500x500x850 | C36: 개소 | D36: =#REF! -> #REF! | E36: 거가/223/ | G36: MWZA0090
A37: 스틸그레이팅 | B37: 600x600, 앵글포함 | C37: 본 | D37: =#REF! -> #REF! | E37: 물자/181/ | G37: MWZA0100
A38: 우수관 | B38: Φ200,이중벽관, 소켓+고무링 | C38: m | D38: =#REF! -> #REF! | E38: 거가/795/ | G38: MZSSD0260
A39: 부직포 | B39: 200g | C39: ㎡ | D39: =#REF! -> #REF! | E39: 물자/296/ | G39: MZSSD1260
A40: 컨츄리가든블록(표준) | B40: H150 | C40: ㎡ | D40: =#REF! -> #REF! | E40: 거가/364/ | G40: MZTAA2180
A41: 컨츄리가든블록(캡) | B41: H75 | C41: ea | D41: =#REF! -> #REF! | E41: 물자/240/ | G41: MZTAA2190
A42: 연결핀 | B42: Φ17.5x100 | C42: ea | D42: =#REF! -> #REF! | E42: 물자/241/ | G42: MZTAA2200
A43: 에폭시본드 | B43: 개당/5m사용 | C43: 개 | D43: =#REF! -> #REF! | E43: 물정/107/ | G43: MZTAA2210
A44: ㄱ앵글 | B44: 50x50x50 | C44: ea | D44: =#REF! -> #REF! | E44: 물자/52/ | G44: MZTAA2210-1
... A46: 멀바우 | B46: 가공목재 | C46: ㎥ | D46: =#REF! -> #REF! | E46: 물자/102/ | G46: MZTAA2210-3
A47: 치즐 | C47: 개 | D47: =#REF! -> #REF! | E47: 거가/1273/ | G47: MZTAA2220
A48: 황토포장 | B48: 황토30%+마사토70% | C48: ㎡ | D48: =#REF! -> #REF! | E48: 물자/137/ | G48: MZTAA2611
A49: 황토포장 | B49: 황토100% | C49: ㎡ | D49: =#REF! -> #REF! | E49: 물자/137/ | G49: MZTAA2612
A50: 세족장 | B50: 2200x1350xH850 | C50: 개소 | D50: =#REF! -> #REF! | E50: 견단/어반스케이프/ | G50: MZTAA2687
A51: 신발장 | B51: 1450x400x1120 | C51: 개소 | D51: =#REF! -> #REF! | E51: 견단/어반스케이프/ | G51: MZTAA2700
A52: 종합안내판B | B52: 860x2150 | C52: 개소 | D52: =#REF! -> #REF! | E52: 가정/23274278/ | G52: MZTAA2720
A53: 주의안내판B | B53: 450x900 | C53: 개소 | D53: =#REF! -> #REF! | E53: 가정/23274283/ | G53: MZTAA2730
A54: 삼발이 | B54: D40x1500x3,방부활생목 | C54: 개소 | D54: =#REF! -> #REF! | E54: 물자/326/ | G54: MZTAA2790
A55: 그레이팅(날개형) | B55: 185x995 | C55: 개소 | D55: =#REF! -> #REF! | E55: 물자/184/ | G55: MZTAA2800
A56: 로프휀스 | B56: W1500xH1000 | C56: 경간 | D56: =#REF! -> #REF! | E56: 가정/25446069/ | G56: MZTAA2810
A57: 원형목(방부목) | B57: 3600x200x200미만 | C57: ㎥ | D57: =#REF! -> #REF! | E57: 물자/104/ | G57: MZTAA2820
A58: 자산홍 | B58: H0.3xW0.3 | C58: 주 | D58: =#REF! -> #REF! | E58: 가정/200/ | G58: MZTAA2820-1
A59: 전산볼트 | B59: STS, M10 | C59: m | D59: =#REF! -> #REF! | E59: 물자/46/ | G59: MZTAA2830
... A67: 흙막이B | B67: W1000xH315mm | C67: 경간 | D67: =#REF! -> #REF! | E67: 가정/25573123/ | G67: MZTAA3100

Sheet 전역변수
A1: 전역변수
A2: 변 수 명 | B2: 형 식 | C2: 값 | D2: 비 고 | E2: 적용단위
A3: A | B3: 숫자 | C3: 75 | D3: 어스앵커 공수
A4: A11 | B4: 숫자 | C4: 50 | D4: 야간기본노임 | E4: %
A5: A21 | B5: 숫자 | C5: 20 | D5: 작업능률저하 | E5: %
A6: A31 | B6: 숫자 | C6: 0 | D6: 8시간,휴전할증 | E6: %
A7: A33 | B7: 숫자 | C7: 30 | D7: 3시간,휴전할증 | E7: %
A8: BS01 | B8: 숫자 | C8: 59 | D8: 병렬터널할증 | E8: %
A9: BS02 | B9: 숫자 | C9: 100 | D9: 병렬터널 할증 (일방향) | E9: %
A10: BTR | B10: 숫자 | C10: 100 | D10: 하반할증 | E10: %
A11: CPI | B11: 숫자 | C11: 4.99 | D11: 소비자물가변동율 | E11: %
A12: GB01 | B12: 숫자 | C12: 74 | D12: 볼트손율(24개월조임철물적용) | E12: %
A13: GBO2 | B13: 숫자 | C13: 56 | D13: 잭손율(24개월받침철물적용) | E13: %
A14: HPN3 | B14: 숫자 | C14: 8.03 | D14: H-형강손료 | E14: %
A15: JANG_D | B15: 숫자 | C15: 80.2 | D15: 동시굴착 범위 (복선) | E15: %
... A20: PHH1 | B20: 숫자 | C20: 1 | D20: 로드헤드운전원 | E20: 인
A21: R | B21: 숫자 | C21: 1.0386 | D21: 장대터널할증
A22: SPN3 | B22: 숫자 | C22: 9.51 | D22: S-파일손료 | E22: %
A23: TBL2 | B23: 숫자 | C23: 100 | D23: 2Arch터널노임(일방향) | E23: %
A24: ZT00010 | B24: 숫자 | C24: 100 | D24: 낙찰율 | E24: %
A25: ZT605010 | B25: 숫자 | C25: 65 | D25: 본선터널 병렬터널 할증 | E25: %
A26: ZT605020 | B26: 숫자 | C26: 100 | D26: 램프터널 병렬터널 항증 | E26: %

Sheet 중기전역변수
A1: 중기전역변수
A2: 변 수 명 | B2: 형 식 | C2: 값 | D2: 비 고
A3: QCODE | B3: 문자 | C3: 100000000001
A4: QUS2WON | B4: 숫자 | C4: 1180 | D4: 환율(장비가격10만불이하)
A5: QUS2WON1 | B5: 숫자 | C5: 1180 | D5: 환율(장비가격10만불이상)
A6: QYEN2WON | B6: 숫자 | C6: 13.2 | D6: 환율(엔화)
A7: QDM2WON | B7: 숫자 | C7: 724.05 | D7: 환율(마르크화)
A8: QSDR2WON | B8: 숫자 | C8: 1000 | D8: 환율(IMF특별인출권)
A9: QECU2WON | B9: 숫자 | C9: 1580 | D9: 환율(유로화)
A10: QEQTY1 | B10: 문자 | C10: (SANG + JUNG + KWAN)*10^-4 | D10: 중기주간경비산출계수
A11: QEQTY2 | B11: 문자 | C11: (SANG + JUNG + KWAN)*10^-4 | D11: 중기야간경비산출계수
A12: QEQTY3 | B12: 문자 | C12: (SANG + JUNG + int(KWAN/3))*10^-4 | D12: 중기주야간경비산출계수
A13: QEINC2 | B13: 숫자 | C13: 1.25 | D13: 중기야간할증계수
A14: QEINC3 | B14: 숫자 | C14: 1.071 | D14: 중기주야간할증계수
A15: QDECPEQ | B15: 문자 | C15: 0 | D15: 경비단가소숫점
A16: QDECCEQ | B16: 문자 | C16: 0 | D16: 경비금액소숫점
A17: QDECEQ | B17: 문자 | C17: 0 | D17: 경비계금액소숫점
A18: QH1 | B18: 문자 | C18: =25/20 * 16/12 * 1/8 -> 0.20833333 | D18: 시간당노임산출계수(일반구간)
A19: QH2 | B19: 문자 | C19: =25/20 * 16/12 * 1/8 -> 0.20833333 | D19: 시간당노임산출계수(터널구간)
A20: QH21 | B20: 문자 | C20: =25/20 * 16/12 * 1/8 -> 0.20833333 | D20: 시간당노임산출계수(장대터널)
A21: QH31 | B21: 문자 | C21: =25/20 * 16/12 * 1/8 -> 0.20833333 | D21: 시간당노임산출계수(해상장비:펌프준설선)
A22: QH32 | B22: 문자 | C22: =25/20 * 16/12 * 1/8 -> 0.20833333 | D22: 시간당노임산출계수(해상장비:GRAB준설선)
A23: QH33 | B23: 문자 | C23: =25/20 * 16/12 * 1/8 -> 0.20833333 | D23: 시간당노임산출계수(해상장비:버켓준설선)
A24: QLINC1 | B24: 숫자 | C24: 1 | D24: 노임할증계수(일반구간:주간)
A25: QLINC2 | B25: 숫자 | C25: 1.5 | D25: 노임할증계수(일반구간:야간)
A26: QLINC3 | B26: 숫자 | C26: 1.16 | D26: 노임할증계수(일반구간:주야간)
A27: QLINCA | B27: 숫자 | C27: 1.6 | D27: 노임할증계수(터널구간:주간)
A28: QLINCB | B28: 숫자 | C28: 1.6 | D28: 노임할증계수(터널구간:야간)
A29: QLINCC | B29: 숫자 | C29: 1.6 | D29: 노임할증계수(터널구간:주야간)
A30: QLINCD | B30: 숫자 | C30: 1.94 | D30: 노임할증계수(장대터널:주간)
A31: QLINCE | B31: 숫자 | C31: 1.94 | D31: 노임할증계수(장대터널:야간)
A32: QLINCF | B32: 숫자 | C32: 1.94 | D32: 노임할증계수(장대터널:주야간)
A33: QLINCX | B33: 숫자 | C33: 1 | D33: 노임할증계수(해상장비:주간)
A34: QLINCY | B34: 숫자 | C34: 1 | D34: 노임할증계수(해상장비:야간)
A35: QLINCZ | B35: 숫자 | C35: 1 | D35: 노임할증계수(해상장비:주야간)
A36: QDECPLA | B36: 문자 | C36: 0 | D36: 노임단가소숫점
A37: QDECCLA | B37: 문자 | C37: 0 | D37: 노임금액소숫점
A38: QDECLA | B38: 문자 | C38: 0 | D38: 노임계금액소숫점
A39: QMINC2 | B39: 숫자 | C39: 1.11 | D39: 재료비할증계수(야간)
A40: QMINC3 | B40: 숫자 | C40: 1.12 | D40: 재료비할증계수(주야간)
A41: QDECPMA | B41: 문자 | C41: 2 | D41: 재료비단가소숫점
A42: QDECCMA | B42: 문자 | C42: 2 | D42: 재료비금액소숫점
A43: QDECMA | B43: 문자 | C43: 2 | D43: 재료비계금액소숫점
A44: QVER | B44: 문자 | C44: 0
A45: QSABUN | B45: 문자
A46: QDATE | B46: 문자
A47: QUS2WON2 | B47: 숫자 | C47: 1180 | D47: 환율(사용자 환율1)
A48: QUS2WON3 | B48: 숫자 | C48: 1180 | D48: 환율(사용자 환율2)
A49: QOPtimeDecCnt | B49: 문자 | C49: 7
A50: QOPtimeDecOp | B50: 문자 | C50: 0
