Workbook

Sheet 설계설명서
A1: 1. 사업명
B2: - | C2: 운곡공원 등 2개소 맨발산책길 조성공사
A4: 2. 사업의 목적
B5: - | C5: 공원을 정비하여 시민들에게 힐링할 수 있는 공간을 제공하고 시민 건강증진에 기여
A7: 3. 사업의 위치 및 범위
B8: 1) | C8: 위치: 운곡공원(비산동 249-6번지), 자유공원(호계동 1113-2번지)
B9: 2) | C9: 사업년도 : 2025년
A11: 4. 공 사 기 간
B12: 본 공사는 착공일로부터 50일로 한다.
A14: 5. 설계변경조건
B15: 1) | C15: 본 공사는 설계당시 수집된 자료에 의하여 설계한 것인바 조사가 불가능한 부분 및 조사후 변경된 사항에 대해서는 시공시 실정에 맞추어 변경
B16: 2) | C16: 골재원 및 토취장의 위치 및 운반거리등이 변경될 경우
B17: 3) | C17: 연평균 강우일보다 많은 강우일로 인하여 공사진행에 현저한 지장을 주거나 관급자재의 공급지연으로 공사에 지장을 주었다고 인정될 경우에는 상당하는
C18: 기일 만큼 연기 할 수 있다
B19: 4) | C19: 공법이 변경될 경우
B20: 5) | C20: 천재지변으로 인하여 설계변경이 불가피한 경우
B21: 6) | C21: 본 공사 시공중 관의 형편상 설계변경이 불가피한 경우

Sheet 원가계산서
A1: 공 사 비 원 가 계 산 서
A2: =#REF! -> #REF! | J2: (공사기간 : 50일)
A3: 비목 | C3: 구분 | E3: 산출근거 | I3: 금 액 | J3: 비고
B4: 재료비 | C4: A1 | D4: 직접재료비
C5: A2 | D5: 간접재료비
C6: A | D6: 소계 | J6: (A1+A2)
B7: 노무비 | C7: B1 | D7: 직접노무비
C8: B2 | D8: 간접노무비 | F8: * | G8: 16.2 | H8: % | J8: (B1)*16.2%
C9: B | D9: 소계 | J9: (B1+B2)
B10: 경비 | C10: C1 | D10: 직접경비
C11: C | D11: 소계 | J11: (C1)
C12: D1 | D12: 산재보험료 | F12: * | G12: 3.56 | H12: % | J12: (B)*3.56%
C13: D2 | D13: 고용보험료 | F13: * | G13: 1.01 | H13: % | J13: (B)*1.01% | L13: =E13*G13/100 -> 0
C14: D3 | D14: 건강보험료 | F14: * | G14: 3.545 | H14: % | J14: (B1)*3.545%
C15: D4 | D15: 노인장기요양보험료 | F15: * | G15: 12.95 | H15: % | J15: (D3)*12.95%
C16: D5 | D16: 연금보험료 | F16: * | G16: 4.5 | H16: % | J16: (B1)*4.5%
C17: D6 | D17: 퇴직공제부금 | F17: * | G17: 2.3 | H17: % | J17: (B1)*2.3%
C18: D7 | D18: 산업안전보건관리비 | F18: * | G18: 2.07 | H18: % | J18: (A+B1)*2.07
C19: D8 | D19: 기타경비 | F19: * | G19: 4.6 | H19: % | J19: (A+B)*4.6% | L19: =E19*G19/100 -> 0
C20: D9 | D20: 환경보전비 | F20: * | G20: 0.3 | H20: % | J20: (A1+B1+C)*0.3%
C21: D10 | D21: 건설기계대여대금 지급보증액 발급금액 | F21: * | G21: 0.16 | H21: % | J21: (A1+B1+C)*0.16%
C22: D11 | D22: 안전관리비
C23: D | D23: 소 계 | J23: (D1+D2+~+D10+D11)
A24: E. 합 계 | J24: (A+B+C+D) | L24: =#REF!+#REF!+#REF! -> #REF!
A25: F. 일반관리비 | F25: * | G25: 8 | H25: % | J25: (E)*8.0% | L25: =#REF!*4.7% -> #REF!
A26: G. 이 윤 | F26: * | G26: 15 | H26: % | J26: (B+C+D+F)*15.0%이내 | L26: =E26*G26% -> 0
A27: H.총원가 | J27: (E+F+G)
A28: I. 폐기물처리비
A29: J. 공급가액 | J29: (H+I)
A30: K. 부가가치세 | F30: * | G30: 10 | H30: % | J30: (J)*10.0% | L30: =#REF!+#REF! -> #REF!
A31: L. 도급공사비 | J31: (J+K)
A32: M. 관급자 관급자재대
A33: N. 총공사비 | J33: (L+M)

Sheet 내역서
A1: 내역서
A2: 공 종 명 | B2: 규 격 | C2: 수량 | D2: 단위 | E2: 합 계 | G2: 재 료 비 | I2: 노 무 비 | K2: 경 비 | M2: 비 고
E3: 단 가 | F3: 금 액 | G3: 단 가 | H3: 금 액 | I3: 단 가 | J3: 금 액 | K3: 단 가 | L3: 금 액 | S3: 할 증 | T3: 화폐변환 | U3: OP값 | V3: EQ | W3: LA | X3: MA | Y3: 금액계상
A4: ■ 운곡공원 등 2개소 맨발산책길 조성공사 | C4: 1 | D4: 식 | O4: A00001
A5: a, 순공사비 | C5: 1 | D5: 식 | P5: 10 | R5: A0001 | AA5: MA+ = | AB5: =내역서!H5 -> 0 | AC5: MA = | AD5: =$AB5 -> 0 | BI5: =HYPERLINK("#내역서!A31","A0001 →") -> A0001 →
A6: 직 접 공 사 비 | C6: 1 | D6: 식 | P6: 20 | Q6: * | R6: F | X6: MA = MA(1, -1,10) _x000D_ LA = LA(1, -1,10) _x000D_ EQ = EQ(1, -1,10) _x000D_ | AA6: LA+ = | AB6: =내역서!J6*16.2/100 -> 0 | AC6: LA = | AD6: =$AB6 -> 0
A7: 간 접 노 무 비 | B7: 직접노무비의 16.2% | C7: 1 | D7: 식 | N7: ZZA000200000 | P7: 30 | R7: F-FUZZA000200000 | X7: LA = LA(20) * 16.2/100_x000D_ | AA7: EQ+ = | AB7: =(내역서!J6+내역서!J7)*3.56/100 -> 0 | AC7: EQ = | AD7: =$AB7 -> 0
A8: 산 재 보 험 료 | B8: 노무비의 3.56% | C8: 1 | D8: 식 | N8: ZZB110100000 | P8: 40 | R8: F-FUZZB110100000 | X8: EQ = ( LA(20) + LA(30) ) * 3.56/100_x000D_ | AA8: EQ+ = | AB8: =(내역서!J6+내역서!J7)*1.01/100 -> 0 | AC8: EQ = | AD8: =$AB8 -> 0
A9: 고 용 보 험 료 | B9: 노무비의 1.01% | C9: 1 | D9: 식 | N9: ZZB120100000 | P9: 50 | R9: F-FUZZB120100000 | X9: EQ = ( LA(20) + LA(30) ) * 1.01/100_x000D_ | AA9: EQ+ = | AB9: =내역서!J6*3.545/100 -> 0 | AC9: EQ = | AD9: =$AB9 -> 0
A10: 건 강 보 험 료 | B10: 직접노무비의 3.545% | C10: 1 | D10: 식 | N10: ZZB130100000 | P10: 60 | R10: F-FUZZB130100000 | X10: EQ = LA(20) * 3.545/100_x000D_ | AA10: EQ+ = | AB10: =내역서!L10*12.95/100 -> 0 | AC10: EQ = | AD10: =$AB10 -> 0
A11: 노인장기요양보험료 | B11: 건강보험료의 12.95% | C11: 1 | D11: 식 | N11: ZZB130200000 | P11: 70 | R11: F-FUZZB130200000 | X11: EQ = EQ(60) * 12.95/100_x000D_ | AA11: EQ+ = | AB11: =내역서!J6*4.5/100 -> 0 | AC11: EQ = | AD11: =$AB11 -> 0
A12: 연 금 보 험 료 | B12: 직접노무비의 4.5% | C12: 1 | D12: 식 | N12: ZZB140100000 | P12: 80 | R12: F-FUZZB140100000 | X12: EQ = LA(20) * 4.5/100_x000D_ | AA12: EQ+ = | AB12: =내역서!J6*2.3/100 -> 0 | AC12: EQ = | AD12: =$AB12 -> 0
A13: 퇴 직 공 제 부 금 | B13: 직접노무비의 2.3% | C13: 1 | D13: 식 | N13: ZZB200100000 | P13: 90 | R13: F-FUZZB200100000 | X13: EQ = LA(20) * 2.3/100_x000D_ | AA13: EQ+ = | AB13: =(내역서!H6+내역서!J6)*2.07/100 -> 0 | AC13: EQ = | AD13: =$AB13 -> 0
A14: 산업안전보건관리비 | B14: (재료+직노)*2.07 | C14: 1 | D14: 식 | P14: 100 | R14: F-FUZZB300100001 | X14: EQ = ( MA(20) + LA(20) ) * 2.07/100_x000D_ | AA14: EQ+ = | AB14: =(내역서!H6+내역서!J6+내역서!J7)*4.6/100 -> 0 | AC14: EQ = | AD14: =$AB14 -> 0
A15: 기 타 경 비 | B15: 재료비,노무비의 4.6% | C15: 1 | D15: 식 | N15: ZZB400100000 | P15: 110 | R15: F-FUZZB400100000 | X15: EQ = ( MA(20) + LA(20) + LA(30) ) * 4.6/100_x000D_ | AA15: EQ+ = | AB15: =(내역서!H6+내역서!J6+내역서!L6)*0.3/100 -> 0 | AC15: EQ = | AD15: =$AB15 -> 0
A16: 환 경 보 전 비 | B16: 직접재료비,직접노무비,경비의 0.3% | C16: 1 | D16: 식 | N16: ZZB700100000 | P16: 120 | R16: F-FUZZB700100000 | X16: EQ = ( MA(20) + LA(20) + EQ(20) ) * 0.3/100_x000D_ | AA16: EQ+ = | AB16: =(내역서!H6+내역서!J6+내역서!L6)*0.16/100 -> 0 | AC16: EQ = | AD16: =$AB16 -> 0
A17: 건설기계대여대금 지급보증액 발급금액 | B17: 직접재료비,직접노무비,경비의 0.16% | C17: 1 | D17: 식 | P17: 130 | R17: F | X17: EQ = ( MA(20) + LA(20) + EQ(20) ) * 0.16/100
A18: C-1. 안전관리비 | C18: 1 | D18: 식 | P18: 150 | R18: C01 | AA18: EQ+ = | AB18: =(내역서!H6+내역서!J6+내역서!J7+내역서!L6+내역서!L8+내역서!L9+내역서!L10+내역서!L11+내역서!L12+내역서!L13+내역서!L14+내역서!L15+내역서!L16+내역서!L17+내역서!L18)*8/100 -> 0 | AC18: EQ = | AD18: =$AB18 -> 0 | BI18: =HYPERLINK("#내역서!A148","C01 →") -> C01 →
A19: 일 반 관 리 비 | B19: 순공사원가의 8% | C19: 1 | D19: 식 | N19: ZZC000100000 | P19: 160 | R19: F-FUZZC000100000 | X19: EQ = ( MA(20) + LA(20) + LA(30) + EQ(20) + EQ(40) + EQ(50) + EQ(60) + EQ(70) + EQ(80) + EQ(90) + EQ(100) + EQ(110) + EQ(120) + EQ(130) + EQ(150) ) * 8/100_x000D_ | AA19: EQ+ = | AB19: =(내역서!J6+내역서!J7+내역서!L6+내역서!L8+내역서!L9+내역서!L10+내역서!L11+내역서!L12+내역서!L13+내역서!L14+내역서!L15+내역서!L16+내역서!L17+내역서!L18+내역서!L19)*11/100-(574940/1.1)-9091-7296/1.1 -> -538396.45 | AC19: EQ = | AD19: =$AB19 -> -538396.45
A20: 이 윤 | B20: 노무비,경비,일반관리비의 15% | C20: 1 | D20: 식 | N20: ZZD000100000 | P20: 170 | R20: F-FUZZD000100000 | X20: EQ = ( LA(20) + LA(30) + EQ(20) + EQ(40) + EQ(50) + EQ(60) + EQ(70) + EQ(80) + EQ(90) + EQ(100) + EQ(110) + EQ(120) + EQ(130) + EQ(150) + EQ(160) ) * 11/100-(574940/1.1)-9091-7296/1.1_x000D_ | AA20: EQ+ = | AB20: =내역서!H6+내역서!J6+내역서!J7+내역서!L6+내역서!L8+내역서!L9+내역서!L10+내역서!L11+내역서!L12+내역서!L13+내역서!L14+내역서!L15+내역서!L16+내역서!L17+내역서!L18+내역서!L19+내역서!L20 -> 0 | AC20: EQ = | AD20: =$AB20 -> 0
A21: 총 원 가 | C21: 1 | D21: 식 | N21: * | P21: 180 | Q21: * | R21: F-FU* | X21: EQ = MA(20) + LA(20) + LA(30) + EQ(20) + EQ(40) + EQ(50) + EQ(60) + EQ(70) + EQ(80) + EQ(90) + EQ(100) + EQ(110) + EQ(120) + EQ(130) + EQ(150) + EQ(160) + EQ(170)_x000D_
A22: C-2. 폐기물처리공 | C22: 1 | D22: 식 | P22: 190 | R22: C03 | AA22: EQ+ = | AB22: =(내역서!H21+내역서!J21+내역서!L21)+(내역서!H22+내역서!J22+내역서!L22) -> 0 | AC22: EQ = | AD22: =$AB22 -> 0 | BI22: =HYPERLINK("#내역서!A154","C03 →") -> C03 →
A23: 공 급 가 액 | C23: 1 | D23: 식 | P23: 200 | Q23: * | R23: F | X23: eq=tot(180)+tot(190)_x000D_ | AA23: EQ+ = | AB23: =내역서!L23*10/100-1 -> -1 | AC23: EQ = | AD23: =$AB23 -> -1
A24: 부 가 가 치 세 | B24: 총원가의 10% | C24: 1 | D24: 식 | N24: ZZF000100000 | P24: 210 | R24: F-FUZZF000100000 | X24: EQ = EQ(200) * 10/100 -1_x000D_ | AA24: EQ+ = | AB24: =(내역서!H23+내역서!J23+내역서!L23)+(내역서!H24+내역서!J24+내역서!L24) -> 0 | AC24: EQ = | AD24: =$AB24 -> 0
A25: 도 급 공 사 비 | C25: 1 | D25: 식 | P25: 220 | Q25: * | R25: F | X25: eq=tot(200)+tot(210)_x000D_
A26: 관급자관급자재대 | C26: 1 | D26: 식 | P26: 230 | R26: D01 | AA26: EQ+ = | AB26: =(내역서!H25+내역서!J25+내역서!L25)+(내역서!H26+내역서!J26+내역서!L26) -> 0 | AC26: EQ = | AD26: =$AB26 -> 0 | BI26: =HYPERLINK("#내역서!A170","D01 →") -> D01 →
A27: 총 공 사 비 | C27: 1 | D27: 식 | N27: * | P27: 240 | Q27: * | R27: F-FU* | X27: EQ = tot(220) + tot(230)_x000D_
A28: a, 순공사비 | C28: 1 | D28: 식 | O28: A0001
A29: A, 운곡공원 | C29: 1 | D29: 식 | P29: 10 | R29: A001 | BI29: =HYPERLINK("#내역서!A37","A001 →") -> A001 →
A30: B, 자유공원 | C30: 1 | D30: 식 | P30: 20 | R30: B001 | BI30: =HYPERLINK("#내역서!A96","B001 →") -> B001 →
E31: =G31+I31+K31 -> 0 | F31: =H31+J31+L31 -> 0 | H31: 0 | J31: 0 | L31: 0 | P31: 30 | Q31: *
E32: =G32+I32+K32 -> 0 | F32: =H32+J32+L32 -> 0 | H32: 0 | J32: 0 | L32: 0 | P32: 40 | Q32: S
A53: A, 운곡공원 | C53: 1 | D53: 식 | F53: =H53+J53+L53 -> #REF! | H53: =TRUNC(H54+H55+H56+H57+H58,0) -> #REF! | J53: =TRUNC(J54+J55+J56+J57+J58,0) -> #REF! | L53: =TRUNC(L54+L55+L56+L57+L58,0) -> #REF! | O53: A001
A54: A-1. 철거공 | C54: 1 | D54: 식 | E54: =G54+I54+K54 -> #REF! | F54: =H54+J54+L54 -> #REF! | G54: =H75 -> #REF! | H54: =TRUNC(G54*C54,0) -> #REF! | I54: =J75 -> #REF! | J54: =TRUNC(I54*C54,0) -> #REF! | K54: =L75 -> #REF! | L54: =TRUNC(K54*C54,0) -> #REF! | P54: 10 | R54: A02 | BI54: =HYPERLINK("#내역서!A46","A02 →") -> A02 →
A55: A-3. 우수공 | C55: 1 | D55: 식 | E55: =G55+I55+K55 -> #REF! | F55: =H55+J55+L55 -> #REF! | G55: =H83 -> #REF! | H55: =TRUNC(G55*C55,0) -> #REF! | I55: =J83 -> #REF! | J55: =TRUNC(I55*C55,0) -> #REF! | K55: =L83 -> #REF! | L55: =TRUNC(K55*C55,0) -> #REF! | P55: 25 | R55: A03 | BI55: =HYPERLINK("#내역서!A56","A03 →") -> A03 →
A56: A-3. 식재공 | C56: 1 | D56: 식 | E56: =G56+I56+K56 -> #REF! | F56: =H56+J56+L56 -> #REF! | G56: =H88 -> #REF! | H56: =TRUNC(G56*C56,0) -> #REF! | I56: =J88 -> #REF! | J56: =TRUNC(I56*C56,0) -> #REF! | K56: =L88 -> #REF! | L56: =TRUNC(K56*C56,0) -> #REF! | P56: 27 | R56: A04 | BI56: =HYPERLINK("#내역서!A63","A04 →") -> A04 →
A57: A-4. 시설공 | C57: 1 | D57: 식 | E57: =G57+I57+K57 -> #REF! | F57: =H57+J57+L57 -> #REF! | G57: =H91 -> #REF! | H57: =TRUNC(G57*C57,0) -> #REF! | I57: =J91 -> #REF! | J57: =TRUNC(I57*C57,0) -> #REF! | K57: =L91 -> #REF! | L57: =TRUNC(K57*C57,0) -> #REF! | P57: 30 | R57: A06 | BI57: =HYPERLINK("#내역서!A68","A06 →") -> A06 →
A58: A-5. 포장공 | C58: 1 | D58: 식 | E58: =G58+I58+K58 -> #REF! | F58: =H58+J58+L58 -> #REF! | G58: =H105 -> #REF! | H58: =TRUNC(G58*C58,0) -> #REF! | I58: =J105 -> #REF! | J58: =TRUNC(I58*C58,0) -> #REF! | K58: =L105 -> #REF! | L58: =TRUNC(K58*C58,0) -> #REF! | P58: 40 | R58: A07 | BI58: =HYPERLINK("#내역서!A84","A07 →") -> A07 →
E74: =G74+I74+K74 -> 0 | F74: =H74+J74+L74 -> 0 | H74: 0 | J74: 0 | L74: 0 | P74: 50 | Q74: *
A75: A-1. 철거공 | C75: 1 | D75: 식 | F75: =H75+J75+L75 -> #REF! | H75: =TRUNC(H76+H77+H78+H79+H80+H81,0) -> #REF! | J75: =TRUNC(J76+J77+J78+J79+J80+J81,0) -> #REF! | L75: =TRUNC(L76+L77+L78+L79+L80+L81,0) -> #REF! | O75: A02
...

Sheet 자재
A1: 자재
A2: 명 칭 | B2: 규 격 | C2: 단 위 | D2: 단 가 | E2: 비 고
A3: 셋트앙카 | B3: M12xL100,스테인리스 | C3: ea | D3: =#REF! -> #REF! | E3: 거가/93/ | G3: M-BB-0090
A4: 시멘트 | B4: 40kg | C4: kg | D4: =#REF! -> #REF! | E4: 물자/65/ | G4: M-CA060
A5: 쇄석자갈 | B5: 25mm | C5: ㎥ | D5: =#REF! -> #REF! | E5: 물자/62/ | G5: M-CA070
A6: 지수밸브(소프트실) | B6: 15A | C6: EA | D6: =#REF! -> #REF! | E6: 가정/826/ | G6: M0000009
A7: 각 재 | B7: 외송 | C7: ㎥ | D7: =#REF! -> #REF! | E7: 거가/149/ | G7: M0882503 | H7: M0882503
A8: 내수합판 | B8: 12×1220×2440㎜ (1급T-I) | C8: ㎡ | D8: =#REF! -> #REF! | E8: 물자/670/물자1 P681 | G8: M4332041 | H8: M4332041
A9: 오일스테인 (페인트) | B9: 1종2급 황색 18ℓ=25㎏ | C9: ㎏ | D9: =#REF! -> #REF! | E9: 물자/590/ | G9: MA-PA-OS12H
A10: 퍼티 | B10: 외부용 18ℓ=25㎏ | C10: ㎏ | D10: =#REF! -> #REF! | E10: 물자/598/ | G10: MA-PA-PT-O
A11: STS BALL VALVE(S) | B11: 25A | C11: EA | D11: =#REF! -> #REF! | E11: 물자/850/ | G11: MAR0193
A12: VALVE BOX (CAP포함) | C12: SET | D12: =#REF! -> #REF! | E12: 물자/346/ | G12: MAR0479
A13: VALVE KEY | C13: EA | D13: =#REF! -> #REF! | E13: 물자/346/ | G13: MAR0480
A14: STS PIPE(SCH10) | B14: 15Ax2t | C14: M | D14: =#REF! -> #REF! | E14: 가정/744/ | G14: MAR0501
A15: STS PIPE(SCH10) | B15: 25Ax2.8t | C15: M | D15: =#REF! -> #REF! | E15: 물자/744/ | G15: MAR0503
A16: ARGON GAS | B16: 7000L | C16: ℓ | D16: =#REF! -> #REF! | E16: 물정/1430/ | G16: MAR0537
A17: 용접봉 | B17: D3.2 | C17: KG | D17: =#REF! -> #REF! | E17: 물정/1041/ | G17: MAR0541
A18: STS ELBOW | B18: 25A | C18: EA | D18: =#REF! -> #REF! | E18: 물정/699/ | G18: MAR0553
A19: STS TEE | B19: 15x15A | C19: EA | D19: =#REF! -> #REF! | E19: 물정/699/ | G19: MAR0571
A20: STS TEE | B20: 25x25A | C20: EA | D20: =#REF! -> #REF! | E20: 물정/699/ | G20: MAR0573
A21: STS NIPPLE | B21: 15A,SCREW | C21: EA | D21: =#REF! -> #REF! | E21: 가정/749/ | G21: MAR0784
A22: STS NIPPLE | B22: 25A,SCREW | C22: EA | D22: =#REF! -> #REF! | E22: 물정/705/ | G22: MAR0786
A23: STS 지수밸브(소프트실) | B23: 25A | C23: EA | D23: =#REF! -> #REF! | E23: 물자/826/ | G23: MAR0787
A24: 가교발포폴리에틸렌보온재 | B24: 25A*25T | C24: m | D24: =#REF! -> #REF! | E24: 물정/925/ | G24: MAR3002
A25: 인조화강석블럭 | B25: T60 | C25: ㎡ | D25: =#REF! -> #REF! | E25: 물자/150/ | G25: MPLC2110
... A31: 쇄석자갈 | B31: 25mm | C31: ㎥ | D31: =#REF! -> #REF! | E31: 물자/62/ | G31: MST0021
A32: 모래 | C32: ㎥ | D32: =#REF! -> #REF! | E32: 물자/62/ | G32: MST0030
A33: 혼합골재 | B33: 40mm이하 보조기층 | C33: ㎥ | D33: =#REF! -> #REF! | E33: 물자/62/ | G33: MST0040
A34: 시너 | B34: 오일스테인용 | C34: ℓ | D34: =#REF! -> #REF! | E34: 거가/620/ | G34: MU-2006
A35: 빗물받이 | B35: 410x510xH520, 침사조+앵글+그레이팅 | C35: 조 | D35: =#REF! -> #REF! | E35: 거가/220/ | G35: MWZA0012
A36: 콘크리트집수정 | B36: 500x500x850 | C36: 개소 | D36: =#REF! -> #REF! | E36: 거가/223/ | G36: MWZA0090
A37: 스틸그레이팅 | B37: 600x600, 앵글포함 | C37: 본 | D37: =#REF! -> #REF! | E37: 물자/181/ | G37: MWZA0100
A38: 우수관 | B38: Φ200,이중벽관, 소켓+고무링 | C38: m | D38: =#REF! -> #REF! | E38: 거가/795/ | G38: MZSSD0260
A39: 부직포 | B39: 200g | C39: ㎡ | D39: =#REF! -> #REF! | E39: 물자/296/ | G39: MZSSD1260
A40: 컨츄리가든블록(표준) | B40: H150 | C40: ㎡ | D40: =#REF! -> #REF! | E40: 거가/364/ | G40: MZTAA2180
A41: 컨츄리가든블록(캡) | B41: H75 | C41: ea | D41: =#REF! -> #REF! | E41: 물자/240/ | G41: MZTAA2190
A42: 연결핀 | B42: Φ17.5x100 | C42: ea | D42: =#REF! -> #REF! | E42: 물자/241/ | G42: MZTAA2200
A43: 에폭시본드 | B43: 개당/5m사용 | C43: 개 | D43: =#REF! -> #REF! | E43: 물정/107/ | G43: MZTAA2210
A44: ㄱ앵글 | B44: 50x50x50 | C44: ea | D44: =#REF! -> #REF! | E44: 물자/52/ | G44: MZTAA2210-1
... A46: 멀바우 | B46: 가공목재 | C46: ㎥ | D46: =#REF! -> #REF! | E46: 물자/102/ | G46: MZTAA2210-3
...

Sheet 전역변수
A1: 전역변수
A2: 변 수 명 | B2: 형 식 | C2: 값 | D2: 비 고 | E2: 적용단위
A3: A | B3: 숫자 | C3: 75 | D3: 어스앵커 공수
A4: A11 | B4: 숫자 | C4: 50 | D4: 야간기본노임 | E4: %
A5: A21 | B5: 숫자 | C5: 20 | D5: 작업능률저하 | E5: %
A6: A31 | B6: 숫자 | C6: 0 | D6: 8시간,휴전할증 | E6: %
A7: A33 | B7: 숫자 | C7: 30 | D7: 3시간,휴전할증 | E7: %
A8: BS01 | B8: 숫자 | C8: 59 | D8: 병렬터널할증 | E8: %
A9: BS02 | B9: 숫자 | C9: 100 | D9: 병렬터널 할증 (일방향) | E9: %
A10: BTR | B10: 숫자 | C10: 100 | D10: 하반할증 | E10: %
A11: CPI | B11: 숫자 | C11: 4.99 | D11: 소비자물가변동율 | E11: %
A12: GB01 | B12: 숫자 | C12: 74 | D12: 볼트손율(24개월조임철물적용) | E12: %
A13: GBO2 | B13: 숫자 | C13: 56 | D13: 잭손율(24개월받침철물적용) | E13: %
A14: HPN3 | B14: 숫자 | C14: 8.03 | D14: H-형강손료 | E14: %
A15: JANG_D | B15: 숫자 | C15: 80.2 | D15: 동시굴착 범위 (복선) | E15: %
... A20: PHH1 | B20: 숫자 | C20: 1 | D20: 로드헤드운전원 | E20: 인
A21: R | B21: 숫자 | C21: 1.0386 | D21: 장대터널할증
A22: SPN3 | B22: 숫자 | C22: 9.51 | D22: S-파일손료 | E22: %
A23: TBL2 | B23: 숫자 | C23: 100 | D23: 2Arch터널노임(일방향) | E23: %
A24: ZT00010 | B24: 숫자 | C24: 100 | D24: 낙찰율 | E24: %
A25: ZT605010 | B25: 숫자 | C25: 65 | D25: 본선터널 병렬터널 할증 | E25: %
A26: ZT605020 | B26: 숫자 | C26: 100 | D26: 램프터널 병렬터널 항증 | E26: %

Sheet 중기전역변수
A1: 중기전역변수
A2: 변 수 명 | B2: 형 식 | C2: 값 | D2: 비 고
A3: QCODE | B3: 문자 | C3: 100000000001
A4: QUS2WON | B4: 숫자 | C4: 1180 | D4: 환율(장비가격10만불이하)
A5: QUS2WON1 | B5: 숫자 | C5: 1180 | D5: 환율(장비가격10만불이상)
A6: QYEN2WON | B6: 숫자 | C6: 13.2 | D6: 환율(엔화)
A7: QDM2WON | B7: 숫자 | C7: 724.05 | D7: 환율(마르크화)
A8: QSDR2WON | B8: 숫자 | C8: 1000 | D8: 환율(IMF특별인출권)
A9: QECU2WON | B9: 숫자 | C9: 1580 | D9: 환율(유로화)
A10: QEQTY1 | B10: 문자 | C10: (SANG + JUNG + KWAN)*10^-4 | D10: 중기주간경비산출계수
A11: QEQTY2 | B11: 문자 | C11: (SANG + JUNG + KWAN)*10^-4 | D11: 중기야간경비산출계수
A12: QEQTY3 | B12: 문자 | C12: (SANG + JUNG + int(KWAN/3))*10^-4 | D12: 중기주야간경비산출계수
A13: QEINC2 | B13: 숫자 | C13: 1.25 | D13: 중기야간할증계수
A14: QEINC3 | B14: 숫자 | C14: 1.071 | D14: 중기주야간할증계수
A15: QDECPEQ | B15: 문자 | C15: 0 | D15: 경비단가소숫점
A16: QDECCEQ | B16: 문자 | C16: 0 | D16: 경비금액소숫점
A17: QDECEQ | B17: 문자 | C17: 0 | D17: 경비계금액소숫점
A18: QH1 | B18: 문자 | C18: =25/20 * 16/12 * 1/8 -> 0.20833333 | D18: 시간당노임산출계수(일반구간)
A19: QH2 | B19: 문자 | C19: =25/20 * 16/12 * 1/8 -> 0.20833333 | D19: 시간당노임산출계수(터널구간)
A20: QH21 | B20: 문자 | C20: =25/20 * 16/12 * 1/8 -> 0.20833333 | D20: 시간당노임산출계수(장대터널)
A21: QH31 | B21: 문자 | C21: =25/20 * 16/12 * 1/8 -> 0.20833333 | D21: 시간당노임산출계수(해상장비:펌프준설선)
A22: QH32 | B22: 문자 | C22: =25/20 * 16/12 * 1/8 -> 0.20833333 | D22: 시간당노임산출계수(해상장비:GRAB준설선)
A23: QH33 | B23: 문자 | C23: =25/20 * 16/12 * 1/8 -> 0.20833333 | D23: 시간당노임산출계수(해상장비:버켓준설선)
A24: QLINC1 | B24: 숫자 | C24: 1 | D24: 노임할증계수(일반구간:주간)
A25: QLINC2 | B25: 숫자 | C25: 1.5 | D25: 노임할증계수(일반구간:야간)
A26: QLINC3 | B26: 숫자 | C26: 1.16 | D26: 노임할증계수(일반구간:주야간)
A27: QLINCA | B27: 숫자 | C27: 1.6 | D27: 노임할증계수(터널구간:주간)
A28: QLINCB | B28: 숫자 | C28: 1.6 | D28: 노임할증계수(터널구간:야간)
A29: QLINCC | B29: 숫자 | C29: 1.6 | D29: 노임할증계수(터널구간:주야간)
A30: QLINCD | B30: 숫자 | C30: 1.94 | D30: 노임할증계수(장대터널:주간)
A31: QLINCE | B31: 숫자 | C31: 1.94 | D31: 노임할증계수(장대터널:야간)
A32: QLINCF | B32: 숫자 | C32: 1.94 | D32: 노임할증계수(장대터널:주야간)
A33: QLINCX | B33: 숫자 | C33: 1 | D33: 노임할증계수(해상장비:주간)
A34: QLINCY | B34: 숫자 | C34: 1 | D34: 노임할증계수(해상장비:야간)
A35: QLINCZ | B35: 숫자 | C35: 1 | D35: 노임할증계수(해상장비:주야간)
A36: QDECPLA | B36: 문자 | C36: 0 | D36: 노임단가소숫점
A37: QDECCLA | B37: 문자 | C37: 0 | D37: 노임금액소숫점
A38: QDECLA | B38: 문자 | C38: 0 | D38: 노임계금액소숫점
A39: QMINC2 | B39: 숫자 | C39: 1.11 | D39: 재료비할증계수(야간)
A40: QMINC3 | B40: 숫자 | C40: 1.12 | D40: 재료비할증계수(주야간)
...
