Workbook

Sheet 내역서
A1: 내역서
A2: 공 종 명 | B2: 규 격 | C2: 수량 | D2: 단위 | E2: 합 계 | G2: 재 료 비 | I2: 노 무 비 | K2: 경 비 | M2: 비 고
E3: 단 가 | F3: 금 액 | G3: 단 가 | H3: 금 액 | I3: 단 가 | J3: 금 액 | K3: 단 가 | L3: 금 액 | S3: 할 증 | T3: 화폐변환 | U3: OP값 | V3: EQ | W3: LA | X3: MA | Y3: 금액계상
A4: ○ 경수대로 호계신기사거리 구간 도로포장공사 ○ | C4: 1 | D4: 식 | O4: A02
A5: 가. 직접공사비 계 | C5: 1 | D5: 식 | P5: 20 | R5: B02 | AA5: LA+ = | AB5: =ROUND(내역서!J5*16.5/100,2) -> 0 | AC5: LA = | AD5: =$AB5 -> 0 | AE5: 5_1_1+ = | AF5: =ROUND(ROUND(내역서!J5*16.5/100,2),2) -> 0 | AG5: 5_1_1 = | AH5: =$AF5 -> 0
A6: 1. 간접노무비 | B6: (직노)*16.5% | C6: 1 | D6: 식 | P6: 30 | R6: F | X6: .LA= LA(20)*16.5/100 =? | AA6: EQ+ = | AB6: =ROUND((내역서!J5+(내역서!H6+내역서!J6+내역서!L6))*3.56/100,2) -> 0 | AC6: EQ = | AD6: =$AB6 -> 0 | AE6: 6_1_1+ = | AF6: =ROUND(ROUND((내역서!J5+(내역서!H6+내역서!J6+내역서!L6))*3.56/100,2),2) -> 0 | AG6: 6_1_1 = | AH6: =$AF6 -> 0
A7: 2. 산재보험료 | B7: (직노+간노)*3.56% | C7: 1 | D7: 식 | P7: 40 | R7: F | X7: .EQ = (LA(20) + TOT(30)) * 3.56/100=? | AA7: EQ+ = | AB7: =ROUND((내역서!J5+(내역서!H6+내역서!J6+내역서!L6))*1.01/100,2) -> 0 | AC7: EQ = | AD7: =$AB7 -> 0 | AE7: 7_1_1+ = | AF7: =ROUND(ROUND((내역서!J5+(내역서!H6+내역서!J6+내역서!L6))*1.01/100,2),2) -> 0 | AG7: 7_1_1 = | AH7: =$AF7 -> 0
A8: 3. 고용보험료 | B8: (직노+간노)*1.01% | C8: 1 | D8: 식 | P8: 50 | R8: F | X8: .EQ = (LA(20) + TOT(30)) * 1.01/100=? | AA8: EQ+ = | AB8: =ROUND(내역서!J5*3.545/100,2) -> 0 | AC8: EQ = | AD8: =$AB8 -> 0 | AE8: 8_1_1+ = | AF8: =ROUND(ROUND(내역서!J5*3.545/100,2),2) -> 0 | AG8: 8_1_1 = | AH8: =$AF8 -> 0
A9: 4. 건강보험료 | B9: (직노)*3.545% | C9: 1 | D9: 식 | P9: 60 | R9: F | X9: .EQ = LA(20) * 3.545/100 =? | AA9: EQ+ = | AB9: =ROUND(내역서!J5*4.5/100,2) -> 0 | AC9: EQ = | AD9: =$AB9 -> 0 | AE9: 9_1_1+ = | AF9: =ROUND(ROUND(내역서!J5*4.5/100,2),2) -> 0 | AG9: 9_1_1 = | AH9: =$AF9 -> 0
A10: 5. 연금보험료 | B10: (직노)*4.5% | C10: 1 | D10: 식 | P10: 70 | R10: F | X10: .EQ = LA(20) * 4.5/100 =? | AA10: EQ+ = | AB10: =ROUND(내역서!L9*12.95/100,2) -> 0 | AC10: EQ = | AD10: =$AB10 -> 0 | AE10: 10_1_1+ = | AF10: =ROUND(ROUND(내역서!L9*12.95/100,2),2) -> 0 | AG10: 10_1_1 = | AH10: =$AF10 -> 0
A11: 6. 노인장기요양보험료 | B11: (건강)*12.95% | C11: 1 | D11: 식 | P11: 80 | R11: F | X11: .EQ = EQ(60) * 12.95/100 =? | AA11: EQ+ = | AB11: =ROUND(내역서!J5*2.3/100,2) -> 0 | AC11: EQ = | AD11: =$AB11 -> 0 | AE11: 11_1_1+ = | AF11: =ROUND(ROUND(내역서!J5*2.3/100,2),2) -> 0 | AG11: 11_1_1 = | AH11: =$AF11 -> 0
A12: 7. 퇴직공제부금비 | B12: (직노)*2.3% | C12: 1 | D12: 식 | P12: 90 | R12: F | X12: .EQ = LA(20) * 2.3/100 =? | AA12: EQ+ = | AB12: =ROUND(MIN(0,0),2) -> 0 | AC12: EQ = | AD12: =$AB12 -> 0 | AE12: 12_1_1+ = | AF12: =ROUND(ROUND(MIN(0,0),2),2) -> 0 | AG12: 12_1_1 = | AH12: =$AF12 -> 0
A13: 8. 산업안전보건관리비 | B13: 작은금액 | C13: 1 | D13: 식 | P13: 100 | R13: F | X13: .EQ = MIN(TOT(110),TOT(120))=? | AA13: EQ+ = | AB13: =ROUND((내역서!H5+내역서!J5+0)*(3.15/100)+0,2) -> 0 | AC13: EQ = | AD13: =$AB13 -> 0 | AE13: 13_1_1+ = | AF13: =ROUND(ROUND((내역서!H5+내역서!J5+0)*(3.15/100)+0,2),2) -> 0 | AG13: 13_1_1 = | AH13: =$AF13 -> 0
A14: a 산업안전보건관리비 | B14: (재+직노+관급)×3.15%+기초액 | C14: 1 | D14: 식 | P14: 110 | Q14: * | R14: F | X14: .EQ = (MA(20)+LA(20)+TOT(230))*(3.15/100)+0=? | AA14: EQ+ = | AB14: =TRUNC(((내역서!H5+내역서!J5)*(3.15/100)+0)*1.2,0) -> 0 | AC14: EQ = | AD14: =$AB14 -> 0
A15: b 산업안전보건관리비 | B15: {(재+직노)×(3.15%)+기초액}x1.2 | C15: 1 | D15: 식 | P15: 120 | Q15: * | R15: F | X15: ((MA(20)+LA(20))*(3.15/100)+0)*1.2= ?EQ | AA15: EQ+ = | AB15: =ROUND((내역서!H5+내역서!J5+내역서!L5)*0.9/100,2) -> 0 | AC15: EQ = | AD15: =$AB15 -> 0 | AE15: 15_1_1+ = | AF15: =ROUND(ROUND((내역서!H5+내역서!J5+내역서!L5)*0.9/100,2),2) -> 0 | AG15: 15_1_1 = | AH15: =$AF15 -> 0
A16: 9. 환경보전비 | B16: (재+직노+산경)*0.9% | C16: 1 | D16: 식 | P16: 130 | R16: F | X16: .EQ=(MA(20)+LA(20)+EQ(20))*0.9/100 =? | AA16: EQ+ = | AB16: =ROUND((내역서!H5+내역서!J5+(내역서!H6+내역서!J6+내역서!L6))*5.2/100,2) -> 0 | AC16: EQ = | AD16: =$AB16 -> 0 | AE16: 16_1_1+ = | AF16: =ROUND(ROUND((내역서!H5+내역서!J5+(내역서!H6+내역서!J6+내역서!L6))*5.2/100,2),2) -> 0 | AG16: 16_1_1 = | AH16: =$AF16 -> 0
A17: 10. 기타경비 | B17: (재+직노+간노)*5.2% | C17: 1 | D17: 식 | P17: 140 | R17: F | X17: .EQ=(MA(20)+LA(20)+TOT(30))*5.2/100 =?
A18: 나. 안전관리비 | C18: 1 | D18: 식 | P18: 150 | R18: B02-2 | AA18: EQ+ = | AB18: =ROUND((내역서!H5+내역서!J5+내역서!L5)*0.68/100,2) -> 0 | AC18: EQ = | AD18: =$AB18 -> 0 | AE18: 18_1_1+ = | AF18: =ROUND(ROUND((내역서!H5+내역서!J5+내역서!L5)*0.68/100,2),2) -> 0 | AG18: 18_1_1 = | AH18: =$AF18 -> 0
A19: 11. 건설기계대여금지급보증액 | B19: (재+직노+산경)*0.68% | C19: 1 | D19: 식 | P19: 160 | R19: F | X19: .EQ=(MA(20)+LA(20)+EQ(20)) * 0.68/100 =? | AA19: MA+ = | AB19: =(내역서!H5+내역서!H6+내역서!H7+내역서!H8+내역서!H9+내역서!H10+내역서!H11+내역서!H12+내역서!H13)+(내역서!H16+내역서!H17+내역서!H18+내역서!H19) -> 0 | AC19: MA = | AD19: =$AB19 -> 0
A20: 다. 순공사비 계 | C20: 1 | D20: 식 | P20: 170 | Q20: * | R20: F | X20: .MA= MA(20,0,100)+MA(130,0,160)_x000D_ .LA= LA(20,0,100)+LA(130,0,160)_x000D_ .EQ= EQ(20,0,100)+EQ(130,0,160) | AA20: EQ+ = | AB20: =((내역서!H20+내역서!J20+내역서!L20))*6/100 -> 0 | AC20: EQ = | AD20: =$AB20 -> 0
A21: 12. 일반관리비 | B21: 순공사비 계 * 6.0% | C21: 1 | D21: 식 | P21: 180 | R21: F | X21: .EQ = (tot(170)) * 6/100 | AA21: EQ+ = | AB21: =((내역서!J20+내역서!L20+(내역서!H21+내역서!J21+내역서!L21))*0.15)-(2652/1.1) -> -2410.9091 | AC21: EQ = | AD21: =$AB21 -> -2410.9091
A22: 13. 이윤 | B22: (노+경+일반관리비)*15.0% | C22: 1 | D22: 식 | P22: 190 | R22: F | X22: .EQ = ((LA(170)+EQ(170)+TOT(180))*0.15)-(2652/1.1) | AA22: MA+ = | AB22: =ROUND((내역서!H20+내역서!H21+내역서!H22),2) -> 0 | AC22: MA = | AD22: =$AB22 -> 0 | AE22: LA+ = | AF22: =ROUND((내역서!J20+내역서!J21+내역서!J22),2) -> 0 | AG22: LA = | AH22: =$AF22 -> 0 | AI22: EQ+ = | AJ22: =ROUND((내역서!L20+내역서!L21+내역서!L22),2) -> 0 | AK22: EQ = | AL22: =$AJ22 -> 0
A23: 라. 공급가액 | C23: 1 | D23: 식 | P23: 200 | Q23: * | R23: F | X23: .[] = TOT(170,0,190) | AA23: EQ+ = | AB23: =(내역서!H23+내역서!J23+내역서!L23)*0.1 -> 0 | AC23: EQ = | AD23: =$AB23 -> 0
A24: 14. 부가가치세 | C24: 1 | D24: 식 | P24: 210 | R24: F | X24: .EQ = TOT(200)*0.1 | AA24: MA+ = | AB24: =ROUND((내역서!H23+내역서!H24),2) -> 0 | AC24: MA = | AD24: =$AB24 -> 0 | AE24: LA+ = | AF24: =ROUND((내역서!J23+내역서!J24),2) -> 0 | AG24: LA = | AH24: =$AF24 -> 0 | AI24: EQ+ = | AJ24: =ROUND((내역서!L23+내역서!L24),2) -> 0 | AK24: EQ = | AL24: =$AJ24 -> 0
A25: 마. 도급공사비 | C25: 1 | D25: 식 | P25: 220 | Q25: * | R25: F | X25: .[] = TOT(200,0,210)
A26: 바. 관급자재(도급자) | C26: 1 | D26: 식 | P26: 230 | R26: B02-1 | AA26: MA+ = | AB26: =ROUND((내역서!H25+내역서!H26),2) -> 0 | AC26: MA = | AD26: =$AB26 -> 0 | AE26: LA+ = | AF26: =ROUND((내역서!J25+내역서!J26),2) -> 0 | AG26: LA = | AH26: =$AF26 -> 0 | AI26: EQ+ = | AJ26: =ROUND((내역서!L25+내역서!L26),2) -> 0 | AK26: EQ = | AL26: =$AJ26 -> 0
A27: 사. 총 공 사 비 | C27: 1 | D27: 식 | P27: 240 | Q27: * | R27: F | X27: .[] = TOT(220,0,230)
P28: 260 | Q28: S
A29: ▷ 호계신기사거리 일원 도로포장공사 | C29: 1 | D29: 식 | O29: B02
A30: 1. 토공 및 철거공 | P30: 10
A31: 1.01 포장 깨기 | P31: 20
A32: 아스콘포장 깨기 | C32: 25 | D32: ㎥ | P32: 30 | Q32: *
A33: 1.02 포장 절단 | P33: 40
A34: 아스콘 절단 | C34: 849 | D34: m | P34: 50 | R34: TO-CLC91000000S | T34: T
A35: 1.03 폐기물 상차 | C35: 25 | D35: ㎥ | P35: 60 | R35: SA02100 | T35: F
P36: 70
A37: 2. 포장공 | P37: 80
A38: 2.01 아스콘 포장 | P38: 90
A39: 절삭 후 덧씌우기(본선) | B39: B-TYPE/5mm (야간) | C39: 6596 | D39: ㎡ | P39: 100 | R39: TO-CLC92121000S-N | T39: T
A40: 절삭 후 덧씌우기(지하차도) | B40: B-TYPE/5mm (야간) | C40: 7725 | D40: ㎡ | P40: 110 | R40: TO-CLC92121000S-N | T40: T
A41: 중간층,기층 포설및다짐(소파보수) | B41: A-Type / 시공면적 24㎡ 이하 (야간) | C41: 100 | D41: ㎡ | P41: 120 | R41: SE04730-219N-24 | T41: F
P42: 130
A43: 3. 부대공 | P43: 140
A44: 3.01 차선도색 | P44: 150
A45: 차선 밑그림 / 공용구간 | B45: 실선 | C45: 743 | D45: ㎡ | P45: 160 | R45: TO-CLH21111000S | T45: T
A46: 차선 밑그림 / 공용구간 | B46: 파선 | C46: 86 | D46: ㎡ | P46: 170 | R46: TO-CLH21112000S | T46: T
A47: 차선 밑그림 / 공용구간 | B47: 횡단보도, 주차장 | C47: 140 | D47: ㎡ | P47: 180 | R47: TO-CLH21113000S | T47: T
A48: 차선 밑그림 / 공용구간 | B48: 문자, 기호 | C48: 107 | D48: ㎡ | P48: 190 | R48: TO-CLH21114000S | T48: T
A49: 융착식 도료 수동식 | B49: 황색실선 | C49: 528 | D49: ㎡ | P49: 200 | R49: TO-CLH21141000S-YE | T49: T
A50: 융착식 도료 수동식 | B50: 백색실선 | C50: 211 | D50: ㎡ | P50: 210 | R50: TO-CLH21141000S | T50: T
A51: 융착식 도료 수동식 | B51: 청색실선 | C51: 5 | D51: ㎡ | P51: 220 | R51: TO-CLH21141000S-BL | T51: T
A52: 융착식 도료 수동식 | B52: 백색파선 | C52: 83 | D52: ㎡ | P52: 230 | R52: TO-CLH21142000S | T52: T
A53: 융착식 도료 수동식 | B53: 청색파선 | C53: 3 | D53: ㎡ | P53: 240 | R53: TO-CLH21142000S | T53: T
A54: 융착식 도료 수동식 | B54: 횡단보도, 주차장 | C54: 140 | D54: ㎡ | P54: 250 | R54: TO-CLH21143000S | T54: T
A55: 융착식 도료 수동식 | B55: 문자, 기호 | C55: 107 | D55: ㎡ | P55: 260 | R55: TO-CLH21144000S | T55: T
A56: 3.02 차선규제봉 | P56: 270
A57: 철거 | C57: 63 | D57: 개소 | P57: 280 | R57: TO-CLH27000000S-C | T57: T
A58: 재설치 | B58: 450mm~750mm | C58: 63 | D58: 개소 | P58: 290 | R58: TO-CLH27000000S | T58: T
A59: 3.03 운반비 | P59: 300
A60: 중기운반 | C60: 1 | D60: 식 | P60: 310 | R60: SF01400-1 | T60: F
A61: 3.04 시험비 | P61: 320
A62: 품질시험비 | C62: 1 | D62: 식 | P62: 330 | R62: SAJS_2025_QT2 | T62: F
A63: 현장출장경비 | B63: 안양시 | C63: 1 | D63: 회 | P63: 340 | R63: GEX_GQT1
P64: 350
A65: 4. 자재대 | P65: 360
A66: 개질유화 | B66: BL coat | C66: 22 | D66: D/M | P66: 370 | R66: MS17052100
A67: 아스팔트유제 | B67: RSC-3 | C67: 1 | D67: D/M | N67: 56100307041 | P67: 380 | R67: MS17052200
A68: 아스팔트유제 | B68: RSC-4 | C68: 1 | D68: D/M | N68: 56100307041 | P68: 390 | R68: MS17052200
A69: 차선규제봉 | B69: 200×80×750 | C69: 63 | D69: EA | P69: 400 | R69: M1464303
P70: 410 | Q70: S
A71: 도급자 관급자재(호계신기사거리일원) | C71: 1 | D71: 식 | O71: B02-1
A72: 개질 아스콘 | P72: 10
A73: 개질 아스콘 | C73: 1709 | D73: TON | P73: 20 | R73: MASC-7622
A74: 아스팔트 콘크리트 | P74: 30
A75: 아스팔트 콘크리트(기층) | B75: BB-4 | C75: 35 | D75: TON | P75: 40 | R75: MASC-BB4
A76: 아스팔트 콘크리트(중간층) | B76: MC-1 | C76: 24 | D76: TON | P76: 50 | R76: MASC-MC1
A77: 노면표지용도료 | P77: 60
A78: 노면표지용페인트(융착식) | B78: 백색, 4W-P3-R5-RW4, 20kg | C78: 124 | D78: 포 | N78: 80101157111 | P78: 70 | R78: M1500051-JO
A79: 노면표지용페인트(융착식) | B79: 황색, 4Y-P3-R5-RW4, 20kg | C79: 122 | D79: 포 | N79: 80101157141 | P79: 80 | R79: M1500061-JO | AA79: MA+ = | AB79: =ROUND(((내역서!H73+내역서!J73+내역서!L73)+(내역서!H75+내역서!J75+내역서!L75)+(내역서!H76+내역서!J76+내역서!L76)+(내역서!H78+내역서!J78+내역서!L78)+(내역서!H79+내역서!J79+내역서!L79))*0.54/100+(10000-7111),2) -> 2889 | AC79: MA = | AD79: =$AB79 -> 2889 | AE79: 79_1_1+ = | AF79: =ROUND(ROUND(((내역서!H73+내역서!J73+내역서!L73)+(내역서!H75+내역서!J75+내역서!L75)+(내역서!H76+내역서!J76+내역서!L76)+(내역서!H78+내역서!J78+내역서!L78)+(내역서!H79+내역서!J79+내역서!L79))*0.54/100+(10000-7111),2),2) -> 2889 | AG79: 79_1_1 = | AH79: =$AF79 -> 2889
A80: 조달수수료 | B80: 0.54% | C80: 1 | D80: 식 | P80: 90 | R80: F | X80: MA=TOT(10,0,80)*0.54/100 + (10000-7111) =?_x000D_
P81: 100 | Q81: S
A82: 안전관리비(호계신기사거리일원) | C82: 1 | D82: 식 | O82: B02-2
A83: 1. 공사안내표지판,현수막 설치및해체 | C83: 6 | D83: EA | P83: 10 | R83: SF05070-20 | T83: F
A84: 2. 안전시설 설치및해체 | P84: 20
A85: 2.1 라바콘 및 유도등 설치및해체 | B85: 4회 | C85: 3312 | D85: m | P85: 30 | R85: SF05070-21 | T85: F
A86: 2.2 PE드럼 설치및해체 | C86: 30 | D86: EA | P86: 40 | R86: SF05070-22 | T86: F
A87: 3. 교통신호수 | B87: 도로점용구간 | C87: 1 | D87: 식 | P87: 50 | R87: SF05070-31 | T87: F
P88: 60 | Q88: S

Sheet 전역변수
A1: 전역변수
A2: 변 수 명 | B2: 형 식 | C2: 값 | D2: 비 고 | E2: 적용단위

Sheet 중기전역변수
A1: 중기전역변수
A2: 변 수 명 | B2: 형 식 | C2: 값 | D2: 비 고
A3: QCODE | B3: 문자 | C3: 100000000001
A4: QUS2WON | B4: 숫자 | C4: 1466 | D4: 환율(장비가격10만불이하)
A5: QUS2WON1 | B5: 숫자 | C5: 1466 | D5: 환율(장비가격10만불이상)
A6: QYEN2WON | B6: 숫자 | C6: 9.31 | D6: 환율(엔화)
A7: QDM2WON | B7: 숫자 | C7: 724.05 | D7: 환율(마르크화)
A8: QSDR2WON | B8: 숫자 | C8: 1000 | D8: 환율(IMF특별인출권)
A9: QECU2WON | B9: 숫자 | C9: 1580 | D9: 환율(유로화)
A10: QEQTY1 | B10: 문자 | C10: (SANG + JUNG + KWAN)*10^-4 | D10: 중기주간경비산출계수
A11: QEQTY2 | B11: 문자 | C11: (SANG + JUNG + KWAN)*10^-4 | D11: 중기야간경비산출계수
A12: QEQTY3 | B12: 문자 | C12: (SANG + JUNG + int(KWAN/3))*10^-4 | D12: 중기주야간경비산출계수
A13: QEINC2 | B13: 숫자 | C13: 1.25 | D13: 중기야간할증계수
A14: QEINC3 | B14: 숫자 | C14: 1.071 | D14: 중기주야간할증계수
A15: QDECPEQ | B15: 문자 | C15: 0 | D15: 경비단가소숫점
A16: QDECCEQ | B16: 문자 | C16: 0 | D16: 경비금액소숫점
A17: QDECEQ | B17: 문자 | C17: 0 | D17: 경비계금액소숫점
A18: QH1 | B18: 문자 | C18: =25/20 * 16/12 * 1/8 -> 0.20833333 | D18: 시간당노임산출계수(일반구간)
A19: QH2 | B19: 문자 | C19: =25/20 * 16/12 * 1/8 -> 0.20833333 | D19: 시간당노임산출계수(터널구간)
A20: QH21 | B20: 문자 | C20: =25/20 * 16/12 * 1/8 -> 0.20833333 | D20: 시간당노임산출계수(장대터널)
A21: QH31 | B21: 문자 | C21: =25/20 * 16/12 * 1/8 -> 0.20833333 | D21: 시간당노임산출계수(해상장비:펌프준설선)
A22: QH32 | B22: 문자 | C22: =25/20 * 16/12 * 1/8 -> 0.20833333 | D22: 시간당노임산출계수(해상장비:GRAB준설선)
A23: QH33 | B23: 문자 | C23: =25/20 * 16/12 * 1/8 -> 0.20833333 | D23: 시간당노임산출계수(해상장비:버켓준설선)
A24: QLINC1 | B24: 숫자 | C24: 1 | D24: 노임할증계수(일반구간:주간)
A25: QLINC2 | B25: 숫자 | C25: 1.5 | D25: 노임할증계수(일반구간:야간)
A26: QLINC3 | B26: 숫자 | C26: 1.16 | D26: 노임할증계수(일반구간:주야간)
A27: QLINCA | B27: 숫자 | C27: 1.6 | D27: 노임할증계수(터널구간:주간)
A28: QLINCB | B28: 숫자 | C28: 1.6 | D28: 노임할증계수(터널구간:야간)
A29: QLINCC | B29: 숫자 | C29: 1.6 | D29: 노임할증계수(터널구간:주야간)
A30: QLINCD | B30: 숫자 | C30: 1.94 | D30: 노임할증계수(장대터널:주간)
A31: QLINCE | B31: 숫자 | C31: 1.94 | D31: 노임할증계수(장대터널:야간)
A32: QLINCF | B32: 숫자 | C32: 1.94 | D32: 노임할증계수(장대터널:주야간)
A33: QLINCX | B33: 숫자 | C33: 1 | D33: 노임할증계수(해상장비:주간)
A34: QLINCY | B34: 숫자 | C34: 1 | D34: 노임할증계수(해상장비:야간)
A35: QLINCZ | B35: 숫자 | C35: 1 | D35: 노임할증계수(해상장비:주야간)
A36: QDECPLA | B36: 문자 | C36: 0 | D36: 노임단가소숫점
A37: QDECCLA | B37: 문자 | C37: 0 | D37: 노임금액소숫점
A38: QDECLA | B38: 문자 | C38: 0 | D38: 노임계금액소숫점
A39: QMINC2 | B39: 숫자 | C39: 1.11 | D39: 재료비할증계수(야간)
A40: QMINC3 | B40: 숫자 | C40: 1.12 | D40: 재료비할증계수(주야간)
A41: QDECPMA | B41: 문자 | C41: 2 | D41: 재료비단가소숫점
A42: QDECCMA | B42: 문자 | C42: 2 | D42: 재료비금액소숫점
A43: QDECMA | B43: 문자 | C43: 2 | D43: 재료비계금액소숫점
A44: QVER | B44: 문자 | C44: 0
A45: QSABUN | B45: 문자
A46: QDATE | B46: 문자
A47: QUS2WON2 | B47: 숫자 | C47: 1180 | D47: 환율(사용자 환율1)
A48: QUS2WON3 | B48: 숫자 | C48: 1180 | D48: 환율(사용자 환율2)
A49: QOPtimeDecCnt | B49: 문자 | C49: 7
A50: QOPtimeDecOp | B50: 문자 | C50: 0

Sheet Sheet3
