Workbook

Sheet 설계설명서
A1: 1. 사업명
B2: - | C2: 동편마을 해오름길 경관개선 공사
A4: 2. 사업의 목적
B5: - | C5: 노후화된 시설정비와 환경개선으로 시민들에게 쾌적한 휴식을 줄 수 있는 공간 제공
A7: 3. 사업의 위치 및 범위
B8: 1) | C8: 위치: 경기도 안양시 동안구 동편로 일대(동편마을 해오름길)
B9: 2) | C9: 사업년도 : 2024년
A11: 4. 공 사 기 간
B12: 본 공사는 착공일로부터 90일로 한다.
A14: 5. 설계변경조건
B15: 1) | C15: 본 공사는 설계당시 수집된 자료에 의하여 설계한 것인바 조사가 불가능한 부분 및 조사후 변경된 사항에 대해서는 시공시 실정에 맞추어 변경
B16: 2) | C16: 골재원 및 토취장의 위치 및 운반거리등이 변경될 경우
B17: 3) | C17: 연평균 강우일보다 많은 강우일로 인하여 공사진행에 현저한 지장을 주거나 관급자재의 공급지연으로 공사에 지장을 주었다고 인정될 경우에는 상당하는
C18: 기일 만큼 연기 할 수 있다
B19: 4) | C19: 공법이 변경될 경우
B20: 5) | C20: 천재지변으로 인하여 설계변경이 불가피한 경우
B21: 6) | C21: 본 공사 시공중 관의 형편상 설계변경이 불가피한 경우

Sheet 예정공정표
A2: 예 정 공 정 표
A4: ■ 공사명 : | B4: 동편마을 해오름길 경관개선 공사
A5: 공 종 | B5: 공종율 | C5: 공 사 기 간 (90일) | L5: 비 고
C6: 10 | D6: 20 | E6: 30 | F6: 40 | G6: 50 | H6: 60 | I6: 70 | J6: 80 | K6: 90
A7: 공사준비 | B7: 0.1
A8: 철거공 | B8: 0.2
A9: 식재공 | B9: 0.3
A10: 시설물공 | B10: 0.3
A11: 공사정리 | B11: 0.1
A12: 계 | B12: =SUM(B7:B11) -> 1

Sheet 원가계산서
A1: 공 사 비 원 가 계 산 서
A2: 동편마을 해오름길 경관개선 공사 | J2: (공사기간 : 90일)
A3: 비목 | C3: 구분 | E3: 산출근거 | I3: 금 액 | J3: 비고
B4: 재료비 | C4: A1 | D4: 직접재료비
C5: A2 | D5: 간접재료비
C6: A | D6: 소계 | J6: (A1+A2)
B7: 노무비 | C7: B1 | D7: 직접노무비
C8: B2 | D8: 간접노무비 | F8: * | G8: 14.3 | H8: % | J8: (B1)*14.3% | N8: =[1]내역서!F7 -> 17515295
C9: B | D9: 소계 | J9: (B1+B2)
B10: 경비 | C10: C1 | D10: 직접경비 | N10: =[1]내역서!L6 -> 10303037
C11: C | D11: 소계 | J11: (C1)
C12: D1 | D12: 산재보험료 | F12: * | G12: 3.56 | H12: % | J12: (B)*3.56% | N12: =[1]내역서!F8 -> 4983995
C13: D2 | D13: 산업안전보건관리비(반영) | E13: 재료+직노 | F13: * | G13: =1.85*1.2 -> 2.22 | H13: % | I13: 2769381 | J13: (A+B1)*1.85*1.2 | N13: =[1]내역서!F15 -> 4094994
D14: 산업안전보건관리비(미반영) | E14: 재료+직노+도급자관급 | F14: * | G14: 1.85 | H14: % | J14: (A+B1+N)*1.85 | N14: =[1]내역서!F14 -> 5936676
C15: D3 | D15: 고용보험료 | F15: * | G15: 1.01 | H15: % | J15: (B)*1.01% | L15: =E15*G15/100 -> 0
C16: D4 | D16: 기타경비 | F16: * | G16: 5.5 | H16: % | J16: (A+B)*5.5% | L16: =E16*G16/100 -> 0
C17: D5 | D17: 환경보전비 | F17: * | G17: 0.3 | H17: % | J17: (A1+B1+C)*0.3%
C18: D6 | D18: 건강보험료 | E18: 직접노무비 | F18: * | G18: 3.545 | H18: % | I18: 2769262 | J18: (B1)*3.545%
C19: D7 | D19: 연금보험료 | E19: 직접노무비 | F19: * | G19: 4.5 | H19: % | I19: 3515283 | J19: (B1)*4.5%
C20: D8 | D20: 노인장기요양보험료 | E20: 건강보험료 | F20: * | G20: 12.95 | H20: % | I20: 358619 | J20: (D7)*12.95%
C21: D9 | D21: 건설기계대여대금지급보증서발급비 | F21: * | G21: 0.18 | H21: % | J21: (A1+B1+C)*0.18%
C22: D10 | D22: 건설하도급대급지급보증서발급수수료 | F22: * | G22: 0.081 | H22: % | J22: (A1+B1+C)*0.081%
C23: D11 | D23: 퇴직공제부금 | E23: 직접노무비 | F23: * | G23: 2.3 | H23: % | I23: 1796700
C24: D | D24: 소 계 | J24: (D1+D2+~+D10+D12)
A25: E. 합 계 | J25: (A+B+C+D) | L25: =#REF!+#REF!+#REF! -> #REF!
A26: F. 일반관리비 | F26: * | G26: 6 | H26: % | J26: (E)*6.0% | L26: =#REF!*4.7% -> #REF!
A27: G. 이 윤 | F27: * | G27: 15 | H27: % | J27: (B+C+D+F)*15.0%이내 | L27: =E27*G27% -> 0
A28: H.총원가 | J28: (E+F+G)
A29: L. 공급가액 | J29: (H+K)
A30: M. 부가가치세 | F30: * | G30: 10 | H30: % | J30: (L)*10.0% | L30: =#REF!+#REF! -> #REF!
A31: N. 도급공사비 | J31: (L+M)
A32: O. 관급자 관급자재대
A33: P. 도급자 관급자재대
A34: Q. 총공사비 | J34: (N+O+P)

Sheet 내역서
A1: 내역서
A2: 공 종 명 | B2: 규 격 | C2: 수량 | D2: 단위 | E2: 합 계 | G2: 재 료 비 | I2: 노 무 비 | K2: 경 비 | M2: 비 고
E3: 단 가 | F3: 금 액 | G3: 단 가 | H3: 금 액 | I3: 단 가 | J3: 금 액 | K3: 단 가 | L3: 금 액 | S3: 할 증 | T3: 화폐변환 | U3: OP값 | V3: EQ | W3: LA | X3: MA | Y3: 금액계상
A4: ■ 동편마을 해오름길 경관개선 공사 | C4: 1 | D4: 식 | O4: A0001
A5: a. 순공사비 | C5: 1 | D5: 식 | P5: 10 | R5: A001 | AA5: MA+ = | AB5: =내역서!H5 -> 0 | AC5: MA = | AD5: =$AB5 -> 0 | BI5: =HYPERLINK("#내역서!A31","A001 →") -> A001 →
A6: 직 접 공 사 비 | C6: 1 | D6: 식 | P6: 20 | Q6: * | R6: F | X6: MA = MA(1, -1,10) _x000D_ LA = LA(1, -1,10) _x000D_ EQ = EQ(1, -1,10) _x000D_ | AA6: LA+ = | AB6: =내역서!J6*14.3/100 -> 0 | AC6: LA = | AD6: =$AB6 -> 0
A7: 간 접 노 무 비 | B7: 직접노무비의 14.3% | C7: 1 | D7: 식 | N7: ZZA000200000 | P7: 30 | R7: F-FUZZA000200000 | X7: LA = LA(20) * 14.3/100_x000D_ | AA7: EQ+ = | AB7: =(내역서!J6+내역서!J7)*3.56/100 -> 0 | AC7: EQ = | AD7: =$AB7 -> 0
A8: 산 재 보 험 료 | B8: 노무비의 3.56% | C8: 1 | D8: 식 | N8: ZZB110100000 | P8: 40 | R8: F-FUZZB110100000 | X8: EQ = ( LA(20) + LA(30) ) * 3.56/100_x000D_ | AA8: EQ+ = | AB8: =(내역서!J6+내역서!J7)*1.01/100 -> 0 | AC8: EQ = | AD8: =$AB8 -> 0
A9: 고 용 보 험 료 | B9: 노무비의 1.01% | C9: 1 | D9: 식 | N9: ZZB120100000 | P9: 50 | R9: F-FUZZB120100000 | X9: EQ = ( LA(20) + LA(30) ) * 1.01/100_x000D_ | AA9: EQ+ = | AB9: =내역서!J6*3.545/100 -> 0 | AC9: EQ = | AD9: =$AB9 -> 0
A10: 건 강 보 험 료 | B10: 직접노무비의 3.545% | C10: 1 | D10: 식 | N10: ZZB130100000 | P10: 60 | R10: F-FUZZB130100000 | X10: EQ = LA(20) * 3.545/100_x000D_ | AA10: EQ+ = | AB10: =내역서!L10*12.95/100 -> 0 | AC10: EQ = | AD10: =$AB10 -> 0
A11: 노인장기요양보험료 | B11: 건강보험료의 12.95% | C11: 1 | D11: 식 | N11: ZZB130200000 | P11: 70 | R11: F-FUZZB130200000 | X11: EQ = EQ(60) * 12.95/100_x000D_ | AA11: EQ+ = | AB11: =내역서!J6*4.5/100 -> 0 | AC11: EQ = | AD11: =$AB11 -> 0
A12: 연 금 보 험 료 | B12: 직접노무비의 4.5% | C12: 1 | D12: 식 | N12: ZZB140100000 | P12: 80 | R12: F-FUZZB140100000 | X12: EQ = LA(20) * 4.5/100_x000D_ | AA12: EQ+ = | AB12: =내역서!J6*2.3/100 -> 0 | AC12: EQ = | AD12: =$AB12 -> 0
A13: 퇴 직 공 제 부 금 | B13: 직접노무비의 2.3% | C13: 1 | D13: 식 | N13: ZZB200100000 | P13: 90 | R13: F-FUZZB200100000 | X13: EQ = LA(20) * 2.3/100_x000D_ | AA13: EQ+ = | AB13: =(내역서!H6+내역서!J6+(0/1.1))*1.85/100 -> 0 | AC13: EQ = | AD13: =$AB13 -> 0
A14: 산업안전보건관리비 | B14: (재료+직노+도급자관급)*1.85 | C14: 1 | D14: 식 | N14: ZZB300100000 | P14: 100 | Q14: * | R14: F-FUZZB300100000 | X14: EQ = ( MA(20) + LA(20) + (ma(230)/1.1)) * 1.85/100_x000D_ | AA14: EQ+ = | AB14: =(내역서!H6+내역서!J6)*1.85/100*1.2 -> 0 | AC14: EQ = | AD14: =$AB14 -> 0
B15: (재료+직노)*1.85*1.2 | C15: 1 | D15: 식 | P15: 110 | R15: F-FUZZB300100001 | X15: EQ = ( MA(20) + LA(20) ) * 1.85/100 * 1.2_x000D_ | AA15: EQ+ = | AB15: =(내역서!H6+내역서!J6+내역서!J7)*5.5/100 -> 0 | AC15: EQ = | AD15: =$AB15 -> 0
A16: 기 타 경 비 | B16: 재료비,노무비의 5.5% | C16: 1 | D16: 식 | N16: ZZB400100000 | P16: 120 | R16: F-FUZZB400100000 | X16: EQ = ( MA(20) + LA(20) + LA(30) ) * 5.5/100_x000D_ | AA16: EQ+ = | AB16: =(내역서!H6+내역서!J6+내역서!L6)*0.3/100 -> 0 | AC16: EQ = | AD16: =$AB16 -> 0
A17: 환 경 보 전 비 | B17: 직접재료비,직접노무비,경비의 0.3% | C17: 1 | D17: 식 | N17: ZZB700100000 | P17: 130 | R17: F-FUZZB700100000 | X17: EQ = ( MA(20) + LA(20) + EQ(20) ) * 0.3/100_x000D_ | AA17: EQ+ = | AB17: =(내역서!H6+내역서!J6+내역서!L6)*0.18/100 -> 0 | AC17: EQ = | AD17: =$AB17 -> 0
A18: 건설기계대여대금지급보증서발급금액 | B18: 직접재료비,직접노무비,경비의 0.18% | C18: 1 | D18: 식 | N18: ZZB800100000 | P18: 140 | R18: F-FUZZB800100000 | X18: EQ = ( MA(20) + LA(20) + EQ(20) ) * 0.18/100_x000D_ | AA18: EQ+ = | AB18: =(내역서!H6+내역서!J6+내역서!L6)*0.081/100 -> 0 | AC18: EQ = | AD18: =$AB18 -> 0
A19: 건설하도급대급지급보증서발급수수료 | B19: 직접재료비,직접노무비,경비의 0.081% | C19: 1 | D19: 식 | P19: 145 | R19: F | X19: EQ = ( MA(20) + LA(20) + EQ(20) ) * 0.081/100 | AA19: EQ+ = | AB19: =(내역서!H6+내역서!J6+내역서!J7+내역서!L6+내역서!L8+내역서!L9+내역서!L10+내역서!L11+내역서!L12+내역서!L13+내역서!L15+내역서!L16+내역서!L17+내역서!L18+내역서!L19)*6/100 -> 0 | AC19: EQ = | AD19: =$AB19 -> 0
A20: 일 반 관 리 비 | B20: 순공사원가의 6% | C20: 1 | D20: 식 | N20: ZZC000100000 | P20: 150 | R20: F-FUZZC000100000 | X20: EQ = ( MA(20) + LA(20) + LA(30) + EQ(20) + EQ(40) + EQ(50) + EQ(60) + EQ(70) + EQ(80) + EQ(90) + EQ(110) + EQ(120) + EQ(130) + EQ(140) + EQ(145) ) * 6/100_x000D_ | AA20: EQ+ = | AB20: =(내역서!J6+내역서!J7+내역서!L6+내역서!L8+내역서!L9+내역서!L10+내역서!L11+내역서!L12+내역서!L13+내역서!L15+내역서!L16+내역서!L17+내역서!L18+내역서!L19+내역서!L20)*11/100-(407498/1.1)-(23199/1.1) -> -391542.73 | AC20: EQ = | AD20: =$AB20 -> -391542.73
A21: 이 윤 | B21: 노무비,경비,일반관리비의 15% | C21: 1 | D21: 식 | N21: ZZD000100000 | P21: 160 | R21: F-FUZZD000100000 | X21: EQ = ( LA(20) + LA(30) + EQ(20) + EQ(40) + EQ(50) + EQ(60) + EQ(70) + EQ(80) + EQ(90) + EQ(110) + EQ(120) + EQ(130) + EQ(140) + EQ(145) + EQ(150) ) * 11/100 - (407498/1.1) -(23199/1.1)_x000D_ | AA21: EQ+ = | AB21: =내역서!H6+내역서!J6+내역서!J7+내역서!L6+내역서!L8+내역서!L9+내역서!L10+내역서!L11+내역서!L12+내역서!L13+내역서!L15+내역서!L16+내역서!L17+내역서!L18+내역서!L19+내역서!L20+내역서!L21 -> 0 | AC21: EQ = | AD21: =$AB21 -> 0
A22: 총 원 가 | C22: 1 | D22: 식 | N22: * | P22: 170 | Q22: * | R22: F-FU* | X22: EQ = MA(20) + LA(20) + LA(30) + EQ(20) + EQ(40) + EQ(50) + EQ(60) + EQ(70) + EQ(80) + EQ(90) + EQ(110) + EQ(120) + EQ(130) + EQ(140)+ EQ(145) + EQ(150) + EQ(160)_x000D_ | AA22: EQ+ = | AB22: =(내역서!H22+내역서!J22+내역서!L22) -> 0 | AC22: EQ = | AD22: =$AB22 -> 0
A23: 공 급 가 액 | C23: 1 | D23: 식 | P23: 190 | Q23: * | R23: F | X23: eq=tot(170)_x000D_ | AA23: EQ+ = | AB23: =내역서!L23*10/100 -> 0 | AC23: EQ = | AD23: =$AB23 -> 0
A24: 부 가 가 치 세 | B24: 총원가의 10% | C24: 1 | D24: 식 | N24: ZZF000100000 | P24: 200 | R24: F-FUZZF000100000 | X24: EQ = EQ(190) * 10/100_x000D_ | AA24: EQ+ = | AB24: =(내역서!H23+내역서!J23+내역서!L23)+(내역서!H24+내역서!J24+내역서!L24) -> 0 | AC24: EQ = | AD24: =$AB24 -> 0
A25: 도 급 공 사 비 | C25: 1 | D25: 식 | P25: 210 | Q25: * | R25: F | X25: eq=tot(190)+tot(200)_x000D_
A26: 관급자관급자재대 | C26: 1 | D26: 식 | P26: 220 | R26: A21 | BI26: =HYPERLINK("#내역서!A108","A21 →") -> A21 →
A27: 도급자관급자재대 | C27: 1 | D27: 식 | P27: 230 | R27: A22 | AA27: EQ+ = | AB27: =(내역서!H25+내역서!J25+내역서!L25)+(내역서!H26+내역서!J26+내역서!L26)+(내역서!H27+내역서!J27+내역서!L27) -> 0 | AC27: EQ = | AD27: =$AB27 -> 0 | BI27: =HYPERLINK("#내역서!A119","A22 →") -> A22 →
A28: 총 공 사 비 | C28: 1 | D28: 식 | N28: * | P28: 240 | Q28: * | R28: F-FU* | X28: EQ = tot(210) + tot(220) + tot(230)_x000D_
A29: a. 순공사비 | C29: 1 | D29: 식 | O29: A001
A30: A-1. 철거공 | C30: 1 | D30: 식 | P30: 10 | R30: A02 | BI30: =HYPERLINK("#내역서!A39","A02 →") -> A02 →
A31: A-2. 식재공 | C31: 1 | D31: 식 | P31: 20 | R31: A04 | BI31: =HYPERLINK("#내역서!A45","A04 →") -> A04 →
A32: A-3. 시설공 | C32: 1 | D32: 식 | P32: 30 | R32: A06 | BI32: =HYPERLINK("#내역서!A79","A06 →") -> A06 →
A33: A-4. 포장공 | C33: 1 | D33: 식 | P33: 40 | R33: A07 | BI33: =HYPERLINK("#내역서!A97","A07 →") -> A07 →
A34: A-6. 기타 | C34: 1 | D34: 식 | P34: 45 | R34: A08 | BI34: =HYPERLINK("#내역서!A106","A08 →") -> A08 →
P52: 50 | Q52: *
P53: 60 | Q53: S
A54: A-1. 철거공 | C54: 1 | D54: 식 | O54: A02
A55: 수목제거 | B55: B12 | C55: 4 | D55: 주 | M55: No.28 | P55: 30 | R55: ZARB0005 | T55: T | BI55: =HYPERLINK("#일위대가목록!A41","ZARB0005 →") -> ZARB0005 →
A56: 벌개제근 | C56: 26 | D56: ㎡ | M56: #.11 | P56: 45 | R56: ZARB0008 | T56: F | BI56: =HYPERLINK("#일위대가목록!A13","ZARB0008 →") -> ZARB0008 →
A57: 흙콘크리트포장철거 | C57: 620 | D57: ㎡ | M57: No.30 | P57: 60 | R57: ZARB0060 | T57: T | BI57: =HYPERLINK("#일위대가목록!A43","ZARB0060 →") -> ZARB0060 →
...

Sheet 경비
A1: 경비
A2: 명 칭 | B2: 규 격 | C2: 단 위 | D2: 재 료 비 | E2: 노 무 비 | F2: 경 비 | G2: 합 계 | H2: 비 고

Sheet 자재
A1: 자재
A2: 명 칭 | B2: 규 격 | C2: 단 위 | D2: 단 가 | E2: 비 고
A3: 열연강판 | B3: T6 | C3: ton | D3: =#REF! -> #REF! | E3: 물정// | G3: M-BB-0040
A4: 아연도각관 | B4: 100x100x2.3T | C4: m | D4: =#REF! -> #REF! | E4: 거가/71/ | G4: M-BB-0060
A5: 아연도각관 | B5: 50x50x2.3T | C5: m | D5: =#REF! -> #REF! | E5: 거가/71/ | G5: M-BB-0080
A6: 셋트앙카 | B6: M12xL100,스테인리스 | C6: ea | D6: =#REF! -> #REF! | E6: 거가/95/ | G6: M-BB-0090
A7: 셋트앙카 | B7: M8xL65,스테인리스 | C7: ea | D7: =#REF! -> #REF! | E7: 물자/52/ | G7: M-BB-0095
A8: ㄱ형강 | B8: 30x30 | C8: kg | D8: =#REF! -> #REF! | E8: 물자/7/ | G8: M-BB-0100
A9: ㄱ형강 | B9: 40x40x5T | C9: kg | D9: =#REF! -> #REF! | E9: 물자/7/ | G9: M-BB-0105
A10: 아연도각관 | B10: 30x30x1.6T | C10: m | D10: =#REF! -> #REF! | E10: 물자/26/ | G10: M-BB-0110
A11: 아연도각관 | B11: 40x40x1.6T | C11: m | D11: =#REF! -> #REF! | E11: 물자/26/ | G11: M-BB-0120
A12: 휘발유 | C12: ℓ | D12: =#REF! -> #REF! | E12: 가정/24.04.16/ | G12: M-BS-001
A13: 오일 | C13: ℓ | D13: =#REF! -> #REF! | E13: 거가/1453/ | G13: M-BS-002
A14: 방청도료 | C14: ℓ | D14: =#REF! -> #REF! | E14: 거가/620/ | G14: M-BS-003
A15: 시너 | C15: ℓ | D15: =#REF! -> #REF! | E15: 거가/621/ | G15: M-BS-004
A16: 유성페인트 | C16: ℓ | D16: =#REF! -> #REF! | E16: 물자/591/ | G16: M-BS-005
A17: 우수관 | B17: Φ100 | C17: m | D17: =#REF! -> #REF! | E17: 물자/758/ | G17: M-BS-120
A18: 이형철근 | B18: D13 | C18: ton | D18: =#REF! -> #REF! | E18: 물자/2/ | G18: M-BS-140
A19: 결속선 | B19: #20(0.9 m/m) | C19: KG | D19: =#REF! -> #REF! | E19: 물정/1-67/ | G19: M0147012 | H19: M0147012
A20: 각 재 | B20: 외송 | C20: ㎥ | D20: =#REF! -> #REF! | E20: 거가/149/ | G20: M0882503 | H20: M0882503
A21: 내수합판 | B21: 12×1220×2440㎜ (1급T-I) | C21: ㎡ | D21: =#REF! -> #REF! | E21: 거가/671/물자1 P681 | G21: M4332041 | H21: M4332041
A22: 오일스테인 (페인트) | B22: 1종2급 황색 18ℓ=25㎏ | C22: ㎏ | D22: =#REF! -> #REF! | E22: 거가/626/ | G22: MA-PA-OS12H
A23: 퍼티 | B23: 외부용 18ℓ=25㎏ | C23: ㎏ | D23: =#REF! -> #REF! | E23: 거가/621/ | G23: MA-PA-PT-O
A24: 서양측백 | B24: H1.5xW0.5 | C24: 주 | D24: =#REF! -> #REF! | E24: 견단/가격정보/ | G24: MPLA0010
A25: 블루앤젤 | B25: H1.5 | C25: 주 | D25: =#REF! -> #REF! | E25: 견단/가격정보/ | G25: MPLA0020
A26: 왕벚나무 | B26: H4.0xB12 | C26: 주 | D26: =#REF! -> #REF! | E26: 견단/가격정보/ | G26: MPLA0030
A27: 노랑말채나무 | B27: H1.0xW0.3 | C27: 주 | D27: =#REF! -> #REF! | E27: 견단/가격정보/ | G27: MPLA0042
A28: 수국(바닐라프레이즈) | B28: 7치포트x21cm | C28: 포트 | D28: =#REF! -> #REF! | E28: 가정/24531177/ | G28: MPLA0060
A29: 수국(엔드레셔썸머) | B29: 6치포트x18cm | C29: 포트 | D29: =#REF! -> #REF! | E29: 가정/25161686/ | G29: MPLA0070
A30: 수국(올썸머뷰티) | B30: 7치포트x21cm | C30: 포트 | D30: =#REF! -> #REF! | E30: 가정/24531152/ | G30: MPLA0080
A31: 수국(핑크아나벨) | B31: 7치포트x21cm | C31: 포트 | D31: =#REF! -> #REF! | E31: 가정/25161702/ | G31: MPLA0090
A32: 수국(핑크앤로즈) | B32: 6치포트x18cm | C32: 포트 | D32: =#REF! -> #REF! | E32: 가정/25161642/ | G32: MPLA0100
A33: 회양목 | B33: H0.3xW0.3 | C33: 주 | D33: =#REF! -> #REF! | E33: 견단/가격정보/ | G33: MPLA0111
... A51: 디딤석 | B51: 400x900x50 | C51: ㎡ | D51: =#REF! -> #REF! | E51: 물자/338/ | G51: MPLC0060
A52: 멀칭스톤 | C52: ㎥ | D52: =#REF! -> #REF! | E52: 물자/331/ | G52: MPLC0080
A53: 등의자 | B53: 1600x470x440 | C53: 개소 | D53: =#REF! -> #REF! | E53: 가정/25178902/ | G53: MPLC1010
A54: 데크난간 | B54: 1500x1000 | C54: 경간 | D54: =#REF! -> #REF! | E54: 가정/25438592/ | G54: MPLC1020
A55: 개비온앉음벽 | B55: 2000x450x550 | C55: 개소 | D55: =#REF! -> #REF! | E55: 가정/24470828(벤? | G55: MPLC1040
A56: 개비온가벽 | B56: D300 | C56: ㎡ | D56: =#REF! -> #REF! | E56: 가정/25286459(벤? | G56: MPLC1050
A57: 채움석 | C57: ㎥ | D57: =#REF! -> #REF! | E57: 가정/(벤처)/ | G57: MPLC1055
...

Sheet 전역변수
A1: 전역변수
A2: 변 수 명 | B2: 형 식 | C2: 값 | D2: 비 고 | E2: 적용단위
A3: A | B3: 숫자 | C3: 75 | D3: 어스앵커 공수
A4: A11 | B4: 숫자 | C4: 50 | D4: 야간기본노임 | E4: %
A5: A21 | B5: 숫자 | C5: 20 | D5: 작업능률저하 | E5: %
A6: A31 | B6: 숫자 | C6: 0 | D6: 8시간,휴전할증 | E6: %
A7: A33 | B7: 숫자 | C7: 30 | D7: 3시간,휴전할증 | E7: %
A8: BS01 | B8: 숫자 | C8: 59 | D8: 병렬터널할증 | E8: %
A9: BS02 | B9: 숫자 | C9: 100 | D9: 병렬터널 할증 (일방향) | E9: %
A10: BTR | B10: 숫자 | C10: 100 | D10: 하반할증 | E10: %
A11: CPI | B11: 숫자 | C11: 4.99 | D11: 소비자물가변동율 | E11: %
A12: GB01 | B12: 숫자 | C12: 74 | D12: 볼트손율(24개월조임철물적용) | E12: %
A13: GBO2 | B13: 숫자 | C13: 56 | D13: 잭손율(24개월받침철물적용) | E13: %
A14: HPN3 | B14: 숫자 | C14: 8.03 | D14: H-형강손료 | E14: %
A15: JANG_D | B15: 숫자 | C15: 80.2 | D15: 동시굴착 범위 (복선) | E15: %
... A20: PHH1 | B20: 숫자 | C20: 1 | D20: 로드헤드운전원 | E20: 인
A21: R | B21: 숫자 | C21: 1.0386 | D21: 장대터널할증
A22: SPN3 | B22: 숫자 | C22: 9.51 | D22: S-파일손료 | E22: %
A23: TBL2 | B23: 숫자 | C23: 100 | D23: 2Arch터널노임(일방향) | E23: %
A24: ZT00010 | B24: 숫자 | C24: 100 | D24: 낙찰율 | E24: %
A25: ZT605010 | B25: 숫자 | C25: 65 | D25: 본선터널 병렬터널 할증 | E25: %
A26: ZT605020 | B26: 숫자 | C26: 100 | D26: 램프터널 병렬터널 항증 | E26: %

Sheet 중기전역변수
A1: 중기전역변수
A2: 변 수 명 | B2: 형 식 | C2: 값 | D2: 비 고
A3: QCODE | B3: 문자 | C3: 100000000001
A4: QUS2WON | B4: 숫자 | C4: 1180 | D4: 환율(장비가격10만불이하)
A5: QUS2WON1 | B5: 숫자 | C5: 1180 | D5: 환율(장비가격10만불이상)
A6: QYEN2WON | B6: 숫자 | C6: 13.2 | D6: 환율(엔화)
A7: QDM2WON | B7: 숫자 | C7: 724.05 | D7: 환율(마르크화)
A8: QSDR2WON | B8: 숫자 | C8: 1000 | D8: 환율(IMF특별인출권)
A9: QECU2WON | B9: 숫자 | C9: 1580 | D9: 환율(유로화)
A10: QEQTY1 | B10: 문자 | C10: (SANG + JUNG + KWAN)*10^-4 | D10: 중기주간경비산출계수
A11: QEQTY2 | B11: 문자 | C11: (SANG + JUNG + KWAN)*10^-4 | D11: 중기야간경비산출계수
A12: QEQTY3 | B12: 문자 | C12: (SANG + JUNG + int(KWAN/3))*10^-4 | D12: 중기주야간경비산출계수
A13: QEINC2 | B13: 숫자 | C13: 1.25 | D13: 중기야간할증계수
A14: QEINC3 | B14: 숫자 | C14: 1.071 | D14: 중기주야간할증계수
A15: QDECPEQ | B15: 문자 | C15: 0 | D15: 경비단가소숫점
A16: QDECCEQ | B16: 문자 | C16: 0 | D16: 경비금액소숫점
A17: QDECEQ | B17: 문자 | C17: 0 | D17: 경비계금액소숫점
A18: QH1 | B18: 문자 | C18: =25/20 * 16/12 * 1/8 -> 0.20833333 | D18: 시간당노임산출계수(일반구간)
A19: QH2 | B19: 문자 | C19: =25/20 * 16/12 * 1/8 -> 0.20833333 | D19: 시간당노임산출계수(터널구간)
A20: QH21 | B20: 문자 | C20: =25/20 * 16/12 * 1/8 -> 0.20833333 | D20: 시간당노임산출계수(장대터널)
A21: QH31 | B21: 문자 | C21: =25/20 * 16/12 * 1/8 -> 0.20833333 | D21: 시간당노임산출계수(해상장비:펌프준설선)
A22: QH32 | B22: 문자 | C22: =25/20 * 16/12 * 1/8 -> 0.20833333 | D22: 시간당노임산출계수(해상장비:GRAB준설선)
A23: QH33 | B23: 문자 | C23: =25/20 * 16/12 * 1/8 -> 0.20833333 | D23: 시간당노임산출계수(해상장비:버켓준설선)
A24: QLINC1 | B24: 숫자 | C24: 1 | D24: 노임할증계수(일반구간:주간)
A25: QLINC2 | B25: 숫자 | C25: 1.5 | D25: 노임할증계수(일반구간:야간)
A26: QLINC3 | B26: 숫자 | C26: 1.16 | D26: 노임할증계수(일반구간:주야간)
A27: QLINCA | B27: 숫자 | C27: 1.6 | D27: 노임할증계수(터널구간:주간)
A28: QLINCB | B28: 숫자 | C28: 1.6 | D28: 노임할증계수(터널구간:야간)
A29: QLINCC | B29: 숫자 | C29: 1.6 | D29: 노임할증계수(터널구간:주야간)
A30: QLINCD | B30: 숫자 | C30: 1.94 | D30: 노임할증계수(장대터널:주간)
A31: QLINCE | B31: 숫자 | C31: 1.94 | D31: 노임할증계수(장대터널:야간)
A32: QLINCF | B32: 숫자 | C32: 1.94 | D32: 노임할증계수(장대터널:주야간)
A33: QLINCX | B33: 숫자 | C33: 1 | D33: 노임할증계수(해상장비:주간)
A34: QLINCY | B34: 숫자 | C34: 1 | D34: 노임할증계수(해상장비:야간)
A35: QLINCZ | B35: 숫자 | C35: 1 | D35: 노임할증계수(해상장비:주야간)
A36: QDECPLA | B36: 문자 | C36: 0 | D36: 노임단가소숫점
A37: QDECCLA | B37: 문자 | C37: 0 | D37: 노임금액소숫점
A38: QDECLA | B38: 문자 | C38: 0 | D38: 노임계금액소숫점
A39: QMINC2 | B39: 숫자 | C39: 1.11 | D39: 재료비할증계수(야간)
A40: QMINC3 | B40: 숫자 | C40: 1.12 | D40: 재료비할증계수(주야간)
...

Sheet Sheet3
